BEGIN:VCALENDAR
VERSION:2.0
PRODID:-//Live Music Kelowna - ECPv6.15.20//NONSGML v1.0//EN
CALSCALE:GREGORIAN
METHOD:PUBLISH
X-ORIGINAL-URL:https://livemusickelowna.ca
X-WR-CALDESC:Events for Live Music Kelowna
REFRESH-INTERVAL;VALUE=DURATION:PT1H
X-Robots-Tag:noindex
X-PUBLISHED-TTL:PT1H
BEGIN:VTIMEZONE
TZID:America/Vancouver
BEGIN:DAYLIGHT
TZOFFSETFROM:-0800
TZOFFSETTO:-0700
TZNAME:PDT
DTSTART:20250309T100000
END:DAYLIGHT
BEGIN:STANDARD
TZOFFSETFROM:-0700
TZOFFSETTO:-0800
TZNAME:PST
DTSTART:20251102T090000
END:STANDARD
BEGIN:DAYLIGHT
TZOFFSETFROM:-0800
TZOFFSETTO:-0700
TZNAME:PDT
DTSTART:20260308T100000
END:DAYLIGHT
BEGIN:STANDARD
TZOFFSETFROM:-0700
TZOFFSETTO:-0800
TZNAME:PST
DTSTART:20261101T090000
END:STANDARD
BEGIN:DAYLIGHT
TZOFFSETFROM:-0800
TZOFFSETTO:-0700
TZNAME:PDT
DTSTART:20270314T100000
END:DAYLIGHT
BEGIN:STANDARD
TZOFFSETFROM:-0700
TZOFFSETTO:-0800
TZNAME:PST
DTSTART:20271107T090000
END:STANDARD
END:VTIMEZONE
BEGIN:VEVENT
DTSTART;TZID=America/Vancouver:20260325T190000
DTEND;TZID=America/Vancouver:20260325T213000
DTSTAMP:20260420T105231
CREATED:20260323T161403Z
LAST-MODIFIED:20260323T161403Z
UID:10026555-1774465200-1774474200@livemusickelowna.ca
SUMMARY:Under the Amber Lights Featuring Jeff Piatelli
DESCRIPTION:Under the Amber Lights returns to Vice & Virtue Brewing with Jeff Piattelli performing live on March 25. Enjoy an intimate evening of live music paired with dinner\, wine\, and craft beer.
URL:https://livemusickelowna.ca/event/under-the-amber-lights-featuring-jeff-piatelli/
LOCATION:Vice & Virtue Brewing\, 1033 Richter St\, Kelowna\, BC\, Canada
CATEGORIES:Alt-Rock,Guitar
ATTACH;FMTTYPE=image/jpeg:https://livemusickelowna.ca/wp-content/uploads/2026/03/jeff-piatelli-live-at-vice-march-25th_web.jpg
END:VEVENT
END:VCALENDAR