BEGIN:VCALENDAR
VERSION:2.0
PRODID:-//Live Music Kelowna - ECPv6.15.20//NONSGML v1.0//EN
CALSCALE:GREGORIAN
METHOD:PUBLISH
X-WR-CALNAME:Live Music Kelowna
X-ORIGINAL-URL:https://livemusickelowna.ca
X-WR-CALDESC:Events for Live Music Kelowna
REFRESH-INTERVAL;VALUE=DURATION:PT1H
X-Robots-Tag:noindex
X-PUBLISHED-TTL:PT1H
BEGIN:VTIMEZONE
TZID:America/Vancouver
BEGIN:DAYLIGHT
TZOFFSETFROM:-0800
TZOFFSETTO:-0700
TZNAME:PDT
DTSTART:20250309T100000
END:DAYLIGHT
BEGIN:STANDARD
TZOFFSETFROM:-0700
TZOFFSETTO:-0800
TZNAME:PST
DTSTART:20251102T090000
END:STANDARD
BEGIN:DAYLIGHT
TZOFFSETFROM:-0800
TZOFFSETTO:-0700
TZNAME:PDT
DTSTART:20260308T100000
END:DAYLIGHT
BEGIN:STANDARD
TZOFFSETFROM:-0700
TZOFFSETTO:-0800
TZNAME:PST
DTSTART:20261101T090000
END:STANDARD
BEGIN:DAYLIGHT
TZOFFSETFROM:-0800
TZOFFSETTO:-0700
TZNAME:PDT
DTSTART:20270314T100000
END:DAYLIGHT
BEGIN:STANDARD
TZOFFSETFROM:-0700
TZOFFSETTO:-0800
TZNAME:PST
DTSTART:20271107T090000
END:STANDARD
END:VTIMEZONE
BEGIN:VEVENT
DTSTART;TZID=America/Vancouver:20260328T180000
DTEND;TZID=America/Vancouver:20260328T200000
DTSTAMP:20260420T173123
CREATED:20260323T023444Z
LAST-MODIFIED:20260323T023444Z
UID:10026550-1774720800-1774728000@livemusickelowna.ca
SUMMARY:Urban Distilleries: Jazz in the Speakeasy with RoseanaRig
DESCRIPTION:Overview\n\n\nVenture into the Speakeasy space at Urban Distilleries with RoseanaRig for a Jazz night to remember! Glitz\,Glamour with a few Feathers.
URL:https://livemusickelowna.ca/event/urban-distilleries-jazz-in-the-speakeasy-with-roseanarig/
LOCATION:Urban Distilleries\, 327 Bernard Ave\, Kelowna\, BC\, British Columbia\, V1Y 6N6\, Canada
CATEGORIES:Jazz
ATTACH;FMTTYPE=image/webp:https://livemusickelowna.ca/wp-content/uploads/2026/03/image-3.webp
END:VEVENT
BEGIN:VEVENT
DTSTART;TZID=America/Vancouver:20260327T193000
DTEND;TZID=America/Vancouver:20260327T213000
DTSTAMP:20260420T173123
CREATED:20260323T031626Z
LAST-MODIFIED:20260323T031626Z
UID:10026551-1774639800-1774647000@livemusickelowna.ca
SUMMARY:Okanagan Sax – Live Show at Urban Distilleries
DESCRIPTION:@okanagansax – A seasoned male saxophonist is a testament to the captivating power of music\, blending technical prowess with deep emotional expression. Through years of dedication and practice\, he has mastered the intricate nuances of the saxophone\, allowing him to convey a wide range of emotions through its rich\, velvety tones. His performances are marked by a profound connection to his instrument and audience\, effortlessly transitioning from soulful ballads to energetic jazz improvisations. This musician’s experience is evident in his confident stage presence and the subtle complexities of his sound\, making every note a story and every performance a memorable journey for listeners.
URL:https://livemusickelowna.ca/event/okanagan-sax-live-show-at-urban-distilleries-2/
LOCATION:Urban Distilleries\, 327 Bernard Ave\, Kelowna\, BC\, British Columbia\, V1Y 6N6\, Canada
CATEGORIES:Blues,Jazz,Latin
ATTACH;FMTTYPE=image/jpeg:https://livemusickelowna.ca/wp-content/uploads/2026/03/Urban-Distilleries-Promo-Poster.jpg
END:VEVENT
END:VCALENDAR