BEGIN:VCALENDAR
VERSION:2.0
PRODID:-//Live Music Kelowna - ECPv6.15.18//NONSGML v1.0//EN
CALSCALE:GREGORIAN
METHOD:PUBLISH
X-WR-CALNAME:Live Music Kelowna
X-ORIGINAL-URL:https://livemusickelowna.ca
X-WR-CALDESC:Events for Live Music Kelowna
REFRESH-INTERVAL;VALUE=DURATION:PT1H
X-Robots-Tag:noindex
X-PUBLISHED-TTL:PT1H
BEGIN:VTIMEZONE
TZID:America/Vancouver
BEGIN:DAYLIGHT
TZOFFSETFROM:-0800
TZOFFSETTO:-0700
TZNAME:PDT
DTSTART:20260308T100000
END:DAYLIGHT
BEGIN:STANDARD
TZOFFSETFROM:-0700
TZOFFSETTO:-0800
TZNAME:PST
DTSTART:20261101T090000
END:STANDARD
BEGIN:DAYLIGHT
TZOFFSETFROM:-0800
TZOFFSETTO:-0700
TZNAME:PDT
DTSTART:20270314T100000
END:DAYLIGHT
BEGIN:STANDARD
TZOFFSETFROM:-0700
TZOFFSETTO:-0800
TZNAME:PST
DTSTART:20271107T090000
END:STANDARD
BEGIN:DAYLIGHT
TZOFFSETFROM:-0800
TZOFFSETTO:-0700
TZNAME:PDT
DTSTART:20280312T100000
END:DAYLIGHT
BEGIN:STANDARD
TZOFFSETFROM:-0700
TZOFFSETTO:-0800
TZNAME:PST
DTSTART:20281105T090000
END:STANDARD
BEGIN:DAYLIGHT
TZOFFSETFROM:-0800
TZOFFSETTO:-0700
TZNAME:PDT
DTSTART:20290311T100000
END:DAYLIGHT
BEGIN:STANDARD
TZOFFSETFROM:-0700
TZOFFSETTO:-0800
TZNAME:PST
DTSTART:20291104T090000
END:STANDARD
BEGIN:DAYLIGHT
TZOFFSETFROM:-0800
TZOFFSETTO:-0700
TZNAME:PDT
DTSTART:20300310T100000
END:DAYLIGHT
BEGIN:STANDARD
TZOFFSETFROM:-0700
TZOFFSETTO:-0800
TZNAME:PST
DTSTART:20301103T090000
END:STANDARD
END:VTIMEZONE
BEGIN:VEVENT
DTSTART;TZID=America/Vancouver:20270721T190000
DTEND;TZID=America/Vancouver:20270721T220000
DTSTAMP:20260419T144607
CREATED:20260316T181024Z
LAST-MODIFIED:20260316T181024Z
UID:10026485-1816196400-1816207200@livemusickelowna.ca
SUMMARY:Salad Bowl Jam
DESCRIPTION:1st and 3rd Wednesday of every month 7pm – 10pm \nLocation: Unleashed Brewing \nGroove-centric jam: 1st and 3rd Wednesday\nDynamic sign-up\nNO SONGS – JUST JAM! \nAll instruments welcome! \nRules:\n1. Keep it groovy — no songs\, just feel\n2. Jump in — mics open anytime\n3. Uplift — support those who step up
URL:https://livemusickelowna.ca/event/salad-bowl-jam/2027-07-21/
LOCATION:Unleashed Brewing Company\, 880 Clement Ave #207\, Kelowna\, BC\, V1Y 0H8\, Canada
CATEGORIES:Open Mic
ATTACH;FMTTYPE=image/png:https://livemusickelowna.ca/wp-content/uploads/2026/03/Screenshot-2026-03-16-2.06.46-PM.png
END:VEVENT
BEGIN:VEVENT
DTSTART;TZID=America/Vancouver:20270818T190000
DTEND;TZID=America/Vancouver:20270818T220000
DTSTAMP:20260419T144607
CREATED:20260316T181024Z
LAST-MODIFIED:20260316T181024Z
UID:10026486-1818615600-1818626400@livemusickelowna.ca
SUMMARY:Salad Bowl Jam
DESCRIPTION:1st and 3rd Wednesday of every month 7pm – 10pm \nLocation: Unleashed Brewing \nGroove-centric jam: 1st and 3rd Wednesday\nDynamic sign-up\nNO SONGS – JUST JAM! \nAll instruments welcome! \nRules:\n1. Keep it groovy — no songs\, just feel\n2. Jump in — mics open anytime\n3. Uplift — support those who step up
URL:https://livemusickelowna.ca/event/salad-bowl-jam/2027-08-18/
LOCATION:Unleashed Brewing Company\, 880 Clement Ave #207\, Kelowna\, BC\, V1Y 0H8\, Canada
CATEGORIES:Open Mic
ATTACH;FMTTYPE=image/png:https://livemusickelowna.ca/wp-content/uploads/2026/03/Screenshot-2026-03-16-2.06.46-PM.png
END:VEVENT
BEGIN:VEVENT
DTSTART;TZID=America/Vancouver:20270915T190000
DTEND;TZID=America/Vancouver:20270915T220000
DTSTAMP:20260419T144607
CREATED:20260316T181024Z
LAST-MODIFIED:20260316T181024Z
UID:10026487-1821034800-1821045600@livemusickelowna.ca
SUMMARY:Salad Bowl Jam
DESCRIPTION:1st and 3rd Wednesday of every month 7pm – 10pm \nLocation: Unleashed Brewing \nGroove-centric jam: 1st and 3rd Wednesday\nDynamic sign-up\nNO SONGS – JUST JAM! \nAll instruments welcome! \nRules:\n1. Keep it groovy — no songs\, just feel\n2. Jump in — mics open anytime\n3. Uplift — support those who step up
URL:https://livemusickelowna.ca/event/salad-bowl-jam/2027-09-15/
LOCATION:Unleashed Brewing Company\, 880 Clement Ave #207\, Kelowna\, BC\, V1Y 0H8\, Canada
CATEGORIES:Open Mic
ATTACH;FMTTYPE=image/png:https://livemusickelowna.ca/wp-content/uploads/2026/03/Screenshot-2026-03-16-2.06.46-PM.png
END:VEVENT
BEGIN:VEVENT
DTSTART;TZID=America/Vancouver:20271020T190000
DTEND;TZID=America/Vancouver:20271020T220000
DTSTAMP:20260419T144607
CREATED:20260316T181024Z
LAST-MODIFIED:20260316T181024Z
UID:10026488-1824058800-1824069600@livemusickelowna.ca
SUMMARY:Salad Bowl Jam
DESCRIPTION:1st and 3rd Wednesday of every month 7pm – 10pm \nLocation: Unleashed Brewing \nGroove-centric jam: 1st and 3rd Wednesday\nDynamic sign-up\nNO SONGS – JUST JAM! \nAll instruments welcome! \nRules:\n1. Keep it groovy — no songs\, just feel\n2. Jump in — mics open anytime\n3. Uplift — support those who step up
URL:https://livemusickelowna.ca/event/salad-bowl-jam/2027-10-20/
LOCATION:Unleashed Brewing Company\, 880 Clement Ave #207\, Kelowna\, BC\, V1Y 0H8\, Canada
CATEGORIES:Open Mic
ATTACH;FMTTYPE=image/png:https://livemusickelowna.ca/wp-content/uploads/2026/03/Screenshot-2026-03-16-2.06.46-PM.png
END:VEVENT
BEGIN:VEVENT
DTSTART;TZID=America/Vancouver:20271117T190000
DTEND;TZID=America/Vancouver:20271117T220000
DTSTAMP:20260419T144607
CREATED:20260316T181024Z
LAST-MODIFIED:20260316T181024Z
UID:10026489-1826478000-1826488800@livemusickelowna.ca
SUMMARY:Salad Bowl Jam
DESCRIPTION:1st and 3rd Wednesday of every month 7pm – 10pm \nLocation: Unleashed Brewing \nGroove-centric jam: 1st and 3rd Wednesday\nDynamic sign-up\nNO SONGS – JUST JAM! \nAll instruments welcome! \nRules:\n1. Keep it groovy — no songs\, just feel\n2. Jump in — mics open anytime\n3. Uplift — support those who step up
URL:https://livemusickelowna.ca/event/salad-bowl-jam/2027-11-17/
LOCATION:Unleashed Brewing Company\, 880 Clement Ave #207\, Kelowna\, BC\, V1Y 0H8\, Canada
CATEGORIES:Open Mic
ATTACH;FMTTYPE=image/png:https://livemusickelowna.ca/wp-content/uploads/2026/03/Screenshot-2026-03-16-2.06.46-PM.png
END:VEVENT
BEGIN:VEVENT
DTSTART;TZID=America/Vancouver:20271215T190000
DTEND;TZID=America/Vancouver:20271215T220000
DTSTAMP:20260419T144607
CREATED:20260316T181024Z
LAST-MODIFIED:20260316T181024Z
UID:10026490-1828897200-1828908000@livemusickelowna.ca
SUMMARY:Salad Bowl Jam
DESCRIPTION:1st and 3rd Wednesday of every month 7pm – 10pm \nLocation: Unleashed Brewing \nGroove-centric jam: 1st and 3rd Wednesday\nDynamic sign-up\nNO SONGS – JUST JAM! \nAll instruments welcome! \nRules:\n1. Keep it groovy — no songs\, just feel\n2. Jump in — mics open anytime\n3. Uplift — support those who step up
URL:https://livemusickelowna.ca/event/salad-bowl-jam/2027-12-15/
LOCATION:Unleashed Brewing Company\, 880 Clement Ave #207\, Kelowna\, BC\, V1Y 0H8\, Canada
CATEGORIES:Open Mic
ATTACH;FMTTYPE=image/png:https://livemusickelowna.ca/wp-content/uploads/2026/03/Screenshot-2026-03-16-2.06.46-PM.png
END:VEVENT
BEGIN:VEVENT
DTSTART;TZID=America/Vancouver:20280119T190000
DTEND;TZID=America/Vancouver:20280119T220000
DTSTAMP:20260419T144607
CREATED:20260316T181024Z
LAST-MODIFIED:20260316T181024Z
UID:10026491-1831921200-1831932000@livemusickelowna.ca
SUMMARY:Salad Bowl Jam
DESCRIPTION:1st and 3rd Wednesday of every month 7pm – 10pm \nLocation: Unleashed Brewing \nGroove-centric jam: 1st and 3rd Wednesday\nDynamic sign-up\nNO SONGS – JUST JAM! \nAll instruments welcome! \nRules:\n1. Keep it groovy — no songs\, just feel\n2. Jump in — mics open anytime\n3. Uplift — support those who step up
URL:https://livemusickelowna.ca/event/salad-bowl-jam/2028-01-19/
LOCATION:Unleashed Brewing Company\, 880 Clement Ave #207\, Kelowna\, BC\, V1Y 0H8\, Canada
CATEGORIES:Open Mic
ATTACH;FMTTYPE=image/png:https://livemusickelowna.ca/wp-content/uploads/2026/03/Screenshot-2026-03-16-2.06.46-PM.png
END:VEVENT
BEGIN:VEVENT
DTSTART;TZID=America/Vancouver:20280216T190000
DTEND;TZID=America/Vancouver:20280216T220000
DTSTAMP:20260419T144607
CREATED:20260316T181024Z
LAST-MODIFIED:20260316T181024Z
UID:10026492-1834340400-1834351200@livemusickelowna.ca
SUMMARY:Salad Bowl Jam
DESCRIPTION:1st and 3rd Wednesday of every month 7pm – 10pm \nLocation: Unleashed Brewing \nGroove-centric jam: 1st and 3rd Wednesday\nDynamic sign-up\nNO SONGS – JUST JAM! \nAll instruments welcome! \nRules:\n1. Keep it groovy — no songs\, just feel\n2. Jump in — mics open anytime\n3. Uplift — support those who step up
URL:https://livemusickelowna.ca/event/salad-bowl-jam/2028-02-16/
LOCATION:Unleashed Brewing Company\, 880 Clement Ave #207\, Kelowna\, BC\, V1Y 0H8\, Canada
CATEGORIES:Open Mic
ATTACH;FMTTYPE=image/png:https://livemusickelowna.ca/wp-content/uploads/2026/03/Screenshot-2026-03-16-2.06.46-PM.png
END:VEVENT
BEGIN:VEVENT
DTSTART;TZID=America/Vancouver:20280315T190000
DTEND;TZID=America/Vancouver:20280315T220000
DTSTAMP:20260419T144607
CREATED:20260316T181024Z
LAST-MODIFIED:20260316T181024Z
UID:10026493-1836759600-1836770400@livemusickelowna.ca
SUMMARY:Salad Bowl Jam
DESCRIPTION:1st and 3rd Wednesday of every month 7pm – 10pm \nLocation: Unleashed Brewing \nGroove-centric jam: 1st and 3rd Wednesday\nDynamic sign-up\nNO SONGS – JUST JAM! \nAll instruments welcome! \nRules:\n1. Keep it groovy — no songs\, just feel\n2. Jump in — mics open anytime\n3. Uplift — support those who step up
URL:https://livemusickelowna.ca/event/salad-bowl-jam/2028-03-15/
LOCATION:Unleashed Brewing Company\, 880 Clement Ave #207\, Kelowna\, BC\, V1Y 0H8\, Canada
CATEGORIES:Open Mic
ATTACH;FMTTYPE=image/png:https://livemusickelowna.ca/wp-content/uploads/2026/03/Screenshot-2026-03-16-2.06.46-PM.png
END:VEVENT
BEGIN:VEVENT
DTSTART;TZID=America/Vancouver:20280419T190000
DTEND;TZID=America/Vancouver:20280419T220000
DTSTAMP:20260419T144607
CREATED:20260316T181024Z
LAST-MODIFIED:20260316T181024Z
UID:10026494-1839783600-1839794400@livemusickelowna.ca
SUMMARY:Salad Bowl Jam
DESCRIPTION:1st and 3rd Wednesday of every month 7pm – 10pm \nLocation: Unleashed Brewing \nGroove-centric jam: 1st and 3rd Wednesday\nDynamic sign-up\nNO SONGS – JUST JAM! \nAll instruments welcome! \nRules:\n1. Keep it groovy — no songs\, just feel\n2. Jump in — mics open anytime\n3. Uplift — support those who step up
URL:https://livemusickelowna.ca/event/salad-bowl-jam/2028-04-19/
LOCATION:Unleashed Brewing Company\, 880 Clement Ave #207\, Kelowna\, BC\, V1Y 0H8\, Canada
CATEGORIES:Open Mic
ATTACH;FMTTYPE=image/png:https://livemusickelowna.ca/wp-content/uploads/2026/03/Screenshot-2026-03-16-2.06.46-PM.png
END:VEVENT
BEGIN:VEVENT
DTSTART;TZID=America/Vancouver:20280517T190000
DTEND;TZID=America/Vancouver:20280517T220000
DTSTAMP:20260419T144607
CREATED:20260316T181024Z
LAST-MODIFIED:20260316T181024Z
UID:10026495-1842202800-1842213600@livemusickelowna.ca
SUMMARY:Salad Bowl Jam
DESCRIPTION:1st and 3rd Wednesday of every month 7pm – 10pm \nLocation: Unleashed Brewing \nGroove-centric jam: 1st and 3rd Wednesday\nDynamic sign-up\nNO SONGS – JUST JAM! \nAll instruments welcome! \nRules:\n1. Keep it groovy — no songs\, just feel\n2. Jump in — mics open anytime\n3. Uplift — support those who step up
URL:https://livemusickelowna.ca/event/salad-bowl-jam/2028-05-17/
LOCATION:Unleashed Brewing Company\, 880 Clement Ave #207\, Kelowna\, BC\, V1Y 0H8\, Canada
CATEGORIES:Open Mic
ATTACH;FMTTYPE=image/png:https://livemusickelowna.ca/wp-content/uploads/2026/03/Screenshot-2026-03-16-2.06.46-PM.png
END:VEVENT
BEGIN:VEVENT
DTSTART;TZID=America/Vancouver:20280621T190000
DTEND;TZID=America/Vancouver:20280621T220000
DTSTAMP:20260419T144607
CREATED:20260316T181024Z
LAST-MODIFIED:20260316T181024Z
UID:10026496-1845226800-1845237600@livemusickelowna.ca
SUMMARY:Salad Bowl Jam
DESCRIPTION:1st and 3rd Wednesday of every month 7pm – 10pm \nLocation: Unleashed Brewing \nGroove-centric jam: 1st and 3rd Wednesday\nDynamic sign-up\nNO SONGS – JUST JAM! \nAll instruments welcome! \nRules:\n1. Keep it groovy — no songs\, just feel\n2. Jump in — mics open anytime\n3. Uplift — support those who step up
URL:https://livemusickelowna.ca/event/salad-bowl-jam/2028-06-21/
LOCATION:Unleashed Brewing Company\, 880 Clement Ave #207\, Kelowna\, BC\, V1Y 0H8\, Canada
CATEGORIES:Open Mic
ATTACH;FMTTYPE=image/png:https://livemusickelowna.ca/wp-content/uploads/2026/03/Screenshot-2026-03-16-2.06.46-PM.png
END:VEVENT
BEGIN:VEVENT
DTSTART;TZID=America/Vancouver:20280719T190000
DTEND;TZID=America/Vancouver:20280719T220000
DTSTAMP:20260419T144607
CREATED:20260316T181024Z
LAST-MODIFIED:20260316T181024Z
UID:10026497-1847646000-1847656800@livemusickelowna.ca
SUMMARY:Salad Bowl Jam
DESCRIPTION:1st and 3rd Wednesday of every month 7pm – 10pm \nLocation: Unleashed Brewing \nGroove-centric jam: 1st and 3rd Wednesday\nDynamic sign-up\nNO SONGS – JUST JAM! \nAll instruments welcome! \nRules:\n1. Keep it groovy — no songs\, just feel\n2. Jump in — mics open anytime\n3. Uplift — support those who step up
URL:https://livemusickelowna.ca/event/salad-bowl-jam/2028-07-19/
LOCATION:Unleashed Brewing Company\, 880 Clement Ave #207\, Kelowna\, BC\, V1Y 0H8\, Canada
CATEGORIES:Open Mic
ATTACH;FMTTYPE=image/png:https://livemusickelowna.ca/wp-content/uploads/2026/03/Screenshot-2026-03-16-2.06.46-PM.png
END:VEVENT
BEGIN:VEVENT
DTSTART;TZID=America/Vancouver:20280816T190000
DTEND;TZID=America/Vancouver:20280816T220000
DTSTAMP:20260419T144607
CREATED:20260316T181024Z
LAST-MODIFIED:20260316T181024Z
UID:10026498-1850065200-1850076000@livemusickelowna.ca
SUMMARY:Salad Bowl Jam
DESCRIPTION:1st and 3rd Wednesday of every month 7pm – 10pm \nLocation: Unleashed Brewing \nGroove-centric jam: 1st and 3rd Wednesday\nDynamic sign-up\nNO SONGS – JUST JAM! \nAll instruments welcome! \nRules:\n1. Keep it groovy — no songs\, just feel\n2. Jump in — mics open anytime\n3. Uplift — support those who step up
URL:https://livemusickelowna.ca/event/salad-bowl-jam/2028-08-16/
LOCATION:Unleashed Brewing Company\, 880 Clement Ave #207\, Kelowna\, BC\, V1Y 0H8\, Canada
CATEGORIES:Open Mic
ATTACH;FMTTYPE=image/png:https://livemusickelowna.ca/wp-content/uploads/2026/03/Screenshot-2026-03-16-2.06.46-PM.png
END:VEVENT
BEGIN:VEVENT
DTSTART;TZID=America/Vancouver:20280920T190000
DTEND;TZID=America/Vancouver:20280920T220000
DTSTAMP:20260419T144607
CREATED:20260316T181024Z
LAST-MODIFIED:20260316T181024Z
UID:10026499-1853089200-1853100000@livemusickelowna.ca
SUMMARY:Salad Bowl Jam
DESCRIPTION:1st and 3rd Wednesday of every month 7pm – 10pm \nLocation: Unleashed Brewing \nGroove-centric jam: 1st and 3rd Wednesday\nDynamic sign-up\nNO SONGS – JUST JAM! \nAll instruments welcome! \nRules:\n1. Keep it groovy — no songs\, just feel\n2. Jump in — mics open anytime\n3. Uplift — support those who step up
URL:https://livemusickelowna.ca/event/salad-bowl-jam/2028-09-20/
LOCATION:Unleashed Brewing Company\, 880 Clement Ave #207\, Kelowna\, BC\, V1Y 0H8\, Canada
CATEGORIES:Open Mic
ATTACH;FMTTYPE=image/png:https://livemusickelowna.ca/wp-content/uploads/2026/03/Screenshot-2026-03-16-2.06.46-PM.png
END:VEVENT
BEGIN:VEVENT
DTSTART;TZID=America/Vancouver:20281018T190000
DTEND;TZID=America/Vancouver:20281018T220000
DTSTAMP:20260419T144607
CREATED:20260316T181024Z
LAST-MODIFIED:20260316T181024Z
UID:10026500-1855508400-1855519200@livemusickelowna.ca
SUMMARY:Salad Bowl Jam
DESCRIPTION:1st and 3rd Wednesday of every month 7pm – 10pm \nLocation: Unleashed Brewing \nGroove-centric jam: 1st and 3rd Wednesday\nDynamic sign-up\nNO SONGS – JUST JAM! \nAll instruments welcome! \nRules:\n1. Keep it groovy — no songs\, just feel\n2. Jump in — mics open anytime\n3. Uplift — support those who step up
URL:https://livemusickelowna.ca/event/salad-bowl-jam/2028-10-18/
LOCATION:Unleashed Brewing Company\, 880 Clement Ave #207\, Kelowna\, BC\, V1Y 0H8\, Canada
CATEGORIES:Open Mic
ATTACH;FMTTYPE=image/png:https://livemusickelowna.ca/wp-content/uploads/2026/03/Screenshot-2026-03-16-2.06.46-PM.png
END:VEVENT
BEGIN:VEVENT
DTSTART;TZID=America/Vancouver:20281115T190000
DTEND;TZID=America/Vancouver:20281115T220000
DTSTAMP:20260419T144607
CREATED:20260316T181024Z
LAST-MODIFIED:20260316T181024Z
UID:10026501-1857927600-1857938400@livemusickelowna.ca
SUMMARY:Salad Bowl Jam
DESCRIPTION:1st and 3rd Wednesday of every month 7pm – 10pm \nLocation: Unleashed Brewing \nGroove-centric jam: 1st and 3rd Wednesday\nDynamic sign-up\nNO SONGS – JUST JAM! \nAll instruments welcome! \nRules:\n1. Keep it groovy — no songs\, just feel\n2. Jump in — mics open anytime\n3. Uplift — support those who step up
URL:https://livemusickelowna.ca/event/salad-bowl-jam/2028-11-15/
LOCATION:Unleashed Brewing Company\, 880 Clement Ave #207\, Kelowna\, BC\, V1Y 0H8\, Canada
CATEGORIES:Open Mic
ATTACH;FMTTYPE=image/png:https://livemusickelowna.ca/wp-content/uploads/2026/03/Screenshot-2026-03-16-2.06.46-PM.png
END:VEVENT
BEGIN:VEVENT
DTSTART;TZID=America/Vancouver:20281220T190000
DTEND;TZID=America/Vancouver:20281220T220000
DTSTAMP:20260419T144607
CREATED:20260316T181024Z
LAST-MODIFIED:20260316T181024Z
UID:10026502-1860951600-1860962400@livemusickelowna.ca
SUMMARY:Salad Bowl Jam
DESCRIPTION:1st and 3rd Wednesday of every month 7pm – 10pm \nLocation: Unleashed Brewing \nGroove-centric jam: 1st and 3rd Wednesday\nDynamic sign-up\nNO SONGS – JUST JAM! \nAll instruments welcome! \nRules:\n1. Keep it groovy — no songs\, just feel\n2. Jump in — mics open anytime\n3. Uplift — support those who step up
URL:https://livemusickelowna.ca/event/salad-bowl-jam/2028-12-20/
LOCATION:Unleashed Brewing Company\, 880 Clement Ave #207\, Kelowna\, BC\, V1Y 0H8\, Canada
CATEGORIES:Open Mic
ATTACH;FMTTYPE=image/png:https://livemusickelowna.ca/wp-content/uploads/2026/03/Screenshot-2026-03-16-2.06.46-PM.png
END:VEVENT
BEGIN:VEVENT
DTSTART;TZID=America/Vancouver:20290117T190000
DTEND;TZID=America/Vancouver:20290117T220000
DTSTAMP:20260419T144607
CREATED:20260316T181024Z
LAST-MODIFIED:20260316T181024Z
UID:10026503-1863370800-1863381600@livemusickelowna.ca
SUMMARY:Salad Bowl Jam
DESCRIPTION:1st and 3rd Wednesday of every month 7pm – 10pm \nLocation: Unleashed Brewing \nGroove-centric jam: 1st and 3rd Wednesday\nDynamic sign-up\nNO SONGS – JUST JAM! \nAll instruments welcome! \nRules:\n1. Keep it groovy — no songs\, just feel\n2. Jump in — mics open anytime\n3. Uplift — support those who step up
URL:https://livemusickelowna.ca/event/salad-bowl-jam/2029-01-17/
LOCATION:Unleashed Brewing Company\, 880 Clement Ave #207\, Kelowna\, BC\, V1Y 0H8\, Canada
CATEGORIES:Open Mic
ATTACH;FMTTYPE=image/png:https://livemusickelowna.ca/wp-content/uploads/2026/03/Screenshot-2026-03-16-2.06.46-PM.png
END:VEVENT
BEGIN:VEVENT
DTSTART;TZID=America/Vancouver:20290221T190000
DTEND;TZID=America/Vancouver:20290221T220000
DTSTAMP:20260419T144607
CREATED:20260316T181024Z
LAST-MODIFIED:20260316T181024Z
UID:10026504-1866394800-1866405600@livemusickelowna.ca
SUMMARY:Salad Bowl Jam
DESCRIPTION:1st and 3rd Wednesday of every month 7pm – 10pm \nLocation: Unleashed Brewing \nGroove-centric jam: 1st and 3rd Wednesday\nDynamic sign-up\nNO SONGS – JUST JAM! \nAll instruments welcome! \nRules:\n1. Keep it groovy — no songs\, just feel\n2. Jump in — mics open anytime\n3. Uplift — support those who step up
URL:https://livemusickelowna.ca/event/salad-bowl-jam/2029-02-21/
LOCATION:Unleashed Brewing Company\, 880 Clement Ave #207\, Kelowna\, BC\, V1Y 0H8\, Canada
CATEGORIES:Open Mic
ATTACH;FMTTYPE=image/png:https://livemusickelowna.ca/wp-content/uploads/2026/03/Screenshot-2026-03-16-2.06.46-PM.png
END:VEVENT
BEGIN:VEVENT
DTSTART;TZID=America/Vancouver:20290321T190000
DTEND;TZID=America/Vancouver:20290321T220000
DTSTAMP:20260419T144607
CREATED:20260316T181024Z
LAST-MODIFIED:20260316T181024Z
UID:10026505-1868814000-1868824800@livemusickelowna.ca
SUMMARY:Salad Bowl Jam
DESCRIPTION:1st and 3rd Wednesday of every month 7pm – 10pm \nLocation: Unleashed Brewing \nGroove-centric jam: 1st and 3rd Wednesday\nDynamic sign-up\nNO SONGS – JUST JAM! \nAll instruments welcome! \nRules:\n1. Keep it groovy — no songs\, just feel\n2. Jump in — mics open anytime\n3. Uplift — support those who step up
URL:https://livemusickelowna.ca/event/salad-bowl-jam/2029-03-21/
LOCATION:Unleashed Brewing Company\, 880 Clement Ave #207\, Kelowna\, BC\, V1Y 0H8\, Canada
CATEGORIES:Open Mic
ATTACH;FMTTYPE=image/png:https://livemusickelowna.ca/wp-content/uploads/2026/03/Screenshot-2026-03-16-2.06.46-PM.png
END:VEVENT
BEGIN:VEVENT
DTSTART;TZID=America/Vancouver:20290418T190000
DTEND;TZID=America/Vancouver:20290418T220000
DTSTAMP:20260419T144607
CREATED:20260316T181024Z
LAST-MODIFIED:20260316T181024Z
UID:10026506-1871233200-1871244000@livemusickelowna.ca
SUMMARY:Salad Bowl Jam
DESCRIPTION:1st and 3rd Wednesday of every month 7pm – 10pm \nLocation: Unleashed Brewing \nGroove-centric jam: 1st and 3rd Wednesday\nDynamic sign-up\nNO SONGS – JUST JAM! \nAll instruments welcome! \nRules:\n1. Keep it groovy — no songs\, just feel\n2. Jump in — mics open anytime\n3. Uplift — support those who step up
URL:https://livemusickelowna.ca/event/salad-bowl-jam/2029-04-18/
LOCATION:Unleashed Brewing Company\, 880 Clement Ave #207\, Kelowna\, BC\, V1Y 0H8\, Canada
CATEGORIES:Open Mic
ATTACH;FMTTYPE=image/png:https://livemusickelowna.ca/wp-content/uploads/2026/03/Screenshot-2026-03-16-2.06.46-PM.png
END:VEVENT
BEGIN:VEVENT
DTSTART;TZID=America/Vancouver:20290516T190000
DTEND;TZID=America/Vancouver:20290516T220000
DTSTAMP:20260419T144607
CREATED:20260316T181024Z
LAST-MODIFIED:20260316T181024Z
UID:10026507-1873652400-1873663200@livemusickelowna.ca
SUMMARY:Salad Bowl Jam
DESCRIPTION:1st and 3rd Wednesday of every month 7pm – 10pm \nLocation: Unleashed Brewing \nGroove-centric jam: 1st and 3rd Wednesday\nDynamic sign-up\nNO SONGS – JUST JAM! \nAll instruments welcome! \nRules:\n1. Keep it groovy — no songs\, just feel\n2. Jump in — mics open anytime\n3. Uplift — support those who step up
URL:https://livemusickelowna.ca/event/salad-bowl-jam/2029-05-16/
LOCATION:Unleashed Brewing Company\, 880 Clement Ave #207\, Kelowna\, BC\, V1Y 0H8\, Canada
CATEGORIES:Open Mic
ATTACH;FMTTYPE=image/png:https://livemusickelowna.ca/wp-content/uploads/2026/03/Screenshot-2026-03-16-2.06.46-PM.png
END:VEVENT
BEGIN:VEVENT
DTSTART;TZID=America/Vancouver:20290620T190000
DTEND;TZID=America/Vancouver:20290620T220000
DTSTAMP:20260419T144607
CREATED:20260316T181024Z
LAST-MODIFIED:20260316T181024Z
UID:10026508-1876676400-1876687200@livemusickelowna.ca
SUMMARY:Salad Bowl Jam
DESCRIPTION:1st and 3rd Wednesday of every month 7pm – 10pm \nLocation: Unleashed Brewing \nGroove-centric jam: 1st and 3rd Wednesday\nDynamic sign-up\nNO SONGS – JUST JAM! \nAll instruments welcome! \nRules:\n1. Keep it groovy — no songs\, just feel\n2. Jump in — mics open anytime\n3. Uplift — support those who step up
URL:https://livemusickelowna.ca/event/salad-bowl-jam/2029-06-20/
LOCATION:Unleashed Brewing Company\, 880 Clement Ave #207\, Kelowna\, BC\, V1Y 0H8\, Canada
CATEGORIES:Open Mic
ATTACH;FMTTYPE=image/png:https://livemusickelowna.ca/wp-content/uploads/2026/03/Screenshot-2026-03-16-2.06.46-PM.png
END:VEVENT
BEGIN:VEVENT
DTSTART;TZID=America/Vancouver:20290718T190000
DTEND;TZID=America/Vancouver:20290718T220000
DTSTAMP:20260419T144607
CREATED:20260316T181024Z
LAST-MODIFIED:20260316T181024Z
UID:10026509-1879095600-1879106400@livemusickelowna.ca
SUMMARY:Salad Bowl Jam
DESCRIPTION:1st and 3rd Wednesday of every month 7pm – 10pm \nLocation: Unleashed Brewing \nGroove-centric jam: 1st and 3rd Wednesday\nDynamic sign-up\nNO SONGS – JUST JAM! \nAll instruments welcome! \nRules:\n1. Keep it groovy — no songs\, just feel\n2. Jump in — mics open anytime\n3. Uplift — support those who step up
URL:https://livemusickelowna.ca/event/salad-bowl-jam/2029-07-18/
LOCATION:Unleashed Brewing Company\, 880 Clement Ave #207\, Kelowna\, BC\, V1Y 0H8\, Canada
CATEGORIES:Open Mic
ATTACH;FMTTYPE=image/png:https://livemusickelowna.ca/wp-content/uploads/2026/03/Screenshot-2026-03-16-2.06.46-PM.png
END:VEVENT
BEGIN:VEVENT
DTSTART;TZID=America/Vancouver:20290815T190000
DTEND;TZID=America/Vancouver:20290815T220000
DTSTAMP:20260419T144607
CREATED:20260316T181024Z
LAST-MODIFIED:20260316T181024Z
UID:10026510-1881514800-1881525600@livemusickelowna.ca
SUMMARY:Salad Bowl Jam
DESCRIPTION:1st and 3rd Wednesday of every month 7pm – 10pm \nLocation: Unleashed Brewing \nGroove-centric jam: 1st and 3rd Wednesday\nDynamic sign-up\nNO SONGS – JUST JAM! \nAll instruments welcome! \nRules:\n1. Keep it groovy — no songs\, just feel\n2. Jump in — mics open anytime\n3. Uplift — support those who step up
URL:https://livemusickelowna.ca/event/salad-bowl-jam/2029-08-15/
LOCATION:Unleashed Brewing Company\, 880 Clement Ave #207\, Kelowna\, BC\, V1Y 0H8\, Canada
CATEGORIES:Open Mic
ATTACH;FMTTYPE=image/png:https://livemusickelowna.ca/wp-content/uploads/2026/03/Screenshot-2026-03-16-2.06.46-PM.png
END:VEVENT
BEGIN:VEVENT
DTSTART;TZID=America/Vancouver:20290919T190000
DTEND;TZID=America/Vancouver:20290919T220000
DTSTAMP:20260419T144607
CREATED:20260316T181024Z
LAST-MODIFIED:20260316T181024Z
UID:10026511-1884538800-1884549600@livemusickelowna.ca
SUMMARY:Salad Bowl Jam
DESCRIPTION:1st and 3rd Wednesday of every month 7pm – 10pm \nLocation: Unleashed Brewing \nGroove-centric jam: 1st and 3rd Wednesday\nDynamic sign-up\nNO SONGS – JUST JAM! \nAll instruments welcome! \nRules:\n1. Keep it groovy — no songs\, just feel\n2. Jump in — mics open anytime\n3. Uplift — support those who step up
URL:https://livemusickelowna.ca/event/salad-bowl-jam/2029-09-19/
LOCATION:Unleashed Brewing Company\, 880 Clement Ave #207\, Kelowna\, BC\, V1Y 0H8\, Canada
CATEGORIES:Open Mic
ATTACH;FMTTYPE=image/png:https://livemusickelowna.ca/wp-content/uploads/2026/03/Screenshot-2026-03-16-2.06.46-PM.png
END:VEVENT
BEGIN:VEVENT
DTSTART;TZID=America/Vancouver:20291017T190000
DTEND;TZID=America/Vancouver:20291017T220000
DTSTAMP:20260419T144607
CREATED:20260316T181024Z
LAST-MODIFIED:20260316T181024Z
UID:10026512-1886958000-1886968800@livemusickelowna.ca
SUMMARY:Salad Bowl Jam
DESCRIPTION:1st and 3rd Wednesday of every month 7pm – 10pm \nLocation: Unleashed Brewing \nGroove-centric jam: 1st and 3rd Wednesday\nDynamic sign-up\nNO SONGS – JUST JAM! \nAll instruments welcome! \nRules:\n1. Keep it groovy — no songs\, just feel\n2. Jump in — mics open anytime\n3. Uplift — support those who step up
URL:https://livemusickelowna.ca/event/salad-bowl-jam/2029-10-17/
LOCATION:Unleashed Brewing Company\, 880 Clement Ave #207\, Kelowna\, BC\, V1Y 0H8\, Canada
CATEGORIES:Open Mic
ATTACH;FMTTYPE=image/png:https://livemusickelowna.ca/wp-content/uploads/2026/03/Screenshot-2026-03-16-2.06.46-PM.png
END:VEVENT
BEGIN:VEVENT
DTSTART;TZID=America/Vancouver:20291121T190000
DTEND;TZID=America/Vancouver:20291121T220000
DTSTAMP:20260419T144607
CREATED:20260316T181024Z
LAST-MODIFIED:20260316T181024Z
UID:10026513-1889982000-1889992800@livemusickelowna.ca
SUMMARY:Salad Bowl Jam
DESCRIPTION:1st and 3rd Wednesday of every month 7pm – 10pm \nLocation: Unleashed Brewing \nGroove-centric jam: 1st and 3rd Wednesday\nDynamic sign-up\nNO SONGS – JUST JAM! \nAll instruments welcome! \nRules:\n1. Keep it groovy — no songs\, just feel\n2. Jump in — mics open anytime\n3. Uplift — support those who step up
URL:https://livemusickelowna.ca/event/salad-bowl-jam/2029-11-21/
LOCATION:Unleashed Brewing Company\, 880 Clement Ave #207\, Kelowna\, BC\, V1Y 0H8\, Canada
CATEGORIES:Open Mic
ATTACH;FMTTYPE=image/png:https://livemusickelowna.ca/wp-content/uploads/2026/03/Screenshot-2026-03-16-2.06.46-PM.png
END:VEVENT
BEGIN:VEVENT
DTSTART;TZID=America/Vancouver:20291219T190000
DTEND;TZID=America/Vancouver:20291219T220000
DTSTAMP:20260419T144607
CREATED:20260316T181024Z
LAST-MODIFIED:20260316T181024Z
UID:10026514-1892401200-1892412000@livemusickelowna.ca
SUMMARY:Salad Bowl Jam
DESCRIPTION:1st and 3rd Wednesday of every month 7pm – 10pm \nLocation: Unleashed Brewing \nGroove-centric jam: 1st and 3rd Wednesday\nDynamic sign-up\nNO SONGS – JUST JAM! \nAll instruments welcome! \nRules:\n1. Keep it groovy — no songs\, just feel\n2. Jump in — mics open anytime\n3. Uplift — support those who step up
URL:https://livemusickelowna.ca/event/salad-bowl-jam/2029-12-19/
LOCATION:Unleashed Brewing Company\, 880 Clement Ave #207\, Kelowna\, BC\, V1Y 0H8\, Canada
CATEGORIES:Open Mic
ATTACH;FMTTYPE=image/png:https://livemusickelowna.ca/wp-content/uploads/2026/03/Screenshot-2026-03-16-2.06.46-PM.png
END:VEVENT
END:VCALENDAR