BEGIN:VCALENDAR
VERSION:2.0
PRODID:-//Live Music Kelowna - ECPv6.15.18//NONSGML v1.0//EN
CALSCALE:GREGORIAN
METHOD:PUBLISH
X-WR-CALNAME:Live Music Kelowna
X-ORIGINAL-URL:https://livemusickelowna.ca
X-WR-CALDESC:Events for Live Music Kelowna
REFRESH-INTERVAL;VALUE=DURATION:PT1H
X-Robots-Tag:noindex
X-PUBLISHED-TTL:PT1H
BEGIN:VTIMEZONE
TZID:America/Vancouver
BEGIN:DAYLIGHT
TZOFFSETFROM:-0800
TZOFFSETTO:-0700
TZNAME:PDT
DTSTART:20250309T100000
END:DAYLIGHT
BEGIN:STANDARD
TZOFFSETFROM:-0700
TZOFFSETTO:-0800
TZNAME:PST
DTSTART:20251102T090000
END:STANDARD
BEGIN:DAYLIGHT
TZOFFSETFROM:-0800
TZOFFSETTO:-0700
TZNAME:PDT
DTSTART:20260308T100000
END:DAYLIGHT
BEGIN:STANDARD
TZOFFSETFROM:-0700
TZOFFSETTO:-0800
TZNAME:PST
DTSTART:20261101T090000
END:STANDARD
BEGIN:DAYLIGHT
TZOFFSETFROM:-0800
TZOFFSETTO:-0700
TZNAME:PDT
DTSTART:20270314T100000
END:DAYLIGHT
BEGIN:STANDARD
TZOFFSETFROM:-0700
TZOFFSETTO:-0800
TZNAME:PST
DTSTART:20271107T090000
END:STANDARD
BEGIN:DAYLIGHT
TZOFFSETFROM:-0800
TZOFFSETTO:-0700
TZNAME:PDT
DTSTART:20280312T100000
END:DAYLIGHT
BEGIN:STANDARD
TZOFFSETFROM:-0700
TZOFFSETTO:-0800
TZNAME:PST
DTSTART:20281105T090000
END:STANDARD
END:VTIMEZONE
BEGIN:VEVENT
DTSTART;TZID=America/Vancouver:20260727T180000
DTEND;TZID=America/Vancouver:20260727T210000
DTSTAMP:20260419T112242
CREATED:20260323T170051Z
LAST-MODIFIED:20260323T170129Z
UID:10026577-1785175200-1785186000@livemusickelowna.ca
SUMMARY:MUSIC MONDAYS
DESCRIPTION:Every Monday night from 6-9pm! \n– open mic\n– bring your own instruments (house drums and base guitar available)\n– industry discount on bevys!\n– free live music
URL:https://livemusickelowna.ca/event/music-mondays/2026-07-27/
LOCATION:Unleashed Brewing Company\, 880 Clement Ave #207\, Kelowna\, BC\, V1Y 0H8\, Canada
CATEGORIES:Mixed Genres,Open Mic
ATTACH;FMTTYPE=image/jpeg:https://livemusickelowna.ca/wp-content/uploads/2026/03/music-monday.jpg
END:VEVENT
BEGIN:VEVENT
DTSTART;TZID=America/Vancouver:20260803T180000
DTEND;TZID=America/Vancouver:20260803T210000
DTSTAMP:20260419T112242
CREATED:20260323T170051Z
LAST-MODIFIED:20260323T170129Z
UID:10026578-1785780000-1785790800@livemusickelowna.ca
SUMMARY:MUSIC MONDAYS
DESCRIPTION:Every Monday night from 6-9pm! \n– open mic\n– bring your own instruments (house drums and base guitar available)\n– industry discount on bevys!\n– free live music
URL:https://livemusickelowna.ca/event/music-mondays/2026-08-03/
LOCATION:Unleashed Brewing Company\, 880 Clement Ave #207\, Kelowna\, BC\, V1Y 0H8\, Canada
CATEGORIES:Mixed Genres,Open Mic
ATTACH;FMTTYPE=image/jpeg:https://livemusickelowna.ca/wp-content/uploads/2026/03/music-monday.jpg
END:VEVENT
BEGIN:VEVENT
DTSTART;TZID=America/Vancouver:20260807T193000
DTEND;TZID=America/Vancouver:20260807T213000
DTSTAMP:20260419T112243
CREATED:20260323T170300Z
LAST-MODIFIED:20260323T170300Z
UID:10026588-1786131000-1786138200@livemusickelowna.ca
SUMMARY:Friday Night Karaoke
DESCRIPTION:Bring your singing voice and back up dancers! \nHosted by Rockstar Entertainment. \nAlternates Fridays with Social Nights.
URL:https://livemusickelowna.ca/event/friday-night-karaoke-2/2026-08-07/
LOCATION:Unleashed Brewing Company\, 880 Clement Ave #207\, Kelowna\, BC\, V1Y 0H8\, Canada
CATEGORIES:Karaoke
ATTACH;FMTTYPE=image/jpeg:https://livemusickelowna.ca/wp-content/uploads/2026/03/Karaoke-Unleashed.jpg
END:VEVENT
BEGIN:VEVENT
DTSTART;TZID=America/Vancouver:20260819T190000
DTEND;TZID=America/Vancouver:20260819T220000
DTSTAMP:20260419T112243
CREATED:20260316T181024Z
LAST-MODIFIED:20260316T181024Z
UID:10026474-1787166000-1787176800@livemusickelowna.ca
SUMMARY:Salad Bowl Jam
DESCRIPTION:1st and 3rd Wednesday of every month 7pm – 10pm \nLocation: Unleashed Brewing \nGroove-centric jam: 1st and 3rd Wednesday\nDynamic sign-up\nNO SONGS – JUST JAM! \nAll instruments welcome! \nRules:\n1. Keep it groovy — no songs\, just feel\n2. Jump in — mics open anytime\n3. Uplift — support those who step up
URL:https://livemusickelowna.ca/event/salad-bowl-jam/2026-08-19/
LOCATION:Unleashed Brewing Company\, 880 Clement Ave #207\, Kelowna\, BC\, V1Y 0H8\, Canada
CATEGORIES:Open Mic
ATTACH;FMTTYPE=image/png:https://livemusickelowna.ca/wp-content/uploads/2026/03/Screenshot-2026-03-16-2.06.46-PM.png
END:VEVENT
BEGIN:VEVENT
DTSTART;TZID=America/Vancouver:20260821T193000
DTEND;TZID=America/Vancouver:20260821T213000
DTSTAMP:20260419T112243
CREATED:20260323T170300Z
LAST-MODIFIED:20260323T170300Z
UID:10026589-1787340600-1787347800@livemusickelowna.ca
SUMMARY:Friday Night Karaoke
DESCRIPTION:Bring your singing voice and back up dancers! \nHosted by Rockstar Entertainment. \nAlternates Fridays with Social Nights.
URL:https://livemusickelowna.ca/event/friday-night-karaoke-2/2026-08-21/
LOCATION:Unleashed Brewing Company\, 880 Clement Ave #207\, Kelowna\, BC\, V1Y 0H8\, Canada
CATEGORIES:Karaoke
ATTACH;FMTTYPE=image/jpeg:https://livemusickelowna.ca/wp-content/uploads/2026/03/Karaoke-Unleashed.jpg
END:VEVENT
BEGIN:VEVENT
DTSTART;TZID=America/Vancouver:20260904T193000
DTEND;TZID=America/Vancouver:20260904T213000
DTSTAMP:20260419T112243
CREATED:20260323T170300Z
LAST-MODIFIED:20260323T170300Z
UID:10026590-1788550200-1788557400@livemusickelowna.ca
SUMMARY:Friday Night Karaoke
DESCRIPTION:Bring your singing voice and back up dancers! \nHosted by Rockstar Entertainment. \nAlternates Fridays with Social Nights.
URL:https://livemusickelowna.ca/event/friday-night-karaoke-2/2026-09-04/
LOCATION:Unleashed Brewing Company\, 880 Clement Ave #207\, Kelowna\, BC\, V1Y 0H8\, Canada
CATEGORIES:Karaoke
ATTACH;FMTTYPE=image/jpeg:https://livemusickelowna.ca/wp-content/uploads/2026/03/Karaoke-Unleashed.jpg
END:VEVENT
BEGIN:VEVENT
DTSTART;TZID=America/Vancouver:20260916T190000
DTEND;TZID=America/Vancouver:20260916T220000
DTSTAMP:20260419T112243
CREATED:20260316T181024Z
LAST-MODIFIED:20260316T181024Z
UID:10026475-1789585200-1789596000@livemusickelowna.ca
SUMMARY:Salad Bowl Jam
DESCRIPTION:1st and 3rd Wednesday of every month 7pm – 10pm \nLocation: Unleashed Brewing \nGroove-centric jam: 1st and 3rd Wednesday\nDynamic sign-up\nNO SONGS – JUST JAM! \nAll instruments welcome! \nRules:\n1. Keep it groovy — no songs\, just feel\n2. Jump in — mics open anytime\n3. Uplift — support those who step up
URL:https://livemusickelowna.ca/event/salad-bowl-jam/2026-09-16/
LOCATION:Unleashed Brewing Company\, 880 Clement Ave #207\, Kelowna\, BC\, V1Y 0H8\, Canada
CATEGORIES:Open Mic
ATTACH;FMTTYPE=image/png:https://livemusickelowna.ca/wp-content/uploads/2026/03/Screenshot-2026-03-16-2.06.46-PM.png
END:VEVENT
BEGIN:VEVENT
DTSTART;TZID=America/Vancouver:20260918T193000
DTEND;TZID=America/Vancouver:20260918T213000
DTSTAMP:20260419T112243
CREATED:20260323T170300Z
LAST-MODIFIED:20260323T170300Z
UID:10026591-1789759800-1789767000@livemusickelowna.ca
SUMMARY:Friday Night Karaoke
DESCRIPTION:Bring your singing voice and back up dancers! \nHosted by Rockstar Entertainment. \nAlternates Fridays with Social Nights.
URL:https://livemusickelowna.ca/event/friday-night-karaoke-2/2026-09-18/
LOCATION:Unleashed Brewing Company\, 880 Clement Ave #207\, Kelowna\, BC\, V1Y 0H8\, Canada
CATEGORIES:Karaoke
ATTACH;FMTTYPE=image/jpeg:https://livemusickelowna.ca/wp-content/uploads/2026/03/Karaoke-Unleashed.jpg
END:VEVENT
BEGIN:VEVENT
DTSTART;TZID=America/Vancouver:20261002T193000
DTEND;TZID=America/Vancouver:20261002T213000
DTSTAMP:20260419T112243
CREATED:20260323T170300Z
LAST-MODIFIED:20260323T170300Z
UID:10026592-1790969400-1790976600@livemusickelowna.ca
SUMMARY:Friday Night Karaoke
DESCRIPTION:Bring your singing voice and back up dancers! \nHosted by Rockstar Entertainment. \nAlternates Fridays with Social Nights.
URL:https://livemusickelowna.ca/event/friday-night-karaoke-2/2026-10-02/
LOCATION:Unleashed Brewing Company\, 880 Clement Ave #207\, Kelowna\, BC\, V1Y 0H8\, Canada
CATEGORIES:Karaoke
ATTACH;FMTTYPE=image/jpeg:https://livemusickelowna.ca/wp-content/uploads/2026/03/Karaoke-Unleashed.jpg
END:VEVENT
BEGIN:VEVENT
DTSTART;TZID=America/Vancouver:20261016T193000
DTEND;TZID=America/Vancouver:20261016T213000
DTSTAMP:20260419T112243
CREATED:20260323T170300Z
LAST-MODIFIED:20260323T170300Z
UID:10026593-1792179000-1792186200@livemusickelowna.ca
SUMMARY:Friday Night Karaoke
DESCRIPTION:Bring your singing voice and back up dancers! \nHosted by Rockstar Entertainment. \nAlternates Fridays with Social Nights.
URL:https://livemusickelowna.ca/event/friday-night-karaoke-2/2026-10-16/
LOCATION:Unleashed Brewing Company\, 880 Clement Ave #207\, Kelowna\, BC\, V1Y 0H8\, Canada
CATEGORIES:Karaoke
ATTACH;FMTTYPE=image/jpeg:https://livemusickelowna.ca/wp-content/uploads/2026/03/Karaoke-Unleashed.jpg
END:VEVENT
BEGIN:VEVENT
DTSTART;TZID=America/Vancouver:20261021T190000
DTEND;TZID=America/Vancouver:20261021T220000
DTSTAMP:20260419T112243
CREATED:20260316T181024Z
LAST-MODIFIED:20260316T181024Z
UID:10026476-1792609200-1792620000@livemusickelowna.ca
SUMMARY:Salad Bowl Jam
DESCRIPTION:1st and 3rd Wednesday of every month 7pm – 10pm \nLocation: Unleashed Brewing \nGroove-centric jam: 1st and 3rd Wednesday\nDynamic sign-up\nNO SONGS – JUST JAM! \nAll instruments welcome! \nRules:\n1. Keep it groovy — no songs\, just feel\n2. Jump in — mics open anytime\n3. Uplift — support those who step up
URL:https://livemusickelowna.ca/event/salad-bowl-jam/2026-10-21/
LOCATION:Unleashed Brewing Company\, 880 Clement Ave #207\, Kelowna\, BC\, V1Y 0H8\, Canada
CATEGORIES:Open Mic
ATTACH;FMTTYPE=image/png:https://livemusickelowna.ca/wp-content/uploads/2026/03/Screenshot-2026-03-16-2.06.46-PM.png
END:VEVENT
BEGIN:VEVENT
DTSTART;TZID=America/Vancouver:20261030T193000
DTEND;TZID=America/Vancouver:20261030T213000
DTSTAMP:20260419T112243
CREATED:20260323T170300Z
LAST-MODIFIED:20260323T170300Z
UID:10026594-1793388600-1793395800@livemusickelowna.ca
SUMMARY:Friday Night Karaoke
DESCRIPTION:Bring your singing voice and back up dancers! \nHosted by Rockstar Entertainment. \nAlternates Fridays with Social Nights.
URL:https://livemusickelowna.ca/event/friday-night-karaoke-2/2026-10-30/
LOCATION:Unleashed Brewing Company\, 880 Clement Ave #207\, Kelowna\, BC\, V1Y 0H8\, Canada
CATEGORIES:Karaoke
ATTACH;FMTTYPE=image/jpeg:https://livemusickelowna.ca/wp-content/uploads/2026/03/Karaoke-Unleashed.jpg
END:VEVENT
BEGIN:VEVENT
DTSTART;TZID=America/Vancouver:20261113T193000
DTEND;TZID=America/Vancouver:20261113T213000
DTSTAMP:20260419T112243
CREATED:20260323T170300Z
LAST-MODIFIED:20260323T170300Z
UID:10026595-1794598200-1794605400@livemusickelowna.ca
SUMMARY:Friday Night Karaoke
DESCRIPTION:Bring your singing voice and back up dancers! \nHosted by Rockstar Entertainment. \nAlternates Fridays with Social Nights.
URL:https://livemusickelowna.ca/event/friday-night-karaoke-2/2026-11-13/
LOCATION:Unleashed Brewing Company\, 880 Clement Ave #207\, Kelowna\, BC\, V1Y 0H8\, Canada
CATEGORIES:Karaoke
ATTACH;FMTTYPE=image/jpeg:https://livemusickelowna.ca/wp-content/uploads/2026/03/Karaoke-Unleashed.jpg
END:VEVENT
BEGIN:VEVENT
DTSTART;TZID=America/Vancouver:20261118T190000
DTEND;TZID=America/Vancouver:20261118T220000
DTSTAMP:20260419T112243
CREATED:20260316T181024Z
LAST-MODIFIED:20260316T181024Z
UID:10026477-1795028400-1795039200@livemusickelowna.ca
SUMMARY:Salad Bowl Jam
DESCRIPTION:1st and 3rd Wednesday of every month 7pm – 10pm \nLocation: Unleashed Brewing \nGroove-centric jam: 1st and 3rd Wednesday\nDynamic sign-up\nNO SONGS – JUST JAM! \nAll instruments welcome! \nRules:\n1. Keep it groovy — no songs\, just feel\n2. Jump in — mics open anytime\n3. Uplift — support those who step up
URL:https://livemusickelowna.ca/event/salad-bowl-jam/2026-11-18/
LOCATION:Unleashed Brewing Company\, 880 Clement Ave #207\, Kelowna\, BC\, V1Y 0H8\, Canada
CATEGORIES:Open Mic
ATTACH;FMTTYPE=image/png:https://livemusickelowna.ca/wp-content/uploads/2026/03/Screenshot-2026-03-16-2.06.46-PM.png
END:VEVENT
BEGIN:VEVENT
DTSTART;TZID=America/Vancouver:20261127T193000
DTEND;TZID=America/Vancouver:20261127T213000
DTSTAMP:20260419T112243
CREATED:20260323T170300Z
LAST-MODIFIED:20260323T170300Z
UID:10026596-1795807800-1795815000@livemusickelowna.ca
SUMMARY:Friday Night Karaoke
DESCRIPTION:Bring your singing voice and back up dancers! \nHosted by Rockstar Entertainment. \nAlternates Fridays with Social Nights.
URL:https://livemusickelowna.ca/event/friday-night-karaoke-2/2026-11-27/
LOCATION:Unleashed Brewing Company\, 880 Clement Ave #207\, Kelowna\, BC\, V1Y 0H8\, Canada
CATEGORIES:Karaoke
ATTACH;FMTTYPE=image/jpeg:https://livemusickelowna.ca/wp-content/uploads/2026/03/Karaoke-Unleashed.jpg
END:VEVENT
BEGIN:VEVENT
DTSTART;TZID=America/Vancouver:20261211T193000
DTEND;TZID=America/Vancouver:20261211T213000
DTSTAMP:20260419T112243
CREATED:20260323T170300Z
LAST-MODIFIED:20260323T170300Z
UID:10026597-1797017400-1797024600@livemusickelowna.ca
SUMMARY:Friday Night Karaoke
DESCRIPTION:Bring your singing voice and back up dancers! \nHosted by Rockstar Entertainment. \nAlternates Fridays with Social Nights.
URL:https://livemusickelowna.ca/event/friday-night-karaoke-2/2026-12-11/
LOCATION:Unleashed Brewing Company\, 880 Clement Ave #207\, Kelowna\, BC\, V1Y 0H8\, Canada
CATEGORIES:Karaoke
ATTACH;FMTTYPE=image/jpeg:https://livemusickelowna.ca/wp-content/uploads/2026/03/Karaoke-Unleashed.jpg
END:VEVENT
BEGIN:VEVENT
DTSTART;TZID=America/Vancouver:20261216T190000
DTEND;TZID=America/Vancouver:20261216T220000
DTSTAMP:20260419T112243
CREATED:20260316T181024Z
LAST-MODIFIED:20260316T181024Z
UID:10026478-1797447600-1797458400@livemusickelowna.ca
SUMMARY:Salad Bowl Jam
DESCRIPTION:1st and 3rd Wednesday of every month 7pm – 10pm \nLocation: Unleashed Brewing \nGroove-centric jam: 1st and 3rd Wednesday\nDynamic sign-up\nNO SONGS – JUST JAM! \nAll instruments welcome! \nRules:\n1. Keep it groovy — no songs\, just feel\n2. Jump in — mics open anytime\n3. Uplift — support those who step up
URL:https://livemusickelowna.ca/event/salad-bowl-jam/2026-12-16/
LOCATION:Unleashed Brewing Company\, 880 Clement Ave #207\, Kelowna\, BC\, V1Y 0H8\, Canada
CATEGORIES:Open Mic
ATTACH;FMTTYPE=image/png:https://livemusickelowna.ca/wp-content/uploads/2026/03/Screenshot-2026-03-16-2.06.46-PM.png
END:VEVENT
BEGIN:VEVENT
DTSTART;TZID=America/Vancouver:20261225T193000
DTEND;TZID=America/Vancouver:20261225T213000
DTSTAMP:20260419T112243
CREATED:20260323T170300Z
LAST-MODIFIED:20260323T170300Z
UID:10026598-1798227000-1798234200@livemusickelowna.ca
SUMMARY:Friday Night Karaoke
DESCRIPTION:Bring your singing voice and back up dancers! \nHosted by Rockstar Entertainment. \nAlternates Fridays with Social Nights.
URL:https://livemusickelowna.ca/event/friday-night-karaoke-2/2026-12-25/
LOCATION:Unleashed Brewing Company\, 880 Clement Ave #207\, Kelowna\, BC\, V1Y 0H8\, Canada
CATEGORIES:Karaoke
ATTACH;FMTTYPE=image/jpeg:https://livemusickelowna.ca/wp-content/uploads/2026/03/Karaoke-Unleashed.jpg
END:VEVENT
BEGIN:VEVENT
DTSTART;TZID=America/Vancouver:20270120T190000
DTEND;TZID=America/Vancouver:20270120T220000
DTSTAMP:20260419T112243
CREATED:20260316T181024Z
LAST-MODIFIED:20260316T181024Z
UID:10026479-1800471600-1800482400@livemusickelowna.ca
SUMMARY:Salad Bowl Jam
DESCRIPTION:1st and 3rd Wednesday of every month 7pm – 10pm \nLocation: Unleashed Brewing \nGroove-centric jam: 1st and 3rd Wednesday\nDynamic sign-up\nNO SONGS – JUST JAM! \nAll instruments welcome! \nRules:\n1. Keep it groovy — no songs\, just feel\n2. Jump in — mics open anytime\n3. Uplift — support those who step up
URL:https://livemusickelowna.ca/event/salad-bowl-jam/2027-01-20/
LOCATION:Unleashed Brewing Company\, 880 Clement Ave #207\, Kelowna\, BC\, V1Y 0H8\, Canada
CATEGORIES:Open Mic
ATTACH;FMTTYPE=image/png:https://livemusickelowna.ca/wp-content/uploads/2026/03/Screenshot-2026-03-16-2.06.46-PM.png
END:VEVENT
BEGIN:VEVENT
DTSTART;TZID=America/Vancouver:20270217T190000
DTEND;TZID=America/Vancouver:20270217T220000
DTSTAMP:20260419T112243
CREATED:20260316T181024Z
LAST-MODIFIED:20260316T181024Z
UID:10026480-1802890800-1802901600@livemusickelowna.ca
SUMMARY:Salad Bowl Jam
DESCRIPTION:1st and 3rd Wednesday of every month 7pm – 10pm \nLocation: Unleashed Brewing \nGroove-centric jam: 1st and 3rd Wednesday\nDynamic sign-up\nNO SONGS – JUST JAM! \nAll instruments welcome! \nRules:\n1. Keep it groovy — no songs\, just feel\n2. Jump in — mics open anytime\n3. Uplift — support those who step up
URL:https://livemusickelowna.ca/event/salad-bowl-jam/2027-02-17/
LOCATION:Unleashed Brewing Company\, 880 Clement Ave #207\, Kelowna\, BC\, V1Y 0H8\, Canada
CATEGORIES:Open Mic
ATTACH;FMTTYPE=image/png:https://livemusickelowna.ca/wp-content/uploads/2026/03/Screenshot-2026-03-16-2.06.46-PM.png
END:VEVENT
BEGIN:VEVENT
DTSTART;TZID=America/Vancouver:20270317T190000
DTEND;TZID=America/Vancouver:20270317T220000
DTSTAMP:20260419T112243
CREATED:20260316T181024Z
LAST-MODIFIED:20260316T181024Z
UID:10026481-1805310000-1805320800@livemusickelowna.ca
SUMMARY:Salad Bowl Jam
DESCRIPTION:1st and 3rd Wednesday of every month 7pm – 10pm \nLocation: Unleashed Brewing \nGroove-centric jam: 1st and 3rd Wednesday\nDynamic sign-up\nNO SONGS – JUST JAM! \nAll instruments welcome! \nRules:\n1. Keep it groovy — no songs\, just feel\n2. Jump in — mics open anytime\n3. Uplift — support those who step up
URL:https://livemusickelowna.ca/event/salad-bowl-jam/2027-03-17/
LOCATION:Unleashed Brewing Company\, 880 Clement Ave #207\, Kelowna\, BC\, V1Y 0H8\, Canada
CATEGORIES:Open Mic
ATTACH;FMTTYPE=image/png:https://livemusickelowna.ca/wp-content/uploads/2026/03/Screenshot-2026-03-16-2.06.46-PM.png
END:VEVENT
BEGIN:VEVENT
DTSTART;TZID=America/Vancouver:20270421T190000
DTEND;TZID=America/Vancouver:20270421T220000
DTSTAMP:20260419T112243
CREATED:20260316T181024Z
LAST-MODIFIED:20260316T181024Z
UID:10026482-1808334000-1808344800@livemusickelowna.ca
SUMMARY:Salad Bowl Jam
DESCRIPTION:1st and 3rd Wednesday of every month 7pm – 10pm \nLocation: Unleashed Brewing \nGroove-centric jam: 1st and 3rd Wednesday\nDynamic sign-up\nNO SONGS – JUST JAM! \nAll instruments welcome! \nRules:\n1. Keep it groovy — no songs\, just feel\n2. Jump in — mics open anytime\n3. Uplift — support those who step up
URL:https://livemusickelowna.ca/event/salad-bowl-jam/2027-04-21/
LOCATION:Unleashed Brewing Company\, 880 Clement Ave #207\, Kelowna\, BC\, V1Y 0H8\, Canada
CATEGORIES:Open Mic
ATTACH;FMTTYPE=image/png:https://livemusickelowna.ca/wp-content/uploads/2026/03/Screenshot-2026-03-16-2.06.46-PM.png
END:VEVENT
BEGIN:VEVENT
DTSTART;TZID=America/Vancouver:20270519T190000
DTEND;TZID=America/Vancouver:20270519T220000
DTSTAMP:20260419T112243
CREATED:20260316T181024Z
LAST-MODIFIED:20260316T181024Z
UID:10026483-1810753200-1810764000@livemusickelowna.ca
SUMMARY:Salad Bowl Jam
DESCRIPTION:1st and 3rd Wednesday of every month 7pm – 10pm \nLocation: Unleashed Brewing \nGroove-centric jam: 1st and 3rd Wednesday\nDynamic sign-up\nNO SONGS – JUST JAM! \nAll instruments welcome! \nRules:\n1. Keep it groovy — no songs\, just feel\n2. Jump in — mics open anytime\n3. Uplift — support those who step up
URL:https://livemusickelowna.ca/event/salad-bowl-jam/2027-05-19/
LOCATION:Unleashed Brewing Company\, 880 Clement Ave #207\, Kelowna\, BC\, V1Y 0H8\, Canada
CATEGORIES:Open Mic
ATTACH;FMTTYPE=image/png:https://livemusickelowna.ca/wp-content/uploads/2026/03/Screenshot-2026-03-16-2.06.46-PM.png
END:VEVENT
BEGIN:VEVENT
DTSTART;TZID=America/Vancouver:20270616T190000
DTEND;TZID=America/Vancouver:20270616T220000
DTSTAMP:20260419T112243
CREATED:20260316T181024Z
LAST-MODIFIED:20260316T181024Z
UID:10026484-1813172400-1813183200@livemusickelowna.ca
SUMMARY:Salad Bowl Jam
DESCRIPTION:1st and 3rd Wednesday of every month 7pm – 10pm \nLocation: Unleashed Brewing \nGroove-centric jam: 1st and 3rd Wednesday\nDynamic sign-up\nNO SONGS – JUST JAM! \nAll instruments welcome! \nRules:\n1. Keep it groovy — no songs\, just feel\n2. Jump in — mics open anytime\n3. Uplift — support those who step up
URL:https://livemusickelowna.ca/event/salad-bowl-jam/2027-06-16/
LOCATION:Unleashed Brewing Company\, 880 Clement Ave #207\, Kelowna\, BC\, V1Y 0H8\, Canada
CATEGORIES:Open Mic
ATTACH;FMTTYPE=image/png:https://livemusickelowna.ca/wp-content/uploads/2026/03/Screenshot-2026-03-16-2.06.46-PM.png
END:VEVENT
BEGIN:VEVENT
DTSTART;TZID=America/Vancouver:20270721T190000
DTEND;TZID=America/Vancouver:20270721T220000
DTSTAMP:20260419T112243
CREATED:20260316T181024Z
LAST-MODIFIED:20260316T181024Z
UID:10026485-1816196400-1816207200@livemusickelowna.ca
SUMMARY:Salad Bowl Jam
DESCRIPTION:1st and 3rd Wednesday of every month 7pm – 10pm \nLocation: Unleashed Brewing \nGroove-centric jam: 1st and 3rd Wednesday\nDynamic sign-up\nNO SONGS – JUST JAM! \nAll instruments welcome! \nRules:\n1. Keep it groovy — no songs\, just feel\n2. Jump in — mics open anytime\n3. Uplift — support those who step up
URL:https://livemusickelowna.ca/event/salad-bowl-jam/2027-07-21/
LOCATION:Unleashed Brewing Company\, 880 Clement Ave #207\, Kelowna\, BC\, V1Y 0H8\, Canada
CATEGORIES:Open Mic
ATTACH;FMTTYPE=image/png:https://livemusickelowna.ca/wp-content/uploads/2026/03/Screenshot-2026-03-16-2.06.46-PM.png
END:VEVENT
BEGIN:VEVENT
DTSTART;TZID=America/Vancouver:20270818T190000
DTEND;TZID=America/Vancouver:20270818T220000
DTSTAMP:20260419T112243
CREATED:20260316T181024Z
LAST-MODIFIED:20260316T181024Z
UID:10026486-1818615600-1818626400@livemusickelowna.ca
SUMMARY:Salad Bowl Jam
DESCRIPTION:1st and 3rd Wednesday of every month 7pm – 10pm \nLocation: Unleashed Brewing \nGroove-centric jam: 1st and 3rd Wednesday\nDynamic sign-up\nNO SONGS – JUST JAM! \nAll instruments welcome! \nRules:\n1. Keep it groovy — no songs\, just feel\n2. Jump in — mics open anytime\n3. Uplift — support those who step up
URL:https://livemusickelowna.ca/event/salad-bowl-jam/2027-08-18/
LOCATION:Unleashed Brewing Company\, 880 Clement Ave #207\, Kelowna\, BC\, V1Y 0H8\, Canada
CATEGORIES:Open Mic
ATTACH;FMTTYPE=image/png:https://livemusickelowna.ca/wp-content/uploads/2026/03/Screenshot-2026-03-16-2.06.46-PM.png
END:VEVENT
BEGIN:VEVENT
DTSTART;TZID=America/Vancouver:20270915T190000
DTEND;TZID=America/Vancouver:20270915T220000
DTSTAMP:20260419T112243
CREATED:20260316T181024Z
LAST-MODIFIED:20260316T181024Z
UID:10026487-1821034800-1821045600@livemusickelowna.ca
SUMMARY:Salad Bowl Jam
DESCRIPTION:1st and 3rd Wednesday of every month 7pm – 10pm \nLocation: Unleashed Brewing \nGroove-centric jam: 1st and 3rd Wednesday\nDynamic sign-up\nNO SONGS – JUST JAM! \nAll instruments welcome! \nRules:\n1. Keep it groovy — no songs\, just feel\n2. Jump in — mics open anytime\n3. Uplift — support those who step up
URL:https://livemusickelowna.ca/event/salad-bowl-jam/2027-09-15/
LOCATION:Unleashed Brewing Company\, 880 Clement Ave #207\, Kelowna\, BC\, V1Y 0H8\, Canada
CATEGORIES:Open Mic
ATTACH;FMTTYPE=image/png:https://livemusickelowna.ca/wp-content/uploads/2026/03/Screenshot-2026-03-16-2.06.46-PM.png
END:VEVENT
BEGIN:VEVENT
DTSTART;TZID=America/Vancouver:20271020T190000
DTEND;TZID=America/Vancouver:20271020T220000
DTSTAMP:20260419T112243
CREATED:20260316T181024Z
LAST-MODIFIED:20260316T181024Z
UID:10026488-1824058800-1824069600@livemusickelowna.ca
SUMMARY:Salad Bowl Jam
DESCRIPTION:1st and 3rd Wednesday of every month 7pm – 10pm \nLocation: Unleashed Brewing \nGroove-centric jam: 1st and 3rd Wednesday\nDynamic sign-up\nNO SONGS – JUST JAM! \nAll instruments welcome! \nRules:\n1. Keep it groovy — no songs\, just feel\n2. Jump in — mics open anytime\n3. Uplift — support those who step up
URL:https://livemusickelowna.ca/event/salad-bowl-jam/2027-10-20/
LOCATION:Unleashed Brewing Company\, 880 Clement Ave #207\, Kelowna\, BC\, V1Y 0H8\, Canada
CATEGORIES:Open Mic
ATTACH;FMTTYPE=image/png:https://livemusickelowna.ca/wp-content/uploads/2026/03/Screenshot-2026-03-16-2.06.46-PM.png
END:VEVENT
BEGIN:VEVENT
DTSTART;TZID=America/Vancouver:20271117T190000
DTEND;TZID=America/Vancouver:20271117T220000
DTSTAMP:20260419T112243
CREATED:20260316T181024Z
LAST-MODIFIED:20260316T181024Z
UID:10026489-1826478000-1826488800@livemusickelowna.ca
SUMMARY:Salad Bowl Jam
DESCRIPTION:1st and 3rd Wednesday of every month 7pm – 10pm \nLocation: Unleashed Brewing \nGroove-centric jam: 1st and 3rd Wednesday\nDynamic sign-up\nNO SONGS – JUST JAM! \nAll instruments welcome! \nRules:\n1. Keep it groovy — no songs\, just feel\n2. Jump in — mics open anytime\n3. Uplift — support those who step up
URL:https://livemusickelowna.ca/event/salad-bowl-jam/2027-11-17/
LOCATION:Unleashed Brewing Company\, 880 Clement Ave #207\, Kelowna\, BC\, V1Y 0H8\, Canada
CATEGORIES:Open Mic
ATTACH;FMTTYPE=image/png:https://livemusickelowna.ca/wp-content/uploads/2026/03/Screenshot-2026-03-16-2.06.46-PM.png
END:VEVENT
BEGIN:VEVENT
DTSTART;TZID=America/Vancouver:20271215T190000
DTEND;TZID=America/Vancouver:20271215T220000
DTSTAMP:20260419T112243
CREATED:20260316T181024Z
LAST-MODIFIED:20260316T181024Z
UID:10026490-1828897200-1828908000@livemusickelowna.ca
SUMMARY:Salad Bowl Jam
DESCRIPTION:1st and 3rd Wednesday of every month 7pm – 10pm \nLocation: Unleashed Brewing \nGroove-centric jam: 1st and 3rd Wednesday\nDynamic sign-up\nNO SONGS – JUST JAM! \nAll instruments welcome! \nRules:\n1. Keep it groovy — no songs\, just feel\n2. Jump in — mics open anytime\n3. Uplift — support those who step up
URL:https://livemusickelowna.ca/event/salad-bowl-jam/2027-12-15/
LOCATION:Unleashed Brewing Company\, 880 Clement Ave #207\, Kelowna\, BC\, V1Y 0H8\, Canada
CATEGORIES:Open Mic
ATTACH;FMTTYPE=image/png:https://livemusickelowna.ca/wp-content/uploads/2026/03/Screenshot-2026-03-16-2.06.46-PM.png
END:VEVENT
END:VCALENDAR