BEGIN:VCALENDAR
VERSION:2.0
PRODID:-//Live Music Kelowna - ECPv6.15.18//NONSGML v1.0//EN
CALSCALE:GREGORIAN
METHOD:PUBLISH
X-ORIGINAL-URL:https://livemusickelowna.ca
X-WR-CALDESC:Events for Live Music Kelowna
REFRESH-INTERVAL;VALUE=DURATION:PT1H
X-Robots-Tag:noindex
X-PUBLISHED-TTL:PT1H
BEGIN:VTIMEZONE
TZID:America/Vancouver
BEGIN:DAYLIGHT
TZOFFSETFROM:-0800
TZOFFSETTO:-0700
TZNAME:PDT
DTSTART:20250309T100000
END:DAYLIGHT
BEGIN:STANDARD
TZOFFSETFROM:-0700
TZOFFSETTO:-0800
TZNAME:PST
DTSTART:20251102T090000
END:STANDARD
BEGIN:DAYLIGHT
TZOFFSETFROM:-0800
TZOFFSETTO:-0700
TZNAME:PDT
DTSTART:20260308T100000
END:DAYLIGHT
BEGIN:STANDARD
TZOFFSETFROM:-0700
TZOFFSETTO:-0800
TZNAME:PST
DTSTART:20261101T090000
END:STANDARD
BEGIN:DAYLIGHT
TZOFFSETFROM:-0800
TZOFFSETTO:-0700
TZNAME:PDT
DTSTART:20270314T100000
END:DAYLIGHT
BEGIN:STANDARD
TZOFFSETFROM:-0700
TZOFFSETTO:-0800
TZNAME:PST
DTSTART:20271107T090000
END:STANDARD
END:VTIMEZONE
BEGIN:VEVENT
DTSTART;TZID=America/Vancouver:20260322T193000
DTEND;TZID=America/Vancouver:20260322T193000
DTSTAMP:20260419T145722
CREATED:20260315T074843Z
LAST-MODIFIED:20260315T074843Z
UID:10026378-1774207800-1774207800@livemusickelowna.ca
SUMMARY:GARTH STEVENSON
DESCRIPTION:Garth Stevenson is a double bassist and composer known for creating music in direct communion with the natural world. On a 2010 expedition to Antarctica with biologist Dr. Roger Payne\, Garth imitated whale calls on his double bass\, attracting a dozen sei whales to their icebreaker. In 2025\, he traveled to Baja\, Mexico\, to play for humpback whales. Standing on a small fishing boat\, Stevenson played his bass live through underwater speakers while listening to the underwater sound of humpbacks through hydrophones\, creating an environment where they could hear and respond to each other. These interactions were captured by National Geographic director Andy Mann for an installation at the Museum of Natural History in Mexico City. \nJoin Garth for an evening of music\, storytelling\, and film at the Mary Irwin Theatre. He will be playing alongside footage and underwater recordings of his interactions with whales in Mexico\, telling stories about his time in Antarctica playing music for penguins\, seals\, icebergs\, and premiering music from his new album. \nStick around after the show for a Meet & Greet with Garth!
URL:https://livemusickelowna.ca/event/garth-stevenson/
LOCATION:Rotary Centre for the Arts\, 421 Cawston Ave\, Kelowna\, BC\, V1Y 6Z1\, Canada
CATEGORIES:Mixed Genres,Singer/Songwriter
ATTACH;FMTTYPE=image/jpeg:https://livemusickelowna.ca/wp-content/uploads/2026/03/24e13d3b-9f95-4381-890d-d51e9ae5948b.jpg
END:VEVENT
BEGIN:VEVENT
DTSTART;TZID=America/Vancouver:20260321T193000
DTEND;TZID=America/Vancouver:20260321T193000
DTSTAMP:20260419T145722
CREATED:20260315T074126Z
LAST-MODIFIED:20260315T074126Z
UID:10026377-1774121400-1774121400@livemusickelowna.ca
SUMMARY:PWR/UP
DESCRIPTION:Canada’s Premier Tribute to AC/DC\nPWR/UP. The Best AC/DC You’ll See Without a Time Machine! \nYoung Lads with a devilish passion for AC/DC\, bringing it to you with all the attitude and power of 1980 when AC/DC was Young and Hungry! \nPWR/UP singer Jon Bon Johnson just Wins AC/DC International Singer Spot in Europe. Both Bon and Brian are sung with all the swagger and character that makes them unique\, the vocal transformation is uncanny\, complete down to the body language. Angus tone and riffs for days!! \nGet ready for a Driving night of the finest High Energy Old School AC/DC Rock ’n Roll. \nLet There Be Rock.\nLet there Be…\nPWR/UP \nPricing \nRegular $49.95 ($41.38 base price + $2.36 CIF + $6.21 service charge) \nAll above prices are in CAD and include GST. \n— \nMary Irwin Theatre at the Rotary Centre for the Arts event tickets include a $2.36 Capital Improvement Fee (CIF). A service fee is added for box office costs\, card processing\, and taxes. PWR/UP tickets and their applicable fees are non-refundable.
URL:https://livemusickelowna.ca/event/pwr-up/
LOCATION:Rotary Centre for the Arts\, 421 Cawston Ave\, Kelowna\, BC\, V1Y 6Z1\, Canada
CATEGORIES:Mixed Genres,Rock,Rock & Roll
ATTACH;FMTTYPE=image/jpeg:https://livemusickelowna.ca/wp-content/uploads/2026/03/de7d0e6c-9311-4db5-bebb-dd9fbb3c1076.jpg
END:VEVENT
END:VCALENDAR