BEGIN:VCALENDAR
VERSION:2.0
PRODID:-//Live Music Kelowna - ECPv6.15.18//NONSGML v1.0//EN
CALSCALE:GREGORIAN
METHOD:PUBLISH
X-ORIGINAL-URL:https://livemusickelowna.ca
X-WR-CALDESC:Events for Live Music Kelowna
REFRESH-INTERVAL;VALUE=DURATION:PT1H
X-Robots-Tag:noindex
X-PUBLISHED-TTL:PT1H
BEGIN:VTIMEZONE
TZID:America/Vancouver
BEGIN:DAYLIGHT
TZOFFSETFROM:-0800
TZOFFSETTO:-0700
TZNAME:PDT
DTSTART:20250309T100000
END:DAYLIGHT
BEGIN:STANDARD
TZOFFSETFROM:-0700
TZOFFSETTO:-0800
TZNAME:PST
DTSTART:20251102T090000
END:STANDARD
BEGIN:DAYLIGHT
TZOFFSETFROM:-0800
TZOFFSETTO:-0700
TZNAME:PDT
DTSTART:20260308T100000
END:DAYLIGHT
BEGIN:STANDARD
TZOFFSETFROM:-0700
TZOFFSETTO:-0800
TZNAME:PST
DTSTART:20261101T090000
END:STANDARD
BEGIN:DAYLIGHT
TZOFFSETFROM:-0800
TZOFFSETTO:-0700
TZNAME:PDT
DTSTART:20270314T100000
END:DAYLIGHT
BEGIN:STANDARD
TZOFFSETFROM:-0700
TZOFFSETTO:-0800
TZNAME:PST
DTSTART:20271107T090000
END:STANDARD
END:VTIMEZONE
BEGIN:VEVENT
DTSTART;TZID=America/Vancouver:20260418T193000
DTEND;TZID=America/Vancouver:20260418T193000
DTSTAMP:20260419T131742
CREATED:20260406T093141Z
LAST-MODIFIED:20260406T093141Z
UID:10026720-1776540600-1776540600@livemusickelowna.ca
SUMMARY:BALOURDET QUARTET
DESCRIPTION:The Balourdet Quartet is a prize-winning and passionate ensemble. Recently awarded a 2024 Avery Fisher Career Grant\, the ensemble is quickly becoming one of classical music’s hottest tickets. The Quartet stands out for its vibrant energy and masterful blend of technical precision and emotional depth that brings fresh perspectives to both beloved classics and modern compositions. \nPresented by: Chamber Music Kelowna \nPricing\nAdult: $65.00 ($54.44 + $2.36 CIF + $8.20 Service Fee)\nStudent (with ID): $25.00 ($19.65 + $2.36 CIF + $2.99 Service Fee)\nAll above prices include GST. \n— \nMary Irwin Theatre at the Rotary Centre for the Arts event tickets include a $2.10 Capital Improvement Fee (CIF). A service fee is added for box office costs\, card processing\, and taxes. Chamber Music Kelowna Balourdet Quartet tickets and their applicable fees are non-refundable.
URL:https://livemusickelowna.ca/event/balourdet-quartet/
LOCATION:Rotary Centre for the Arts\, 421 Cawston Ave\, Kelowna\, BC\, V1Y 6Z1\, Canada
CATEGORIES:Classical
ATTACH;FMTTYPE=image/jpeg:https://livemusickelowna.ca/wp-content/uploads/2026/04/16b87127-d2ec-4201-b79e-ba44bade57db.jpg
END:VEVENT
BEGIN:VEVENT
DTSTART;TZID=America/Vancouver:20260411T200000
DTEND;TZID=America/Vancouver:20260411T200000
DTSTAMP:20260419T131742
CREATED:20260329T200044Z
LAST-MODIFIED:20260329T200044Z
UID:10026641-1775937600-1775937600@livemusickelowna.ca
SUMMARY:CANADIAN STEAM
DESCRIPTION:The Comedy Department presents\nCANADIAN STEAM \nCanadian Steam: A Music & Comedy Show with Mildly Sexy Lumberjacks! \nIt’s Whose Line is it Anyway meets The Thunder from Down Under! \nThe cast of Canadian Steam has rocked stages at Just for Laughs\, picked up Canadian Comedy Awards\, and performed with Second City – appearing on CBC’s The Debaters\, Netflix\, and Amazon Prime. Now they’re bringing you a comedy show that’s 100% Canadian and 1000% ridiculous. \nCanadian Steam: They’re Polite\, But Not Tonight.\nThis flannel-fueled night of music and comedy features:\n* Hilarious improvised songs & sketch\n* Dangerously enthusiastic dance numbers\n* Exciting crowd work!\n* The perfect amount of jaw-dropping “eh”-rotica!\n* And plenty of Cheeky Canadian charm \nThey’ll improvise and tantalize Great White North style! \nClick Here to Watch them in Action! \nFrom the creators at The Comedy Department – winners of the 2025 TripAdvisor Travellers’ Choice Award\, this laugh-out-loud sexy spectacle has been delighting audiences everywhere. \nCheck out these rave reviews! TripAdvisor 5-Star Reviews! \nThese flannel-clad heartthrobs have been officially dispatched by the Ministry of Sexy™ (yes\, that’s totally a thing) to prove that Canada isn’t just nice – it’s devastatingly funny. But here’s the twist: YOU decide if they’ve earned the Official Stamp of Sexy at the end of the night. Your cheers\, your laughter\, your votes hold the power. \nIf not? They’ll be politely asked to hang up their plaid and retreat quietly to their log cabins in shame. Armed with maple syrup\, silky serenades\, some of the most averagely sexy bods this side of the Rockies\, these lumberjacks are on a government-sanctioned mission to bring the funny and the heat – one Timbit-loving town at a time. \nSo whether you’re out with your crew\, celebrating something big\, or just craving a night of maple-drenched mayhem – Canadian Steam is the comedy experience you didn’t even know was included in your healthcare. \nGrab your tickets now – before the Ministry pulls the plug on their sexy mission. \nFind out more! Canadian Steam Website. \nThis event is for ages 19+ only. \nPricing\nAdult $61.53 ($51.45 base price + $2.36 CIF + $7.72 service charge)\nSenior $56.70 ($47.25 base price + $2.36 CIF + $7.09 service charge) \nGroup Rate available for groups of 6 or more when purchased in a single transaction! \nAll above prices include GST. \n— \nMary Irwin Theatre at the Rotary Centre for the Arts event tickets include a $2.36 Capital Improvement Fee (CIF). A service fee is added for box office costs\, card processing\, and taxes. Canadian Steam Tickets and their applicable fees are non-refundable.
URL:https://livemusickelowna.ca/event/canadian-steam/
LOCATION:Rotary Centre for the Arts\, 421 Cawston Ave\, Kelowna\, BC\, V1Y 6Z1\, Canada
CATEGORIES:Comedy,Mixed Genres
ATTACH;FMTTYPE=image/jpeg:https://livemusickelowna.ca/wp-content/uploads/2026/03/49c0fc59-d532-4661-8814-4c6ce48ceb52.jpg
END:VEVENT
BEGIN:VEVENT
DTSTART;TZID=America/Vancouver:20260410T193000
DTEND;TZID=America/Vancouver:20260410T193000
DTSTAMP:20260419T131742
CREATED:20260329T195811Z
LAST-MODIFIED:20260329T195811Z
UID:10026640-1775849400-1775849400@livemusickelowna.ca
SUMMARY:CREEDENCE CLEARWATER RELIVED
DESCRIPTION:BMR Entertainment Ltd. presents\nCREEDENCE CLEARWATER RELIVED\nBad Moon Riders CCR Tribute Concert \nCREEDENCE CLEARWATER RELIVED – Bad Moon Riders CCR Tribute Concert returns to the Rotary Centre for the Arts for a night of Creedence Clearwater revival! The Bad Moon Riders bring the hits of Creedence to life in an unforgettable tribute concert. Members of BTO and the Headpins deliver ALL the hits All Nite long in this epic event celebrating the music of one of the greatest bands of all time. Grab your tickets now! \nPricing \nRegular $49.95 ($41.38 base price + $2.36 CIF + $6.21 service charge) \nAll above prices are in CAD and include GST. \n— \nMary Irwin Theatre at the Rotary Centre for the Arts event tickets include a $2.36 Capital Improvement Fee (CIF). A service fee is added for box office costs\, card processing\, and taxes. Creedence Clearwater Relived -Bad Moon Riders CCR Tribute Concert tickets and their applicable fees are non-refundable.
URL:https://livemusickelowna.ca/event/creedence-clearwater-relived/
LOCATION:Rotary Centre for the Arts\, 421 Cawston Ave\, Kelowna\, BC\, V1Y 6Z1\, Canada
CATEGORIES:Concert
ATTACH;FMTTYPE=image/jpeg:https://livemusickelowna.ca/wp-content/uploads/2026/03/64fe7ddc-977d-4607-a7f8-2c9b813a1d83.jpg
END:VEVENT
BEGIN:VEVENT
DTSTART;TZID=America/Vancouver:20260409T193000
DTEND;TZID=America/Vancouver:20260409T193000
DTSTAMP:20260419T131742
CREATED:20260329T195629Z
LAST-MODIFIED:20260329T195629Z
UID:10026639-1775763000-1775763000@livemusickelowna.ca
SUMMARY:BARNEY BENTALL
DESCRIPTION:Rotary Centre for the Arts presents\nBARNEY BENTALL\nMy Life in Ranching and Rock & Roll \nCanadian music legend Barney Bentall\, best known as the frontman of Barney Bentall and the Legendary Hearts\, brings his storied career to the stage in a powerful new solo performance. Blending songs\, heartfelt stories from the ranch and road\, and captivating visuals\, this intimate show offers a rare glimpse into the life of one of Canada’s most celebrated singer-songwriters. Joining Barney are Cindy Fairbank on piano\, accordion\, and vocals\, along with Kirby Barber on bass\, guitar\, and vocals. \nOver the course of his career\, Barney has earned a Juno Award for Most Promising Group of the Year\, multiple Juno nominations\, Canadian Country Music Association awards\, and induction into both the Canadian Music Hall of Fame and the BC Entertainment Hall of Fame. These accolades reflect his contributions across decades of work in rock\, country\, and folk\, not just his solo material\, but his full journey through Canada’s musical landscape. \nFrom the artist:\nPeople often ask if I am going to write a book about my life. Well… this performance is my attempt to tell the story. To tell it in a way that works for me. \nThrough the spoken word\, through my songs and with lots of visuals…. the beautiful landscapes of life on the ranch along with scenes taken from a life lived on stage\, backstage\, on the road and in front of a microphone. \nI hope you enjoy it. \nImagine an evening that is somewhere between Clarkson’s Farm and Springsteen on Broadway. \nFor more information visit: https://www.barneybentall.com \nRCA Theatre Member sales start Thursday\, September 18\, 2025.\nGeneral public sales start Thursday\, September 25\, 2025. \nPricing \nRegular: $65.00 ($58.75 + $2.36 CIF + $6.25 Service Fee)\n30 under 30: $48.68 ($40.28 + $2.36 CIF + $6.04 Service Fee) \nAll above prices include GST. \n— \nMary Irwin Theatre at the Rotary Centre for the Arts event tickets include a $2.36 Capital Improvement Fee (CIF). A service fee is added for box office costs\, card processing\, and taxes. Barney Bentall tickets and their applicable fees are non-refundable.
URL:https://livemusickelowna.ca/event/barney-bentall/
LOCATION:Rotary Centre for the Arts\, 421 Cawston Ave\, Kelowna\, BC\, V1Y 6Z1\, Canada
CATEGORIES:Rock & Roll
ATTACH;FMTTYPE=image/jpeg:https://livemusickelowna.ca/wp-content/uploads/2026/03/74401eb8-0685-4bfd-ad33-769d491a7200.jpg
END:VEVENT
BEGIN:VEVENT
DTSTART;TZID=America/Vancouver:20260409T190000
DTEND;TZID=America/Vancouver:20260409T210000
DTSTAMP:20260419T131742
CREATED:20251009T192558Z
LAST-MODIFIED:20251009T200235Z
UID:10023966-1775761200-1775768400@livemusickelowna.ca
SUMMARY:Open Mic!
DESCRIPTION:MUSICIANS\, SPOKEN WORD ARTISTS\, AND COMEDIANS OF ALL GENRES\, AGES\, AND SKILL LEVELS ARE WELCOME TO SHARE THEIR WORK IN A SUPPORTIVE SETTING.
URL:https://livemusickelowna.ca/event/open-mic/2026-04-09/
LOCATION:Rotary Centre for the Arts\, 421 Cawston Ave\, Kelowna\, BC\, V1Y 6Z1\, Canada
CATEGORIES:Open Mic
ATTACH;FMTTYPE=image/jpeg:https://livemusickelowna.ca/wp-content/uploads/2025/10/54423F73-2B75-4BF4-846B-0B046DBEC55A.jpg
END:VEVENT
BEGIN:VEVENT
DTSTART;TZID=America/Vancouver:20260402T193000
DTEND;TZID=America/Vancouver:20260402T210000
DTSTAMP:20260419T131742
CREATED:20260330T153837Z
LAST-MODIFIED:20260330T153837Z
UID:10026671-1775158200-1775163600@livemusickelowna.ca
SUMMARY:Curves & EDGES celebrate EASTER and Retro 60s -80s
DESCRIPTION:“First Thursdays in the RCA Atrium”CURVES and EDGES is a harmony driven\, piano\, percussion DUO with an eclectic style\, distinctly influenced by Tricia Dalgleish and Shelly Vida’s individual Curves & Edges in life and music. Their eclectic style delivers sassy spirited songs and delicious harmonies with a NEW THEME each month.\nApril is EASTER and bring the Themes of Family and Love along with some Retro 60-80s music.\nWe celebrate Easter with a Whole Lotta Feel Good and Inspiration with songs we seldom get a chance to do by ARTISTS such as Finneas\, The Highwomen\, Quincy Jones and some fun classics from the Retro 60\,70 and 80’s eras and Diverse Genres.\nNOTE: Our new longer set times…..7:30- 9:00PMLocation: Atrium Everyone Welcome!By CASH Donation so please bring some CASH for the TIP jars and bring a FUN friend.\nFOLLOW US FB: CurvesEdgesDuo\nPop~ R&B ~ Classical ~ Latin ~ Jazz ~ World ~ aCappella\nBooking: patriciadalgleish.com pmdalgleish@gmail.com Shellyvida@gmail.com
URL:https://livemusickelowna.ca/event/curves-edges-celebrate-easter-and-retro-60s-80s/
LOCATION:Rotary Centre for the Arts\, 421 Cawston Ave\, Kelowna\, BC\, V1Y 6Z1\, Canada
CATEGORIES:60's,70's,80's,Mixed Genres
ATTACH;FMTTYPE=image/jpeg:https://livemusickelowna.ca/wp-content/uploads/2026/03/641198941_1240867274843794_3788782021955928210_n.jpg
END:VEVENT
BEGIN:VEVENT
DTSTART;TZID=America/Vancouver:20260402T193000
DTEND;TZID=America/Vancouver:20260402T193000
DTSTAMP:20260419T131742
CREATED:20260329T194337Z
LAST-MODIFIED:20260329T194833Z
UID:10026638-1775158200-1775158200@livemusickelowna.ca
SUMMARY:U4
DESCRIPTION:BMR Entertainment presents\nU4\nAn Epic Evening of U2 \nU2 By U4 . NOT JUST ANOTHER CLASSIC ROCK SHOW. APRIL 2nd\, It’s an epic evening of high highs and deep emotion at the Rotary Center For The Arts. Featuring members of Canada’s Trooper\, you receive the complete U2 experience\, from the legendary ‘Joshua Tree’ period to ‘How To Dismantle An Atomic Bomb’\, all eras are covered with equal attention to detail. U4 is not just incredible musicians\, but a theatrical experience which engages\, and captivates audiences\, U4 is a must see show for all music lovers. \nPricing\nRegular $49.95 ($41.07 base price + $2.36 CIF + $6.52 service charge) \nAll above prices are CAD and include GST. \n— \nMary Irwin Theatre at the Rotary Centre for the Arts event tickets include a $2.36 Capital Improvement Fee (CIF). A service fee is added for box office costs\, card processing\, and taxes. U4 – An Epic Evening of U2 tickets and their applicable fees are non-refundable.
URL:https://livemusickelowna.ca/event/u4/
LOCATION:Rotary Centre for the Arts\, 421 Cawston Ave\, Kelowna\, BC\, V1Y 6Z1\, Canada
CATEGORIES:Classic Rock
ATTACH;FMTTYPE=image/jpeg:https://livemusickelowna.ca/wp-content/uploads/2026/03/d168d709-c5e4-4433-878e-aa6ed5f8584b.jpg
END:VEVENT
BEGIN:VEVENT
DTSTART;TZID=America/Vancouver:20260328T193000
DTEND;TZID=America/Vancouver:20260328T193000
DTSTAMP:20260419T131742
CREATED:20260323T021323Z
LAST-MODIFIED:20260323T021323Z
UID:10026541-1774726200-1774726200@livemusickelowna.ca
SUMMARY:LET'S GO SURFIN'!
DESCRIPTION:A Musical Salute to the Beach Boys\nGet ready to be swept away by the timeless melodies of the Beach Boys! Join us for a nostalgic evening filled with their iconic hits and concert favorites. Let’s Go Surfin’! is performed by BACKBEAT\, Canada’s most authentic musical tribute to the 60’s. They nail the incredibly intricate Beach Boys harmonies perfectly! All the genius of Brian Wilson’s songwriting and studio wizardry blossoms on stage in a spectacular musical salute to one of the greatest pop groups of all time! \nAll the hits are here! From the energetic “Fun\, Fun\, Fun” and “Surfin’ USA” to the emotional masterpieces like “Don’t Worry\, Baby” and “God Only Knows”\, this show will take you on a musical journey through the sunshine-soaked sounds of California. Feel the sand between your toes and the warmth of the summer sun on your face as you sing along to your favourite Beach Boys classics. \nDon’t miss this unforgettable opportunity to relive the music and the magic of The Beach Boys. in a spectacular tribute of both sight and sound.
URL:https://livemusickelowna.ca/event/lets-go-surfin/
LOCATION:Rotary Centre for the Arts\, 421 Cawston Ave\, Kelowna\, BC\, V1Y 6Z1\, Canada
CATEGORIES:Mixed Genres
ATTACH;FMTTYPE=image/jpeg:https://livemusickelowna.ca/wp-content/uploads/2026/03/9db1165b-d700-4a68-8f3b-9eae136a8a62.jpg
END:VEVENT
BEGIN:VEVENT
DTSTART;TZID=America/Vancouver:20260327T193000
DTEND;TZID=America/Vancouver:20260327T220000
DTSTAMP:20260419T131742
CREATED:20260323T182712Z
LAST-MODIFIED:20260323T182712Z
UID:10026605-1774639800-1774648800@livemusickelowna.ca
SUMMARY:MARYJANE'S LAST DANCE: Canada's Ultimate Tribute to Tom Petty & The Heartbreakers!
DESCRIPTION:MARYJANE’S LAST DANCE – CANADA’S ULTIMATE TRIBUTE TO TOM PETTY & THE HEARTBREAKERS! \nFounded in 2010\, Steve Mathieson whose remarkable skill and talent captures the true spirit of Tom Petty with the help of his amazing band MARYJANE’S LAST DANCE! \nThey have performed their memorable tribute to Tom Petty & The Heartbreakers in various venues including outdoor festivals\, theatres and car shows! \nJoin us for an unforgettable evening as we pay tribute to the legendary Tom Petty! \nGrab your friends & get ready to rock out to all your favourite Tom Petty hits including REFUGEE\, I WON’T BACK DOWN\, RUNNING DOWN A DREAM and many more! \nIf you are a Tom Petty fan\, you will not want to miss MARYJANE’S LAST DANCE with their exciting tribute to the musical essence and magical spirit of TOM PETTY & THE HEARTBREAKERS!
URL:https://livemusickelowna.ca/event/maryjanes-last-dance-canadas-ultimate-tribute-to-tom-petty-the-heartbreakers/
LOCATION:Rotary Centre for the Arts\, 421 Cawston Ave\, Kelowna\, BC\, V1Y 6Z1\, Canada
CATEGORIES:Rock
ATTACH;FMTTYPE=image/jpeg:https://livemusickelowna.ca/wp-content/uploads/2026/03/3c9b3f55-4f81-4648-8893-6d4cb54625df.jpg
END:VEVENT
BEGIN:VEVENT
DTSTART;TZID=America/Vancouver:20260326T193000
DTEND;TZID=America/Vancouver:20260326T213000
DTSTAMP:20260419T131742
CREATED:20250921T182523Z
LAST-MODIFIED:20250921T182523Z
UID:10023819-1774553400-1774560600@livemusickelowna.ca
SUMMARY:Tina Leon
DESCRIPTION:Tina Leon is a singer-songwriter from Montreal who draws her inspiration from the Motown generation and the soul music of the last decades. Having already sung and collaborated with Stevie Wonder\, DJ Champion and Garou under the artist name Marie-Christine Depestre\, she now appears in a new light\, more authentic and full of life than ever. In reference to the nickname given to her by her family and in homage to her maternal grandmother\, this choice of a new stage name is a way for her to fully express her personality\, to assert her art and thus to find a form of balance. \nDescribing herself as a rainbow of soul\, her first EP “Push” (August 26\, 2022\, via Ensoul Records) is a colorful journey through jazzy\, funk\, and pop rhythms with rich and enchanting melodies. \n“Tina Leon is a rising star in the R&B and Neo Soul genres whose music has the ability to uplift and inspire. She keeps drawing crowds in and securing her position in the Canadian music scene with her distinctive sound and heartfelt performances. Watch out for this budding star as she makes waves with her moving songs and amazing skill.” – Viberate \nFor more information\, visit https://tinaleonofficial.com/
URL:https://livemusickelowna.ca/event/tina-leon/
LOCATION:Rotary Centre for the Arts\, 421 Cawston Ave\, Kelowna\, BC\, V1Y 6Z1\, Canada
CATEGORIES:Singer/Songwriter,Soul,Vocalist
ATTACH;FMTTYPE=image/jpeg:https://livemusickelowna.ca/wp-content/uploads/2025/09/unnamed-2.jpg
END:VEVENT
BEGIN:VEVENT
DTSTART;TZID=America/Vancouver:20260326T193000
DTEND;TZID=America/Vancouver:20260326T210000
DTSTAMP:20260419T131742
CREATED:20260323T190608Z
LAST-MODIFIED:20260323T190608Z
UID:10026606-1774553400-1774558800@livemusickelowna.ca
SUMMARY:Bluegrass Night
DESCRIPTION:Join us for Bluegrass Night with the Summerland Bluegrass Society. \nThis unique open mic invites you to jam alongside seasoned musicians. Accomplished banjo player Mickey Reeves has gathered some of the best bluegrass pickers in town for an evening of lively tunes and great company. \nThu. Mar 26 | 7:30 PM | By Donation \nWe hope to see you there.
URL:https://livemusickelowna.ca/event/bluegrass-night/2026-03-26/
LOCATION:Rotary Centre for the Arts\, 421 Cawston Ave\, Kelowna\, BC\, V1Y 6Z1\, Canada
CATEGORIES:Bluegrass
ATTACH;FMTTYPE=image/jpeg:https://livemusickelowna.ca/wp-content/uploads/2026/03/bluegrass.jpg
END:VEVENT
BEGIN:VEVENT
DTSTART;TZID=America/Vancouver:20260323T193000
DTEND;TZID=America/Vancouver:20260323T213000
DTSTAMP:20260419T131742
CREATED:20260316T154357Z
LAST-MODIFIED:20260316T154357Z
UID:10026398-1774294200-1774301400@livemusickelowna.ca
SUMMARY:Lennon & McCartney: In Their Own Words and Music
DESCRIPTION:In Their Own Words and Music\nAn Unmissable Event for All Music Lovers \nA Rockumentary Tribute Featuring Michael Sicoly and Mick Dalla-Vee \n“THESE GUYS SOUND JUST LIKE THE BEATLES!” \nDive into the world of John Lennon and Paul McCartney\, two of the most iconic and influential songwriters of all time\, with “Lennon & McCartney: In Their Own Words and Music.” This extraordinary live tribute\, featuring acclaimed performers Michael Sicoly and Mick Dalla-Vee\, brings the legacy of these two musical giants to life in an immersive Rockumentary experience. \nA Journey Back to the 1960s \nAudiences will be transported to 1960s Liverpool\, the birthplace of The Beatles\, as Sicoly and Dalla-Vee recreate the magic of Lennon and McCartney’s unforgettable partnership. Through live performances of their greatest hits\, this tribute showcases the duo’s meteoric rise during the British Invasion and explores the cultural and musical impact that transformed the world. \nMultimedia Spectacle \nThis unique production blends video footage\, interviews\, and insightful narration with a meticulously crafted live performance\, offering an intimate look at the songwriting genius of Lennon & McCartney. The multimedia enhancement delivers an emotional and educational experience\, shedding light on the personal stories behind the music and the duo’s collaboration. \nFrom early tracks that launched The Beatles into stardom to later masterpieces that showcased their musical evolution\, “Lennon & McCartney: In Their Own Words and Music” captures the heart and soul of two of history’s most beloved songwriters. \nA Moving Tribute \nMore than just a concert\, this tribute reveals the wit\, charm\, and depth of Lennon and McCartney’s partnership. Their songs—timeless\, poignant\, and packed with devil-may-care humour—come alive in this compelling live production. The audience will feel as though they are stepping into history\, witnessing first-hand the artistry that made Lennon & McCartney the most successful songwriting duo in music history. \nAn Unmissable Event for All Music Lovers \nWhether you’ve grown up with The Beatles or are discovering their music for the first time\, “Lennon & McCartney: In Their Own Words and Music” is a must-see show that celebrates the songs that defined a generation and continues to inspire new audiences around the world. \nAbout Michael Sicoly and Mick Dalla-Vee: \nMichael Sicoly and Mick Dalla-Vee are veteran performers with a deep passion for honouring the music of Lennon and McCartney. Both are seasoned entertainers\, known for their ability to authentically capture the spirit and sound of legendary artists while delivering performances that are both dynamic and heartfelt. \nPricing \nRegular $49.95 ($41.07 base price + $2.36 CIF + $6.52 service charge) \nAll above prices are CAD and include GST. \n— \nMary Irwin Theatre at the Rotary Centre for the Arts event tickets include a $2.36 Capital Improvement Fee (CIF). A service fee is added for box office costs\, card processing\, and taxes. Lennon & McCartney tickets and their applicable fees are non-refundable.
URL:https://livemusickelowna.ca/event/lennon-mccartney-in-their-own-words-and-music/
LOCATION:Rotary Centre for the Arts\, 421 Cawston Ave\, Kelowna\, BC\, V1Y 6Z1\, Canada
CATEGORIES:Rock,Tribute
ATTACH;FMTTYPE=image/jpeg:https://livemusickelowna.ca/wp-content/uploads/2026/03/641266880_1348614240627401_934726350388850705_n.jpg
END:VEVENT
BEGIN:VEVENT
DTSTART;TZID=America/Vancouver:20260322T193000
DTEND;TZID=America/Vancouver:20260322T193000
DTSTAMP:20260419T131742
CREATED:20260315T074843Z
LAST-MODIFIED:20260315T074843Z
UID:10026378-1774207800-1774207800@livemusickelowna.ca
SUMMARY:GARTH STEVENSON
DESCRIPTION:Garth Stevenson is a double bassist and composer known for creating music in direct communion with the natural world. On a 2010 expedition to Antarctica with biologist Dr. Roger Payne\, Garth imitated whale calls on his double bass\, attracting a dozen sei whales to their icebreaker. In 2025\, he traveled to Baja\, Mexico\, to play for humpback whales. Standing on a small fishing boat\, Stevenson played his bass live through underwater speakers while listening to the underwater sound of humpbacks through hydrophones\, creating an environment where they could hear and respond to each other. These interactions were captured by National Geographic director Andy Mann for an installation at the Museum of Natural History in Mexico City. \nJoin Garth for an evening of music\, storytelling\, and film at the Mary Irwin Theatre. He will be playing alongside footage and underwater recordings of his interactions with whales in Mexico\, telling stories about his time in Antarctica playing music for penguins\, seals\, icebergs\, and premiering music from his new album. \nStick around after the show for a Meet & Greet with Garth!
URL:https://livemusickelowna.ca/event/garth-stevenson/
LOCATION:Rotary Centre for the Arts\, 421 Cawston Ave\, Kelowna\, BC\, V1Y 6Z1\, Canada
CATEGORIES:Mixed Genres,Singer/Songwriter
ATTACH;FMTTYPE=image/jpeg:https://livemusickelowna.ca/wp-content/uploads/2026/03/24e13d3b-9f95-4381-890d-d51e9ae5948b.jpg
END:VEVENT
BEGIN:VEVENT
DTSTART;TZID=America/Vancouver:20260321T193000
DTEND;TZID=America/Vancouver:20260321T193000
DTSTAMP:20260419T131742
CREATED:20260315T074126Z
LAST-MODIFIED:20260315T074126Z
UID:10026377-1774121400-1774121400@livemusickelowna.ca
SUMMARY:PWR/UP
DESCRIPTION:Canada’s Premier Tribute to AC/DC\nPWR/UP. The Best AC/DC You’ll See Without a Time Machine! \nYoung Lads with a devilish passion for AC/DC\, bringing it to you with all the attitude and power of 1980 when AC/DC was Young and Hungry! \nPWR/UP singer Jon Bon Johnson just Wins AC/DC International Singer Spot in Europe. Both Bon and Brian are sung with all the swagger and character that makes them unique\, the vocal transformation is uncanny\, complete down to the body language. Angus tone and riffs for days!! \nGet ready for a Driving night of the finest High Energy Old School AC/DC Rock ’n Roll. \nLet There Be Rock.\nLet there Be…\nPWR/UP \nPricing \nRegular $49.95 ($41.38 base price + $2.36 CIF + $6.21 service charge) \nAll above prices are in CAD and include GST. \n— \nMary Irwin Theatre at the Rotary Centre for the Arts event tickets include a $2.36 Capital Improvement Fee (CIF). A service fee is added for box office costs\, card processing\, and taxes. PWR/UP tickets and their applicable fees are non-refundable.
URL:https://livemusickelowna.ca/event/pwr-up/
LOCATION:Rotary Centre for the Arts\, 421 Cawston Ave\, Kelowna\, BC\, V1Y 6Z1\, Canada
CATEGORIES:Mixed Genres,Rock,Rock & Roll
ATTACH;FMTTYPE=image/jpeg:https://livemusickelowna.ca/wp-content/uploads/2026/03/de7d0e6c-9311-4db5-bebb-dd9fbb3c1076.jpg
END:VEVENT
END:VCALENDAR