BEGIN:VCALENDAR
VERSION:2.0
PRODID:-//Live Music Kelowna - ECPv6.15.20//NONSGML v1.0//EN
CALSCALE:GREGORIAN
METHOD:PUBLISH
X-WR-CALNAME:Live Music Kelowna
X-ORIGINAL-URL:https://livemusickelowna.ca
X-WR-CALDESC:Events for Live Music Kelowna
REFRESH-INTERVAL;VALUE=DURATION:PT1H
X-Robots-Tag:noindex
X-PUBLISHED-TTL:PT1H
BEGIN:VTIMEZONE
TZID:America/Vancouver
BEGIN:DAYLIGHT
TZOFFSETFROM:-0800
TZOFFSETTO:-0700
TZNAME:PDT
DTSTART:20250309T100000
END:DAYLIGHT
BEGIN:STANDARD
TZOFFSETFROM:-0700
TZOFFSETTO:-0800
TZNAME:PST
DTSTART:20251102T090000
END:STANDARD
BEGIN:DAYLIGHT
TZOFFSETFROM:-0800
TZOFFSETTO:-0700
TZNAME:PDT
DTSTART:20260308T100000
END:DAYLIGHT
BEGIN:STANDARD
TZOFFSETFROM:-0700
TZOFFSETTO:-0800
TZNAME:PST
DTSTART:20261101T090000
END:STANDARD
BEGIN:DAYLIGHT
TZOFFSETFROM:-0800
TZOFFSETTO:-0700
TZNAME:PDT
DTSTART:20270314T100000
END:DAYLIGHT
BEGIN:STANDARD
TZOFFSETFROM:-0700
TZOFFSETTO:-0800
TZNAME:PST
DTSTART:20271107T090000
END:STANDARD
END:VTIMEZONE
BEGIN:VEVENT
DTSTART;TZID=America/Vancouver:20260411T193000
DTEND;TZID=America/Vancouver:20260411T193000
DTSTAMP:20260421T070347
CREATED:20260406T140339Z
LAST-MODIFIED:20260406T140339Z
UID:10026730-1775935800-1775935800@livemusickelowna.ca
SUMMARY:Lee Brice: Sunriser Tour
DESCRIPTION:Lee Brice: Sunriser Tour\nWith Special Guests Grace Tyler & Brett Kissel\nProspera Place\nSaturday\, April 11\, 2026 \nMore information coming soon!
URL:https://livemusickelowna.ca/event/lee-brice-sunriser-tour/
LOCATION:Prospera Place\, 1223 Water St\, Kelowna\, British Columbia\, V1Y 9V1\, Canada
CATEGORIES:Mixed Genres,Singer/Songwriter
ATTACH;FMTTYPE=image/png:https://livemusickelowna.ca/wp-content/uploads/2026/04/Static_Venue_1130x628_LeeBrice_2026_Regional_ProsperaPlace_0411_Website-1.png
END:VEVENT
BEGIN:VEVENT
DTSTART;TZID=America/Vancouver:20260322T193000
DTEND;TZID=America/Vancouver:20260322T230000
DTSTAMP:20260421T070347
CREATED:20260316T180128Z
LAST-MODIFIED:20260316T180128Z
UID:10026467-1774207800-1774220400@livemusickelowna.ca
SUMMARY:Goo Goo Dolls With Dashboard Confessional
DESCRIPTION:Goo Goo Dolls will continue to take their lauded live show back on the road in 2026 with a run of Canadian tour dates with Dashboard Confessional.
URL:https://livemusickelowna.ca/event/goo-goo-dolls-with-dashboard-confessional/
LOCATION:Prospera Place\, 1223 Water St\, Kelowna\, British Columbia\, V1Y 9V1\, Canada
CATEGORIES:Pop Rock
ATTACH;FMTTYPE=image/jpeg:https://livemusickelowna.ca/wp-content/uploads/2026/03/goo_goo_dolls_149241_l.jpg
END:VEVENT
END:VCALENDAR