BEGIN:VCALENDAR
VERSION:2.0
PRODID:-//Live Music Kelowna - ECPv6.15.18//NONSGML v1.0//EN
CALSCALE:GREGORIAN
METHOD:PUBLISH
X-WR-CALNAME:Live Music Kelowna
X-ORIGINAL-URL:https://livemusickelowna.ca
X-WR-CALDESC:Events for Live Music Kelowna
REFRESH-INTERVAL;VALUE=DURATION:PT1H
X-Robots-Tag:noindex
X-PUBLISHED-TTL:PT1H
BEGIN:VTIMEZONE
TZID:America/Vancouver
BEGIN:DAYLIGHT
TZOFFSETFROM:-0800
TZOFFSETTO:-0700
TZNAME:PDT
DTSTART:20250309T100000
END:DAYLIGHT
BEGIN:STANDARD
TZOFFSETFROM:-0700
TZOFFSETTO:-0800
TZNAME:PST
DTSTART:20251102T090000
END:STANDARD
BEGIN:DAYLIGHT
TZOFFSETFROM:-0800
TZOFFSETTO:-0700
TZNAME:PDT
DTSTART:20260308T100000
END:DAYLIGHT
BEGIN:STANDARD
TZOFFSETFROM:-0700
TZOFFSETTO:-0800
TZNAME:PST
DTSTART:20261101T090000
END:STANDARD
BEGIN:DAYLIGHT
TZOFFSETFROM:-0800
TZOFFSETTO:-0700
TZNAME:PDT
DTSTART:20270314T100000
END:DAYLIGHT
BEGIN:STANDARD
TZOFFSETFROM:-0700
TZOFFSETTO:-0800
TZNAME:PST
DTSTART:20271107T090000
END:STANDARD
END:VTIMEZONE
BEGIN:VEVENT
DTSTART;TZID=America/Vancouver:20260423T190000
DTEND;TZID=America/Vancouver:20260423T213000
DTSTAMP:20260419T094656
CREATED:20260119T195939Z
LAST-MODIFIED:20260119T195939Z
UID:10025634-1776970800-1776979800@livemusickelowna.ca
SUMMARY:Thursday Night Dance
DESCRIPTION:Dance every Thursday to Vic Ukrainetz\, Carol & Andrea (on Sax)\, 7 – 9:30 pm. Join us for Two steps\, foxtrots\, waltzes\, Polkas\, Cha Chas\, Rumbas\, some old time pattern and just plain fun. Parkinson Activity Centre\, 1700 Parkinson Way\, Kelowna. For info call 250-212-6216
URL:https://livemusickelowna.ca/event/thursday-night-dance/2026-04-23/
LOCATION:Parkinson Activity Centre\, 1700 Parkinson Way\, Kelowna\, Canada
CATEGORIES:Mixed Genres
ATTACH;FMTTYPE=image/jpeg:https://livemusickelowna.ca/wp-content/uploads/2026/01/thursday_night_dance_149580_l.jpg
END:VEVENT
BEGIN:VEVENT
DTSTART;TZID=America/Vancouver:20260430T190000
DTEND;TZID=America/Vancouver:20260430T213000
DTSTAMP:20260419T094656
CREATED:20260119T195939Z
LAST-MODIFIED:20260119T195939Z
UID:10025635-1777575600-1777584600@livemusickelowna.ca
SUMMARY:Thursday Night Dance
DESCRIPTION:Dance every Thursday to Vic Ukrainetz\, Carol & Andrea (on Sax)\, 7 – 9:30 pm. Join us for Two steps\, foxtrots\, waltzes\, Polkas\, Cha Chas\, Rumbas\, some old time pattern and just plain fun. Parkinson Activity Centre\, 1700 Parkinson Way\, Kelowna. For info call 250-212-6216
URL:https://livemusickelowna.ca/event/thursday-night-dance/2026-04-30/
LOCATION:Parkinson Activity Centre\, 1700 Parkinson Way\, Kelowna\, Canada
CATEGORIES:Mixed Genres
ATTACH;FMTTYPE=image/jpeg:https://livemusickelowna.ca/wp-content/uploads/2026/01/thursday_night_dance_149580_l.jpg
END:VEVENT
BEGIN:VEVENT
DTSTART;TZID=America/Vancouver:20260507T190000
DTEND;TZID=America/Vancouver:20260507T213000
DTSTAMP:20260419T094656
CREATED:20260119T195939Z
LAST-MODIFIED:20260119T195939Z
UID:10025636-1778180400-1778189400@livemusickelowna.ca
SUMMARY:Thursday Night Dance
DESCRIPTION:Dance every Thursday to Vic Ukrainetz\, Carol & Andrea (on Sax)\, 7 – 9:30 pm. Join us for Two steps\, foxtrots\, waltzes\, Polkas\, Cha Chas\, Rumbas\, some old time pattern and just plain fun. Parkinson Activity Centre\, 1700 Parkinson Way\, Kelowna. For info call 250-212-6216
URL:https://livemusickelowna.ca/event/thursday-night-dance/2026-05-07/
LOCATION:Parkinson Activity Centre\, 1700 Parkinson Way\, Kelowna\, Canada
CATEGORIES:Mixed Genres
ATTACH;FMTTYPE=image/jpeg:https://livemusickelowna.ca/wp-content/uploads/2026/01/thursday_night_dance_149580_l.jpg
END:VEVENT
BEGIN:VEVENT
DTSTART;TZID=America/Vancouver:20260514T190000
DTEND;TZID=America/Vancouver:20260514T213000
DTSTAMP:20260419T094656
CREATED:20260119T195939Z
LAST-MODIFIED:20260119T195939Z
UID:10025637-1778785200-1778794200@livemusickelowna.ca
SUMMARY:Thursday Night Dance
DESCRIPTION:Dance every Thursday to Vic Ukrainetz\, Carol & Andrea (on Sax)\, 7 – 9:30 pm. Join us for Two steps\, foxtrots\, waltzes\, Polkas\, Cha Chas\, Rumbas\, some old time pattern and just plain fun. Parkinson Activity Centre\, 1700 Parkinson Way\, Kelowna. For info call 250-212-6216
URL:https://livemusickelowna.ca/event/thursday-night-dance/2026-05-14/
LOCATION:Parkinson Activity Centre\, 1700 Parkinson Way\, Kelowna\, Canada
CATEGORIES:Mixed Genres
ATTACH;FMTTYPE=image/jpeg:https://livemusickelowna.ca/wp-content/uploads/2026/01/thursday_night_dance_149580_l.jpg
END:VEVENT
BEGIN:VEVENT
DTSTART;TZID=America/Vancouver:20260521T190000
DTEND;TZID=America/Vancouver:20260521T213000
DTSTAMP:20260419T094656
CREATED:20260119T195939Z
LAST-MODIFIED:20260119T195939Z
UID:10025638-1779390000-1779399000@livemusickelowna.ca
SUMMARY:Thursday Night Dance
DESCRIPTION:Dance every Thursday to Vic Ukrainetz\, Carol & Andrea (on Sax)\, 7 – 9:30 pm. Join us for Two steps\, foxtrots\, waltzes\, Polkas\, Cha Chas\, Rumbas\, some old time pattern and just plain fun. Parkinson Activity Centre\, 1700 Parkinson Way\, Kelowna. For info call 250-212-6216
URL:https://livemusickelowna.ca/event/thursday-night-dance/2026-05-21/
LOCATION:Parkinson Activity Centre\, 1700 Parkinson Way\, Kelowna\, Canada
CATEGORIES:Mixed Genres
ATTACH;FMTTYPE=image/jpeg:https://livemusickelowna.ca/wp-content/uploads/2026/01/thursday_night_dance_149580_l.jpg
END:VEVENT
BEGIN:VEVENT
DTSTART;TZID=America/Vancouver:20260528T190000
DTEND;TZID=America/Vancouver:20260528T213000
DTSTAMP:20260419T094656
CREATED:20260119T195939Z
LAST-MODIFIED:20260119T195939Z
UID:10025639-1779994800-1780003800@livemusickelowna.ca
SUMMARY:Thursday Night Dance
DESCRIPTION:Dance every Thursday to Vic Ukrainetz\, Carol & Andrea (on Sax)\, 7 – 9:30 pm. Join us for Two steps\, foxtrots\, waltzes\, Polkas\, Cha Chas\, Rumbas\, some old time pattern and just plain fun. Parkinson Activity Centre\, 1700 Parkinson Way\, Kelowna. For info call 250-212-6216
URL:https://livemusickelowna.ca/event/thursday-night-dance/2026-05-28/
LOCATION:Parkinson Activity Centre\, 1700 Parkinson Way\, Kelowna\, Canada
CATEGORIES:Mixed Genres
ATTACH;FMTTYPE=image/jpeg:https://livemusickelowna.ca/wp-content/uploads/2026/01/thursday_night_dance_149580_l.jpg
END:VEVENT
BEGIN:VEVENT
DTSTART;TZID=America/Vancouver:20260604T190000
DTEND;TZID=America/Vancouver:20260604T213000
DTSTAMP:20260419T094656
CREATED:20260119T195939Z
LAST-MODIFIED:20260119T195939Z
UID:10025640-1780599600-1780608600@livemusickelowna.ca
SUMMARY:Thursday Night Dance
DESCRIPTION:Dance every Thursday to Vic Ukrainetz\, Carol & Andrea (on Sax)\, 7 – 9:30 pm. Join us for Two steps\, foxtrots\, waltzes\, Polkas\, Cha Chas\, Rumbas\, some old time pattern and just plain fun. Parkinson Activity Centre\, 1700 Parkinson Way\, Kelowna. For info call 250-212-6216
URL:https://livemusickelowna.ca/event/thursday-night-dance/2026-06-04/
LOCATION:Parkinson Activity Centre\, 1700 Parkinson Way\, Kelowna\, Canada
CATEGORIES:Mixed Genres
ATTACH;FMTTYPE=image/jpeg:https://livemusickelowna.ca/wp-content/uploads/2026/01/thursday_night_dance_149580_l.jpg
END:VEVENT
BEGIN:VEVENT
DTSTART;TZID=America/Vancouver:20260611T190000
DTEND;TZID=America/Vancouver:20260611T213000
DTSTAMP:20260419T094656
CREATED:20260119T195939Z
LAST-MODIFIED:20260119T195939Z
UID:10025641-1781204400-1781213400@livemusickelowna.ca
SUMMARY:Thursday Night Dance
DESCRIPTION:Dance every Thursday to Vic Ukrainetz\, Carol & Andrea (on Sax)\, 7 – 9:30 pm. Join us for Two steps\, foxtrots\, waltzes\, Polkas\, Cha Chas\, Rumbas\, some old time pattern and just plain fun. Parkinson Activity Centre\, 1700 Parkinson Way\, Kelowna. For info call 250-212-6216
URL:https://livemusickelowna.ca/event/thursday-night-dance/2026-06-11/
LOCATION:Parkinson Activity Centre\, 1700 Parkinson Way\, Kelowna\, Canada
CATEGORIES:Mixed Genres
ATTACH;FMTTYPE=image/jpeg:https://livemusickelowna.ca/wp-content/uploads/2026/01/thursday_night_dance_149580_l.jpg
END:VEVENT
BEGIN:VEVENT
DTSTART;TZID=America/Vancouver:20260618T190000
DTEND;TZID=America/Vancouver:20260618T213000
DTSTAMP:20260419T094656
CREATED:20260119T195939Z
LAST-MODIFIED:20260119T195939Z
UID:10025642-1781809200-1781818200@livemusickelowna.ca
SUMMARY:Thursday Night Dance
DESCRIPTION:Dance every Thursday to Vic Ukrainetz\, Carol & Andrea (on Sax)\, 7 – 9:30 pm. Join us for Two steps\, foxtrots\, waltzes\, Polkas\, Cha Chas\, Rumbas\, some old time pattern and just plain fun. Parkinson Activity Centre\, 1700 Parkinson Way\, Kelowna. For info call 250-212-6216
URL:https://livemusickelowna.ca/event/thursday-night-dance/2026-06-18/
LOCATION:Parkinson Activity Centre\, 1700 Parkinson Way\, Kelowna\, Canada
CATEGORIES:Mixed Genres
ATTACH;FMTTYPE=image/jpeg:https://livemusickelowna.ca/wp-content/uploads/2026/01/thursday_night_dance_149580_l.jpg
END:VEVENT
BEGIN:VEVENT
DTSTART;TZID=America/Vancouver:20260625T190000
DTEND;TZID=America/Vancouver:20260625T213000
DTSTAMP:20260419T094656
CREATED:20260119T195939Z
LAST-MODIFIED:20260119T195939Z
UID:10025643-1782414000-1782423000@livemusickelowna.ca
SUMMARY:Thursday Night Dance
DESCRIPTION:Dance every Thursday to Vic Ukrainetz\, Carol & Andrea (on Sax)\, 7 – 9:30 pm. Join us for Two steps\, foxtrots\, waltzes\, Polkas\, Cha Chas\, Rumbas\, some old time pattern and just plain fun. Parkinson Activity Centre\, 1700 Parkinson Way\, Kelowna. For info call 250-212-6216
URL:https://livemusickelowna.ca/event/thursday-night-dance/2026-06-25/
LOCATION:Parkinson Activity Centre\, 1700 Parkinson Way\, Kelowna\, Canada
CATEGORIES:Mixed Genres
ATTACH;FMTTYPE=image/jpeg:https://livemusickelowna.ca/wp-content/uploads/2026/01/thursday_night_dance_149580_l.jpg
END:VEVENT
BEGIN:VEVENT
DTSTART;TZID=America/Vancouver:20260702T190000
DTEND;TZID=America/Vancouver:20260702T213000
DTSTAMP:20260419T094656
CREATED:20260119T195939Z
LAST-MODIFIED:20260119T195939Z
UID:10025644-1783018800-1783027800@livemusickelowna.ca
SUMMARY:Thursday Night Dance
DESCRIPTION:Dance every Thursday to Vic Ukrainetz\, Carol & Andrea (on Sax)\, 7 – 9:30 pm. Join us for Two steps\, foxtrots\, waltzes\, Polkas\, Cha Chas\, Rumbas\, some old time pattern and just plain fun. Parkinson Activity Centre\, 1700 Parkinson Way\, Kelowna. For info call 250-212-6216
URL:https://livemusickelowna.ca/event/thursday-night-dance/2026-07-02/
LOCATION:Parkinson Activity Centre\, 1700 Parkinson Way\, Kelowna\, Canada
CATEGORIES:Mixed Genres
ATTACH;FMTTYPE=image/jpeg:https://livemusickelowna.ca/wp-content/uploads/2026/01/thursday_night_dance_149580_l.jpg
END:VEVENT
BEGIN:VEVENT
DTSTART;TZID=America/Vancouver:20260709T190000
DTEND;TZID=America/Vancouver:20260709T213000
DTSTAMP:20260419T094656
CREATED:20260119T195939Z
LAST-MODIFIED:20260119T195939Z
UID:10025645-1783623600-1783632600@livemusickelowna.ca
SUMMARY:Thursday Night Dance
DESCRIPTION:Dance every Thursday to Vic Ukrainetz\, Carol & Andrea (on Sax)\, 7 – 9:30 pm. Join us for Two steps\, foxtrots\, waltzes\, Polkas\, Cha Chas\, Rumbas\, some old time pattern and just plain fun. Parkinson Activity Centre\, 1700 Parkinson Way\, Kelowna. For info call 250-212-6216
URL:https://livemusickelowna.ca/event/thursday-night-dance/2026-07-09/
LOCATION:Parkinson Activity Centre\, 1700 Parkinson Way\, Kelowna\, Canada
CATEGORIES:Mixed Genres
ATTACH;FMTTYPE=image/jpeg:https://livemusickelowna.ca/wp-content/uploads/2026/01/thursday_night_dance_149580_l.jpg
END:VEVENT
BEGIN:VEVENT
DTSTART;TZID=America/Vancouver:20260716T190000
DTEND;TZID=America/Vancouver:20260716T213000
DTSTAMP:20260419T094656
CREATED:20260119T195939Z
LAST-MODIFIED:20260119T195939Z
UID:10025646-1784228400-1784237400@livemusickelowna.ca
SUMMARY:Thursday Night Dance
DESCRIPTION:Dance every Thursday to Vic Ukrainetz\, Carol & Andrea (on Sax)\, 7 – 9:30 pm. Join us for Two steps\, foxtrots\, waltzes\, Polkas\, Cha Chas\, Rumbas\, some old time pattern and just plain fun. Parkinson Activity Centre\, 1700 Parkinson Way\, Kelowna. For info call 250-212-6216
URL:https://livemusickelowna.ca/event/thursday-night-dance/2026-07-16/
LOCATION:Parkinson Activity Centre\, 1700 Parkinson Way\, Kelowna\, Canada
CATEGORIES:Mixed Genres
ATTACH;FMTTYPE=image/jpeg:https://livemusickelowna.ca/wp-content/uploads/2026/01/thursday_night_dance_149580_l.jpg
END:VEVENT
BEGIN:VEVENT
DTSTART;TZID=America/Vancouver:20260723T190000
DTEND;TZID=America/Vancouver:20260723T213000
DTSTAMP:20260419T094656
CREATED:20260119T195939Z
LAST-MODIFIED:20260119T195939Z
UID:10025647-1784833200-1784842200@livemusickelowna.ca
SUMMARY:Thursday Night Dance
DESCRIPTION:Dance every Thursday to Vic Ukrainetz\, Carol & Andrea (on Sax)\, 7 – 9:30 pm. Join us for Two steps\, foxtrots\, waltzes\, Polkas\, Cha Chas\, Rumbas\, some old time pattern and just plain fun. Parkinson Activity Centre\, 1700 Parkinson Way\, Kelowna. For info call 250-212-6216
URL:https://livemusickelowna.ca/event/thursday-night-dance/2026-07-23/
LOCATION:Parkinson Activity Centre\, 1700 Parkinson Way\, Kelowna\, Canada
CATEGORIES:Mixed Genres
ATTACH;FMTTYPE=image/jpeg:https://livemusickelowna.ca/wp-content/uploads/2026/01/thursday_night_dance_149580_l.jpg
END:VEVENT
BEGIN:VEVENT
DTSTART;TZID=America/Vancouver:20260730T190000
DTEND;TZID=America/Vancouver:20260730T213000
DTSTAMP:20260419T094656
CREATED:20260119T195939Z
LAST-MODIFIED:20260119T195939Z
UID:10025648-1785438000-1785447000@livemusickelowna.ca
SUMMARY:Thursday Night Dance
DESCRIPTION:Dance every Thursday to Vic Ukrainetz\, Carol & Andrea (on Sax)\, 7 – 9:30 pm. Join us for Two steps\, foxtrots\, waltzes\, Polkas\, Cha Chas\, Rumbas\, some old time pattern and just plain fun. Parkinson Activity Centre\, 1700 Parkinson Way\, Kelowna. For info call 250-212-6216
URL:https://livemusickelowna.ca/event/thursday-night-dance/2026-07-30/
LOCATION:Parkinson Activity Centre\, 1700 Parkinson Way\, Kelowna\, Canada
CATEGORIES:Mixed Genres
ATTACH;FMTTYPE=image/jpeg:https://livemusickelowna.ca/wp-content/uploads/2026/01/thursday_night_dance_149580_l.jpg
END:VEVENT
BEGIN:VEVENT
DTSTART;TZID=America/Vancouver:20260806T190000
DTEND;TZID=America/Vancouver:20260806T213000
DTSTAMP:20260419T094656
CREATED:20260119T195939Z
LAST-MODIFIED:20260119T195939Z
UID:10025649-1786042800-1786051800@livemusickelowna.ca
SUMMARY:Thursday Night Dance
DESCRIPTION:Dance every Thursday to Vic Ukrainetz\, Carol & Andrea (on Sax)\, 7 – 9:30 pm. Join us for Two steps\, foxtrots\, waltzes\, Polkas\, Cha Chas\, Rumbas\, some old time pattern and just plain fun. Parkinson Activity Centre\, 1700 Parkinson Way\, Kelowna. For info call 250-212-6216
URL:https://livemusickelowna.ca/event/thursday-night-dance/2026-08-06/
LOCATION:Parkinson Activity Centre\, 1700 Parkinson Way\, Kelowna\, Canada
CATEGORIES:Mixed Genres
ATTACH;FMTTYPE=image/jpeg:https://livemusickelowna.ca/wp-content/uploads/2026/01/thursday_night_dance_149580_l.jpg
END:VEVENT
BEGIN:VEVENT
DTSTART;TZID=America/Vancouver:20260813T190000
DTEND;TZID=America/Vancouver:20260813T213000
DTSTAMP:20260419T094656
CREATED:20260119T195939Z
LAST-MODIFIED:20260119T195939Z
UID:10025650-1786647600-1786656600@livemusickelowna.ca
SUMMARY:Thursday Night Dance
DESCRIPTION:Dance every Thursday to Vic Ukrainetz\, Carol & Andrea (on Sax)\, 7 – 9:30 pm. Join us for Two steps\, foxtrots\, waltzes\, Polkas\, Cha Chas\, Rumbas\, some old time pattern and just plain fun. Parkinson Activity Centre\, 1700 Parkinson Way\, Kelowna. For info call 250-212-6216
URL:https://livemusickelowna.ca/event/thursday-night-dance/2026-08-13/
LOCATION:Parkinson Activity Centre\, 1700 Parkinson Way\, Kelowna\, Canada
CATEGORIES:Mixed Genres
ATTACH;FMTTYPE=image/jpeg:https://livemusickelowna.ca/wp-content/uploads/2026/01/thursday_night_dance_149580_l.jpg
END:VEVENT
END:VCALENDAR