BEGIN:VCALENDAR
VERSION:2.0
PRODID:-//Live Music Kelowna - ECPv6.15.20//NONSGML v1.0//EN
CALSCALE:GREGORIAN
METHOD:PUBLISH
X-ORIGINAL-URL:https://livemusickelowna.ca
X-WR-CALDESC:Events for Live Music Kelowna
REFRESH-INTERVAL;VALUE=DURATION:PT1H
X-Robots-Tag:noindex
X-PUBLISHED-TTL:PT1H
BEGIN:VTIMEZONE
TZID:America/Vancouver
BEGIN:DAYLIGHT
TZOFFSETFROM:-0800
TZOFFSETTO:-0700
TZNAME:PDT
DTSTART:20250309T100000
END:DAYLIGHT
BEGIN:STANDARD
TZOFFSETFROM:-0700
TZOFFSETTO:-0800
TZNAME:PST
DTSTART:20251102T090000
END:STANDARD
BEGIN:DAYLIGHT
TZOFFSETFROM:-0800
TZOFFSETTO:-0700
TZNAME:PDT
DTSTART:20260308T100000
END:DAYLIGHT
BEGIN:STANDARD
TZOFFSETFROM:-0700
TZOFFSETTO:-0800
TZNAME:PST
DTSTART:20261101T090000
END:STANDARD
BEGIN:DAYLIGHT
TZOFFSETFROM:-0800
TZOFFSETTO:-0700
TZNAME:PDT
DTSTART:20270314T100000
END:DAYLIGHT
BEGIN:STANDARD
TZOFFSETFROM:-0700
TZOFFSETTO:-0800
TZNAME:PST
DTSTART:20271107T090000
END:STANDARD
END:VTIMEZONE
BEGIN:VEVENT
DTSTART;TZID=America/Vancouver:20260423T200000
DTEND;TZID=America/Vancouver:20260423T200000
DTSTAMP:20260420T161603
CREATED:20260126T000814Z
LAST-MODIFIED:20260126T000844Z
UID:10025679-1776974400-1776974400@livemusickelowna.ca
SUMMARY:College Thursdays
DESCRIPTION:🎉 College Thursdays are BACK for 2026! 🎉 \nGet ready to make Thursday nights legendary again at the OK Corral Cabaret 🤠🔥 \nWe’re bringing back the party with unbeatable drink specials all night long:\n🍺 $4.50 Good Company lager draft (beer tub)\n🥃 $5.75 Burt Reynolds\n🍻 $6.75 Good Company lager tallboys\n🦌 $8.00 Jägerbombs\n🍹 $9.00 Double Long Island \n🕗 Doors open at 8:00 PM — grab your crew\, hit the dance floor\, and kick off the weekend early! \n#CollegeThursdays #OKCorralCabaret #CountryNights #BootsAndBeers #YeehawVibes\n2w\nThis reel has 7 comments from Facebook.
URL:https://livemusickelowna.ca/event/college-thursdays/2026-04-23/
LOCATION:OK Corral Cabaret\, 1978 Kirschner Rd\, Kelowna\, British Columbia\, V1Y 4N6\, Canada
CATEGORIES:Dance,Mixed Genres
ATTACH;FMTTYPE=image/png:https://livemusickelowna.ca/wp-content/uploads/2026/01/2026-01-26-05_06_20-Downloads-File-Explorer.png
END:VEVENT
BEGIN:VEVENT
DTSTART;TZID=America/Vancouver:20260424T203000
DTEND;TZID=America/Vancouver:20260424T223000
DTSTAMP:20260420T161603
CREATED:20260420T172508Z
LAST-MODIFIED:20260420T172519Z
UID:10026835-1777062600-1777069800@livemusickelowna.ca
SUMMARY:Meghan Patrick - GOLDEN CHILD TOUR
DESCRIPTION:Tickets ON SALE – Thursday\, January 29\, 2026 at 9:00am!\nOntario native\, Nashville-based singer-songwriter Meghan Patrick blends her tough-as-nails exterior with a casual\, cool narrative\, showing the world that women can be sexy\, strong\, and gritty. A back-to-back CCMA Female Artist of the Year with 19 CMAOntario Awards\, Patrick’s latest album\, Golden Child\, peels back the layers of her journey through self-reflection and a deeper sense of authenticity. The title track hit the top 10 on Canadian Country Radio and continues to climb into the top 30 on US Country Radio. Her versatility and powerful storytelling set her apart as one of country music’s most compelling voices.
URL:https://livemusickelowna.ca/event/meghan-patrick-golden-child-tour/
LOCATION:OK Corral Cabaret\, 1978 Kirschner Rd\, Kelowna\, British Columbia\, V1Y 4N6\, Canada
CATEGORIES:Country
ATTACH;FMTTYPE=image/jpeg:https://livemusickelowna.ca/wp-content/uploads/2026/04/624567031_1567841654728076_274147297070022111_n.jpg
END:VEVENT
BEGIN:VEVENT
DTSTART;TZID=America/Vancouver:20260430T200000
DTEND;TZID=America/Vancouver:20260430T200000
DTSTAMP:20260420T161603
CREATED:20260126T000814Z
LAST-MODIFIED:20260126T000844Z
UID:10025680-1777579200-1777579200@livemusickelowna.ca
SUMMARY:College Thursdays
DESCRIPTION:🎉 College Thursdays are BACK for 2026! 🎉 \nGet ready to make Thursday nights legendary again at the OK Corral Cabaret 🤠🔥 \nWe’re bringing back the party with unbeatable drink specials all night long:\n🍺 $4.50 Good Company lager draft (beer tub)\n🥃 $5.75 Burt Reynolds\n🍻 $6.75 Good Company lager tallboys\n🦌 $8.00 Jägerbombs\n🍹 $9.00 Double Long Island \n🕗 Doors open at 8:00 PM — grab your crew\, hit the dance floor\, and kick off the weekend early! \n#CollegeThursdays #OKCorralCabaret #CountryNights #BootsAndBeers #YeehawVibes\n2w\nThis reel has 7 comments from Facebook.
URL:https://livemusickelowna.ca/event/college-thursdays/2026-04-30/
LOCATION:OK Corral Cabaret\, 1978 Kirschner Rd\, Kelowna\, British Columbia\, V1Y 4N6\, Canada
CATEGORIES:Dance,Mixed Genres
ATTACH;FMTTYPE=image/png:https://livemusickelowna.ca/wp-content/uploads/2026/01/2026-01-26-05_06_20-Downloads-File-Explorer.png
END:VEVENT
BEGIN:VEVENT
DTSTART;TZID=America/Vancouver:20260507T200000
DTEND;TZID=America/Vancouver:20260507T200000
DTSTAMP:20260420T161603
CREATED:20260126T000814Z
LAST-MODIFIED:20260126T000844Z
UID:10025681-1778184000-1778184000@livemusickelowna.ca
SUMMARY:College Thursdays
DESCRIPTION:🎉 College Thursdays are BACK for 2026! 🎉 \nGet ready to make Thursday nights legendary again at the OK Corral Cabaret 🤠🔥 \nWe’re bringing back the party with unbeatable drink specials all night long:\n🍺 $4.50 Good Company lager draft (beer tub)\n🥃 $5.75 Burt Reynolds\n🍻 $6.75 Good Company lager tallboys\n🦌 $8.00 Jägerbombs\n🍹 $9.00 Double Long Island \n🕗 Doors open at 8:00 PM — grab your crew\, hit the dance floor\, and kick off the weekend early! \n#CollegeThursdays #OKCorralCabaret #CountryNights #BootsAndBeers #YeehawVibes\n2w\nThis reel has 7 comments from Facebook.
URL:https://livemusickelowna.ca/event/college-thursdays/2026-05-07/
LOCATION:OK Corral Cabaret\, 1978 Kirschner Rd\, Kelowna\, British Columbia\, V1Y 4N6\, Canada
CATEGORIES:Dance,Mixed Genres
ATTACH;FMTTYPE=image/png:https://livemusickelowna.ca/wp-content/uploads/2026/01/2026-01-26-05_06_20-Downloads-File-Explorer.png
END:VEVENT
BEGIN:VEVENT
DTSTART;TZID=America/Vancouver:20260514T200000
DTEND;TZID=America/Vancouver:20260514T200000
DTSTAMP:20260420T161603
CREATED:20260126T000814Z
LAST-MODIFIED:20260126T000844Z
UID:10025682-1778788800-1778788800@livemusickelowna.ca
SUMMARY:College Thursdays
DESCRIPTION:🎉 College Thursdays are BACK for 2026! 🎉 \nGet ready to make Thursday nights legendary again at the OK Corral Cabaret 🤠🔥 \nWe’re bringing back the party with unbeatable drink specials all night long:\n🍺 $4.50 Good Company lager draft (beer tub)\n🥃 $5.75 Burt Reynolds\n🍻 $6.75 Good Company lager tallboys\n🦌 $8.00 Jägerbombs\n🍹 $9.00 Double Long Island \n🕗 Doors open at 8:00 PM — grab your crew\, hit the dance floor\, and kick off the weekend early! \n#CollegeThursdays #OKCorralCabaret #CountryNights #BootsAndBeers #YeehawVibes\n2w\nThis reel has 7 comments from Facebook.
URL:https://livemusickelowna.ca/event/college-thursdays/2026-05-14/
LOCATION:OK Corral Cabaret\, 1978 Kirschner Rd\, Kelowna\, British Columbia\, V1Y 4N6\, Canada
CATEGORIES:Dance,Mixed Genres
ATTACH;FMTTYPE=image/png:https://livemusickelowna.ca/wp-content/uploads/2026/01/2026-01-26-05_06_20-Downloads-File-Explorer.png
END:VEVENT
BEGIN:VEVENT
DTSTART;TZID=America/Vancouver:20260521T200000
DTEND;TZID=America/Vancouver:20260521T200000
DTSTAMP:20260420T161603
CREATED:20260126T000814Z
LAST-MODIFIED:20260126T000844Z
UID:10025683-1779393600-1779393600@livemusickelowna.ca
SUMMARY:College Thursdays
DESCRIPTION:🎉 College Thursdays are BACK for 2026! 🎉 \nGet ready to make Thursday nights legendary again at the OK Corral Cabaret 🤠🔥 \nWe’re bringing back the party with unbeatable drink specials all night long:\n🍺 $4.50 Good Company lager draft (beer tub)\n🥃 $5.75 Burt Reynolds\n🍻 $6.75 Good Company lager tallboys\n🦌 $8.00 Jägerbombs\n🍹 $9.00 Double Long Island \n🕗 Doors open at 8:00 PM — grab your crew\, hit the dance floor\, and kick off the weekend early! \n#CollegeThursdays #OKCorralCabaret #CountryNights #BootsAndBeers #YeehawVibes\n2w\nThis reel has 7 comments from Facebook.
URL:https://livemusickelowna.ca/event/college-thursdays/2026-05-21/
LOCATION:OK Corral Cabaret\, 1978 Kirschner Rd\, Kelowna\, British Columbia\, V1Y 4N6\, Canada
CATEGORIES:Dance,Mixed Genres
ATTACH;FMTTYPE=image/png:https://livemusickelowna.ca/wp-content/uploads/2026/01/2026-01-26-05_06_20-Downloads-File-Explorer.png
END:VEVENT
BEGIN:VEVENT
DTSTART;TZID=America/Vancouver:20260528T200000
DTEND;TZID=America/Vancouver:20260528T200000
DTSTAMP:20260420T161603
CREATED:20260126T000814Z
LAST-MODIFIED:20260126T000844Z
UID:10025684-1779998400-1779998400@livemusickelowna.ca
SUMMARY:College Thursdays
DESCRIPTION:🎉 College Thursdays are BACK for 2026! 🎉 \nGet ready to make Thursday nights legendary again at the OK Corral Cabaret 🤠🔥 \nWe’re bringing back the party with unbeatable drink specials all night long:\n🍺 $4.50 Good Company lager draft (beer tub)\n🥃 $5.75 Burt Reynolds\n🍻 $6.75 Good Company lager tallboys\n🦌 $8.00 Jägerbombs\n🍹 $9.00 Double Long Island \n🕗 Doors open at 8:00 PM — grab your crew\, hit the dance floor\, and kick off the weekend early! \n#CollegeThursdays #OKCorralCabaret #CountryNights #BootsAndBeers #YeehawVibes\n2w\nThis reel has 7 comments from Facebook.
URL:https://livemusickelowna.ca/event/college-thursdays/2026-05-28/
LOCATION:OK Corral Cabaret\, 1978 Kirschner Rd\, Kelowna\, British Columbia\, V1Y 4N6\, Canada
CATEGORIES:Dance,Mixed Genres
ATTACH;FMTTYPE=image/png:https://livemusickelowna.ca/wp-content/uploads/2026/01/2026-01-26-05_06_20-Downloads-File-Explorer.png
END:VEVENT
BEGIN:VEVENT
DTSTART;TZID=America/Vancouver:20260604T200000
DTEND;TZID=America/Vancouver:20260604T200000
DTSTAMP:20260420T161603
CREATED:20260126T000814Z
LAST-MODIFIED:20260126T000844Z
UID:10025685-1780603200-1780603200@livemusickelowna.ca
SUMMARY:College Thursdays
DESCRIPTION:🎉 College Thursdays are BACK for 2026! 🎉 \nGet ready to make Thursday nights legendary again at the OK Corral Cabaret 🤠🔥 \nWe’re bringing back the party with unbeatable drink specials all night long:\n🍺 $4.50 Good Company lager draft (beer tub)\n🥃 $5.75 Burt Reynolds\n🍻 $6.75 Good Company lager tallboys\n🦌 $8.00 Jägerbombs\n🍹 $9.00 Double Long Island \n🕗 Doors open at 8:00 PM — grab your crew\, hit the dance floor\, and kick off the weekend early! \n#CollegeThursdays #OKCorralCabaret #CountryNights #BootsAndBeers #YeehawVibes\n2w\nThis reel has 7 comments from Facebook.
URL:https://livemusickelowna.ca/event/college-thursdays/2026-06-04/
LOCATION:OK Corral Cabaret\, 1978 Kirschner Rd\, Kelowna\, British Columbia\, V1Y 4N6\, Canada
CATEGORIES:Dance,Mixed Genres
ATTACH;FMTTYPE=image/png:https://livemusickelowna.ca/wp-content/uploads/2026/01/2026-01-26-05_06_20-Downloads-File-Explorer.png
END:VEVENT
BEGIN:VEVENT
DTSTART;TZID=America/Vancouver:20260611T200000
DTEND;TZID=America/Vancouver:20260611T200000
DTSTAMP:20260420T161603
CREATED:20260126T000814Z
LAST-MODIFIED:20260126T000844Z
UID:10025686-1781208000-1781208000@livemusickelowna.ca
SUMMARY:College Thursdays
DESCRIPTION:🎉 College Thursdays are BACK for 2026! 🎉 \nGet ready to make Thursday nights legendary again at the OK Corral Cabaret 🤠🔥 \nWe’re bringing back the party with unbeatable drink specials all night long:\n🍺 $4.50 Good Company lager draft (beer tub)\n🥃 $5.75 Burt Reynolds\n🍻 $6.75 Good Company lager tallboys\n🦌 $8.00 Jägerbombs\n🍹 $9.00 Double Long Island \n🕗 Doors open at 8:00 PM — grab your crew\, hit the dance floor\, and kick off the weekend early! \n#CollegeThursdays #OKCorralCabaret #CountryNights #BootsAndBeers #YeehawVibes\n2w\nThis reel has 7 comments from Facebook.
URL:https://livemusickelowna.ca/event/college-thursdays/2026-06-11/
LOCATION:OK Corral Cabaret\, 1978 Kirschner Rd\, Kelowna\, British Columbia\, V1Y 4N6\, Canada
CATEGORIES:Dance,Mixed Genres
ATTACH;FMTTYPE=image/png:https://livemusickelowna.ca/wp-content/uploads/2026/01/2026-01-26-05_06_20-Downloads-File-Explorer.png
END:VEVENT
END:VCALENDAR