BEGIN:VCALENDAR
VERSION:2.0
PRODID:-//Live Music Kelowna - ECPv6.15.20//NONSGML v1.0//EN
CALSCALE:GREGORIAN
METHOD:PUBLISH
X-ORIGINAL-URL:https://livemusickelowna.ca
X-WR-CALDESC:Events for Live Music Kelowna
REFRESH-INTERVAL;VALUE=DURATION:PT1H
X-Robots-Tag:noindex
X-PUBLISHED-TTL:PT1H
BEGIN:VTIMEZONE
TZID:America/Vancouver
BEGIN:DAYLIGHT
TZOFFSETFROM:-0800
TZOFFSETTO:-0700
TZNAME:PDT
DTSTART:20250309T100000
END:DAYLIGHT
BEGIN:STANDARD
TZOFFSETFROM:-0700
TZOFFSETTO:-0800
TZNAME:PST
DTSTART:20251102T090000
END:STANDARD
BEGIN:DAYLIGHT
TZOFFSETFROM:-0800
TZOFFSETTO:-0700
TZNAME:PDT
DTSTART:20260308T100000
END:DAYLIGHT
BEGIN:STANDARD
TZOFFSETFROM:-0700
TZOFFSETTO:-0800
TZNAME:PST
DTSTART:20261101T090000
END:STANDARD
BEGIN:DAYLIGHT
TZOFFSETFROM:-0800
TZOFFSETTO:-0700
TZNAME:PDT
DTSTART:20270314T100000
END:DAYLIGHT
BEGIN:STANDARD
TZOFFSETFROM:-0700
TZOFFSETTO:-0800
TZNAME:PST
DTSTART:20271107T090000
END:STANDARD
END:VTIMEZONE
BEGIN:VEVENT
DTSTART;TZID=America/Vancouver:20260417T210000
DTEND;TZID=America/Vancouver:20260417T210000
DTSTAMP:20260420T174834
CREATED:20260413T172023Z
LAST-MODIFIED:20260413T172023Z
UID:10026804-1776459600-1776459600@livemusickelowna.ca
SUMMARY:ROCK AND ROLL NIGHT!
DESCRIPTION:🎸 ROCK & ROLL NIGHT 🎸 \nTurn it up and let’s get loud\, Kelowna! We’re bringing the energy to the dance floor with a full night of rock & roll at the OK Corral Cabaret on Friday\, April 17th! 🤘 \nFrom classic anthems to crowd-favourite hits\, it’s all about big riffs\, good vibes\, and even better company. \n⏰ Doors open at 9:00PM\n💵 $5 cover \nGrab your crew\, throw on your best rock ‘fit\, and let’s make it a night to remember ⚡️
URL:https://livemusickelowna.ca/event/rock-and-roll-night/
LOCATION:OK Corral Cabaret\, 1978 Kirschner Rd\, Kelowna\, British Columbia\, V1Y 4N6\, Canada
CATEGORIES:Rock & Roll
ATTACH;FMTTYPE=image/png:https://livemusickelowna.ca/wp-content/uploads/2026/04/Red-Yellow-Grunge-Rock-Roll-Party-Poster-1152x1536-1.png
END:VEVENT
BEGIN:VEVENT
DTSTART;TZID=America/Vancouver:20260416T200000
DTEND;TZID=America/Vancouver:20260416T200000
DTSTAMP:20260420T174834
CREATED:20260126T000814Z
LAST-MODIFIED:20260126T000844Z
UID:10025678-1776369600-1776369600@livemusickelowna.ca
SUMMARY:College Thursdays
DESCRIPTION:🎉 College Thursdays are BACK for 2026! 🎉 \nGet ready to make Thursday nights legendary again at the OK Corral Cabaret 🤠🔥 \nWe’re bringing back the party with unbeatable drink specials all night long:\n🍺 $4.50 Good Company lager draft (beer tub)\n🥃 $5.75 Burt Reynolds\n🍻 $6.75 Good Company lager tallboys\n🦌 $8.00 Jägerbombs\n🍹 $9.00 Double Long Island \n🕗 Doors open at 8:00 PM — grab your crew\, hit the dance floor\, and kick off the weekend early! \n#CollegeThursdays #OKCorralCabaret #CountryNights #BootsAndBeers #YeehawVibes\n2w\nThis reel has 7 comments from Facebook.
URL:https://livemusickelowna.ca/event/college-thursdays/2026-04-16/
LOCATION:OK Corral Cabaret\, 1978 Kirschner Rd\, Kelowna\, British Columbia\, V1Y 4N6\, Canada
CATEGORIES:Dance,Mixed Genres
ATTACH;FMTTYPE=image/png:https://livemusickelowna.ca/wp-content/uploads/2026/01/2026-01-26-05_06_20-Downloads-File-Explorer.png
END:VEVENT
BEGIN:VEVENT
DTSTART;TZID=America/Vancouver:20260410T203000
DTEND;TZID=America/Vancouver:20260410T203000
DTSTAMP:20260420T174834
CREATED:20260406T110358Z
LAST-MODIFIED:20260406T110358Z
UID:10026723-1775853000-1775853000@livemusickelowna.ca
SUMMARY:Cabaret Burlesque show
DESCRIPTION:Overview\n\n\n\n\nCabaret Burlesque show \n\n\n\n\nA Night of Captivating Cabaret burlesque show Celebrating Female Empowerment. Join NOIR DANCE for an unforgettable evening of mesmerizing burlesque performances that celebrate strength\, sensuality\, and self-expression. \n🗓 Friday\, April 10th \n🕗 Doors open 8pm. Show starts 8:30pm \n📍 Ok Corral Cabaret Kelowna\n🎭 An experience you won’t want to miss. \nThis is not just a show. It’s a statement. Every act is designed to captivate from slow-burning striptease to explosive ensemble numbers showcasing performers who own their bodies\, command the room\, and redefine what empowerment looks like. \nCome dressed to impress and prepare for a night of you won’t forget. Tickets LINK IN BIO . \nWe have 4 different kinds of tickets 🎟️ \n* 2 VIP TABLES available. Each table is good for 10 people. These tables guarantee you a reserved table. \n* 4 SMALL TABLES good for 5 people. \nThese tables guarantee you a reserved table. \n* FLOOR SEATS. \nThese tickets guarantee you a seat in the front rows on the floor in the front stage. Limited seats. \n* General Admission. \nThese tickets do not guarantee you a seat. Standing. \nWe are so excited to see you in the audience!
URL:https://livemusickelowna.ca/event/cabaret-burlesque-show/
LOCATION:OK Corral Cabaret\, 1978 Kirschner Rd\, Kelowna\, British Columbia\, V1Y 4N6\, Canada
CATEGORIES:Dance,Mixed Genres
ATTACH;FMTTYPE=image/webp:https://livemusickelowna.ca/wp-content/uploads/2026/04/image-1.webp
END:VEVENT
BEGIN:VEVENT
DTSTART;TZID=America/Vancouver:20260409T200000
DTEND;TZID=America/Vancouver:20260409T200000
DTSTAMP:20260420T174834
CREATED:20260126T000814Z
LAST-MODIFIED:20260126T000844Z
UID:10025677-1775764800-1775764800@livemusickelowna.ca
SUMMARY:College Thursdays
DESCRIPTION:🎉 College Thursdays are BACK for 2026! 🎉 \nGet ready to make Thursday nights legendary again at the OK Corral Cabaret 🤠🔥 \nWe’re bringing back the party with unbeatable drink specials all night long:\n🍺 $4.50 Good Company lager draft (beer tub)\n🥃 $5.75 Burt Reynolds\n🍻 $6.75 Good Company lager tallboys\n🦌 $8.00 Jägerbombs\n🍹 $9.00 Double Long Island \n🕗 Doors open at 8:00 PM — grab your crew\, hit the dance floor\, and kick off the weekend early! \n#CollegeThursdays #OKCorralCabaret #CountryNights #BootsAndBeers #YeehawVibes\n2w\nThis reel has 7 comments from Facebook.
URL:https://livemusickelowna.ca/event/college-thursdays/2026-04-09/
LOCATION:OK Corral Cabaret\, 1978 Kirschner Rd\, Kelowna\, British Columbia\, V1Y 4N6\, Canada
CATEGORIES:Dance,Mixed Genres
ATTACH;FMTTYPE=image/png:https://livemusickelowna.ca/wp-content/uploads/2026/01/2026-01-26-05_06_20-Downloads-File-Explorer.png
END:VEVENT
BEGIN:VEVENT
DTSTART;TZID=America/Vancouver:20260402T200000
DTEND;TZID=America/Vancouver:20260402T200000
DTSTAMP:20260420T174834
CREATED:20260126T000814Z
LAST-MODIFIED:20260126T000844Z
UID:10025676-1775160000-1775160000@livemusickelowna.ca
SUMMARY:College Thursdays
DESCRIPTION:🎉 College Thursdays are BACK for 2026! 🎉 \nGet ready to make Thursday nights legendary again at the OK Corral Cabaret 🤠🔥 \nWe’re bringing back the party with unbeatable drink specials all night long:\n🍺 $4.50 Good Company lager draft (beer tub)\n🥃 $5.75 Burt Reynolds\n🍻 $6.75 Good Company lager tallboys\n🦌 $8.00 Jägerbombs\n🍹 $9.00 Double Long Island \n🕗 Doors open at 8:00 PM — grab your crew\, hit the dance floor\, and kick off the weekend early! \n#CollegeThursdays #OKCorralCabaret #CountryNights #BootsAndBeers #YeehawVibes\n2w\nThis reel has 7 comments from Facebook.
URL:https://livemusickelowna.ca/event/college-thursdays/2026-04-02/
LOCATION:OK Corral Cabaret\, 1978 Kirschner Rd\, Kelowna\, British Columbia\, V1Y 4N6\, Canada
CATEGORIES:Dance,Mixed Genres
ATTACH;FMTTYPE=image/png:https://livemusickelowna.ca/wp-content/uploads/2026/01/2026-01-26-05_06_20-Downloads-File-Explorer.png
END:VEVENT
BEGIN:VEVENT
DTSTART;TZID=America/Vancouver:20260327T210000
DTEND;TZID=America/Vancouver:20260327T233000
DTSTAMP:20260420T174834
CREATED:20260323T022030Z
LAST-MODIFIED:20260323T184632Z
UID:10026544-1774645200-1774654200@livemusickelowna.ca
SUMMARY:2000’s CLUB NIGHT
DESCRIPTION:We’re turning the OK Corral all the way up this Friday\, March 27\, 2026 — think peak 2000’s energy\, packed dance floor\, and nonstop bangers all night long. \nFrom Keith to JLo to T-Pain… if you know\, you KNOW 👀 \n✨ Lights down\, music up\n🍾 Drinks flowing\n🖤 Late-night party energy \nGrab your crew\, dress the part\, and get ready to go OFF.\nDoors open at 9PM. Be there early\, stay late.
URL:https://livemusickelowna.ca/event/2000s-club-night/
LOCATION:OK Corral Cabaret\, 1978 Kirschner Rd\, Kelowna\, British Columbia\, V1Y 4N6\, Canada
CATEGORIES:2000's
ATTACH;FMTTYPE=image/jpeg:https://livemusickelowna.ca/wp-content/uploads/2026/03/Y2K-Instagram-Story-in-Neon-Pink-Black-and-White-Pop-Punk-Rebellion-Style-1024x1024-1.jpg
END:VEVENT
BEGIN:VEVENT
DTSTART;TZID=America/Vancouver:20260326T200000
DTEND;TZID=America/Vancouver:20260326T200000
DTSTAMP:20260420T174834
CREATED:20260126T000814Z
LAST-MODIFIED:20260126T000844Z
UID:10025675-1774555200-1774555200@livemusickelowna.ca
SUMMARY:College Thursdays
DESCRIPTION:🎉 College Thursdays are BACK for 2026! 🎉 \nGet ready to make Thursday nights legendary again at the OK Corral Cabaret 🤠🔥 \nWe’re bringing back the party with unbeatable drink specials all night long:\n🍺 $4.50 Good Company lager draft (beer tub)\n🥃 $5.75 Burt Reynolds\n🍻 $6.75 Good Company lager tallboys\n🦌 $8.00 Jägerbombs\n🍹 $9.00 Double Long Island \n🕗 Doors open at 8:00 PM — grab your crew\, hit the dance floor\, and kick off the weekend early! \n#CollegeThursdays #OKCorralCabaret #CountryNights #BootsAndBeers #YeehawVibes\n2w\nThis reel has 7 comments from Facebook.
URL:https://livemusickelowna.ca/event/college-thursdays/2026-03-26/
LOCATION:OK Corral Cabaret\, 1978 Kirschner Rd\, Kelowna\, British Columbia\, V1Y 4N6\, Canada
CATEGORIES:Dance,Mixed Genres
ATTACH;FMTTYPE=image/png:https://livemusickelowna.ca/wp-content/uploads/2026/01/2026-01-26-05_06_20-Downloads-File-Explorer.png
END:VEVENT
BEGIN:VEVENT
DTSTART;TZID=America/Vancouver:20260320T210000
DTEND;TZID=America/Vancouver:20260320T210000
DTSTAMP:20260420T174834
CREATED:20260316T153747Z
LAST-MODIFIED:20260316T153747Z
UID:10026395-1774040400-1774040400@livemusickelowna.ca
SUMMARY:90’s Night
DESCRIPTION:Dust off the denim\, tease that hair\, and get ready to party like it’s 1999 🤠🎶 \n90’s Night is coming to the OK Corral!\nJoin us Friday\, March 20 at the Corral for a throwback night full of your favourite 90’s country\, pop\, and party anthems. Think Shania\, Garth\, Britney\, and all the hits you grew up on. 💿✨ \nGrab your crew\, rock your best 90’s fit\, and get ready for a night of dancing\, drinks\, and pure nostalgia on the dance floor. \n📅 Friday\, March 20\, 2026\n🚪 Doors open at 9:00PM \nLet’s see those 90’s outfits… scrunchies\, cowboy hats\, baggy jeans and all. Who’s coming? 🔥
URL:https://livemusickelowna.ca/event/90s-night/
LOCATION:OK Corral Cabaret\, 1978 Kirschner Rd\, Kelowna\, British Columbia\, V1Y 4N6\, Canada
CATEGORIES:90s
ATTACH;FMTTYPE=image/png:https://livemusickelowna.ca/wp-content/uploads/2026/03/yellow-pink-90s-style-back-to-90s-instagram-post-1024x1024-1.png
END:VEVENT
END:VCALENDAR