BEGIN:VCALENDAR
VERSION:2.0
PRODID:-//Live Music Kelowna - ECPv6.15.18//NONSGML v1.0//EN
CALSCALE:GREGORIAN
METHOD:PUBLISH
X-WR-CALNAME:Live Music Kelowna
X-ORIGINAL-URL:https://livemusickelowna.ca
X-WR-CALDESC:Events for Live Music Kelowna
REFRESH-INTERVAL;VALUE=DURATION:PT1H
X-Robots-Tag:noindex
X-PUBLISHED-TTL:PT1H
BEGIN:VTIMEZONE
TZID:America/Vancouver
BEGIN:DAYLIGHT
TZOFFSETFROM:-0800
TZOFFSETTO:-0700
TZNAME:PDT
DTSTART:20250309T100000
END:DAYLIGHT
BEGIN:STANDARD
TZOFFSETFROM:-0700
TZOFFSETTO:-0800
TZNAME:PST
DTSTART:20251102T090000
END:STANDARD
BEGIN:DAYLIGHT
TZOFFSETFROM:-0800
TZOFFSETTO:-0700
TZNAME:PDT
DTSTART:20260308T100000
END:DAYLIGHT
BEGIN:STANDARD
TZOFFSETFROM:-0700
TZOFFSETTO:-0800
TZNAME:PST
DTSTART:20261101T090000
END:STANDARD
BEGIN:DAYLIGHT
TZOFFSETFROM:-0800
TZOFFSETTO:-0700
TZNAME:PDT
DTSTART:20270314T100000
END:DAYLIGHT
BEGIN:STANDARD
TZOFFSETFROM:-0700
TZOFFSETTO:-0800
TZNAME:PST
DTSTART:20271107T090000
END:STANDARD
END:VTIMEZONE
BEGIN:VEVENT
DTSTART;TZID=America/Vancouver:20260424T170000
DTEND;TZID=America/Vancouver:20260424T190000
DTSTAMP:20260419T081418
CREATED:20251029T153929Z
LAST-MODIFIED:20251029T153929Z
UID:10024559-1777050000-1777057200@livemusickelowna.ca
SUMMARY:Jazz with Leila Neverland
DESCRIPTION:Live music every Friday at The Marmalade Cat Cafe Pandosy from 5 to 7. First Friday of the month songwriters in the round; 2nd Friday Christine Pomeroy open mic; 3rd Friday Gail and Karl (triple AAA) Adult Acoustic Alternative; Last Friday Leila Neverland
URL:https://livemusickelowna.ca/event/live-music-at-marmalade-cat-cafe-2/2026-04-24/
LOCATION:Marmalade Cat Cafe\, 2903 Pandosy St #103\, Kelowna\, British Columbia\, V1Y 1W1\, Canada
CATEGORIES:Jazz
ATTACH;FMTTYPE=image/jpeg:https://livemusickelowna.ca/wp-content/uploads/2025/10/0027091170_25.jpg
END:VEVENT
BEGIN:VEVENT
DTSTART;TZID=America/Vancouver:20260424T170000
DTEND;TZID=America/Vancouver:20260424T190000
DTSTAMP:20260419T081418
CREATED:20260309T173312Z
LAST-MODIFIED:20260413T182458Z
UID:10026219-1777050000-1777057200@livemusickelowna.ca
SUMMARY:Songwriters @ Marmalade Cat Cafe
DESCRIPTION:Live music every Friday at The Marmalade Cat Cafe Pandosy from 5 to 7!
URL:https://livemusickelowna.ca/event/songwriters-marmalade-cat-cafe-2/2026-04-24/
LOCATION:Marmalade Cat Cafe\, 2903 Pandosy St #103\, Kelowna\, British Columbia\, V1Y 1W1\, Canada
CATEGORIES:Singer/Songwriter
ATTACH;FMTTYPE=image/jpeg:https://livemusickelowna.ca/wp-content/uploads/2025/10/556227675_10165951200697785_5914304530497974682_n.jpg
END:VEVENT
BEGIN:VEVENT
DTSTART;TZID=America/Vancouver:20260501T170000
DTEND;TZID=America/Vancouver:20260501T190000
DTSTAMP:20260419T081418
CREATED:20260309T173312Z
LAST-MODIFIED:20260413T182458Z
UID:10024511-1777654800-1777662000@livemusickelowna.ca
SUMMARY:Songwriters @ Marmalade Cat Cafe
DESCRIPTION:Live music every Friday at The Marmalade Cat Cafe Pandosy from 5 to 7!
URL:https://livemusickelowna.ca/event/songwriters-marmalade-cat-cafe-2/2026-05-01/
LOCATION:Marmalade Cat Cafe\, 2903 Pandosy St #103\, Kelowna\, British Columbia\, V1Y 1W1\, Canada
CATEGORIES:Singer/Songwriter
ATTACH;FMTTYPE=image/jpeg:https://livemusickelowna.ca/wp-content/uploads/2025/10/556227675_10165951200697785_5914304530497974682_n.jpg
END:VEVENT
BEGIN:VEVENT
DTSTART;TZID=America/Vancouver:20260508T170000
DTEND;TZID=America/Vancouver:20260508T190000
DTSTAMP:20260419T081418
CREATED:20251029T153634Z
LAST-MODIFIED:20251029T153644Z
UID:10024531-1778259600-1778266800@livemusickelowna.ca
SUMMARY:Open Mic with Christine Pomeroy
DESCRIPTION:Live music every Friday at The Marmalade Cat Cafe Pandosy from 5 to 7. First Friday of the month songwriters in the round; 2nd Friday Christine Pomeroy open mic; 3rd Friday Gail and Karl (triple AAA) Adult Acoustic Alternative; Last Friday Leila Neverland
URL:https://livemusickelowna.ca/event/open-mic-with-christine-pomeroy/2026-05-08/
LOCATION:Marmalade Cat Cafe\, 2903 Pandosy St #103\, Kelowna\, British Columbia\, V1Y 1W1\, Canada
CATEGORIES:Open Mic
ATTACH;FMTTYPE=image/jpeg:https://livemusickelowna.ca/wp-content/uploads/2025/10/556227675_10165951200697785_5914304530497974682_n.jpg
END:VEVENT
BEGIN:VEVENT
DTSTART;TZID=America/Vancouver:20260508T170000
DTEND;TZID=America/Vancouver:20260508T190000
DTSTAMP:20260419T081418
CREATED:20260309T173312Z
LAST-MODIFIED:20260413T182458Z
UID:10026220-1778259600-1778266800@livemusickelowna.ca
SUMMARY:Songwriters @ Marmalade Cat Cafe
DESCRIPTION:Live music every Friday at The Marmalade Cat Cafe Pandosy from 5 to 7!
URL:https://livemusickelowna.ca/event/songwriters-marmalade-cat-cafe-2/2026-05-08/
LOCATION:Marmalade Cat Cafe\, 2903 Pandosy St #103\, Kelowna\, British Columbia\, V1Y 1W1\, Canada
CATEGORIES:Singer/Songwriter
ATTACH;FMTTYPE=image/jpeg:https://livemusickelowna.ca/wp-content/uploads/2025/10/556227675_10165951200697785_5914304530497974682_n.jpg
END:VEVENT
BEGIN:VEVENT
DTSTART;TZID=America/Vancouver:20260515T170000
DTEND;TZID=America/Vancouver:20260515T190000
DTSTAMP:20260419T081418
CREATED:20251029T153758Z
LAST-MODIFIED:20251029T154306Z
UID:10024551-1778864400-1778871600@livemusickelowna.ca
SUMMARY:Gail and Karl plus special guest @ Marmalade Cat Cafe
DESCRIPTION:Live music every Friday at The Marmalade Cat Cafe Pandosy from 5 to 7. First Friday of the month songwriters in the round; 2nd Friday Christine Pomeroy open mic; 3rd Friday Gail and Karl (triple AAA) Adult Acoustic Alternative; Last Friday Leila Neverland
URL:https://livemusickelowna.ca/event/gail-and-karl-plus-special-guest-marmalade-cat-cafe/2026-05-15/
LOCATION:Marmalade Cat Cafe\, 2903 Pandosy St #103\, Kelowna\, British Columbia\, V1Y 1W1\, Canada
CATEGORIES:Folk,Rock
ATTACH;FMTTYPE=image/jpeg:https://livemusickelowna.ca/wp-content/uploads/2025/10/artworks-asBZh1OvxrDQqzwG-dxrOIA-t1080x1080.jpg
END:VEVENT
BEGIN:VEVENT
DTSTART;TZID=America/Vancouver:20260515T170000
DTEND;TZID=America/Vancouver:20260515T190000
DTSTAMP:20260419T081418
CREATED:20260309T173312Z
LAST-MODIFIED:20260413T182458Z
UID:10026221-1778864400-1778871600@livemusickelowna.ca
SUMMARY:Songwriters @ Marmalade Cat Cafe
DESCRIPTION:Live music every Friday at The Marmalade Cat Cafe Pandosy from 5 to 7!
URL:https://livemusickelowna.ca/event/songwriters-marmalade-cat-cafe-2/2026-05-15/
LOCATION:Marmalade Cat Cafe\, 2903 Pandosy St #103\, Kelowna\, British Columbia\, V1Y 1W1\, Canada
CATEGORIES:Singer/Songwriter
ATTACH;FMTTYPE=image/jpeg:https://livemusickelowna.ca/wp-content/uploads/2025/10/556227675_10165951200697785_5914304530497974682_n.jpg
END:VEVENT
BEGIN:VEVENT
DTSTART;TZID=America/Vancouver:20260522T170000
DTEND;TZID=America/Vancouver:20260522T190000
DTSTAMP:20260419T081418
CREATED:20251029T153929Z
LAST-MODIFIED:20251029T153929Z
UID:10024560-1779469200-1779476400@livemusickelowna.ca
SUMMARY:Jazz with Leila Neverland
DESCRIPTION:Live music every Friday at The Marmalade Cat Cafe Pandosy from 5 to 7. First Friday of the month songwriters in the round; 2nd Friday Christine Pomeroy open mic; 3rd Friday Gail and Karl (triple AAA) Adult Acoustic Alternative; Last Friday Leila Neverland
URL:https://livemusickelowna.ca/event/live-music-at-marmalade-cat-cafe-2/2026-05-22/
LOCATION:Marmalade Cat Cafe\, 2903 Pandosy St #103\, Kelowna\, British Columbia\, V1Y 1W1\, Canada
CATEGORIES:Jazz
ATTACH;FMTTYPE=image/jpeg:https://livemusickelowna.ca/wp-content/uploads/2025/10/0027091170_25.jpg
END:VEVENT
BEGIN:VEVENT
DTSTART;TZID=America/Vancouver:20260522T170000
DTEND;TZID=America/Vancouver:20260522T190000
DTSTAMP:20260419T081418
CREATED:20260309T173312Z
LAST-MODIFIED:20260413T182458Z
UID:10026222-1779469200-1779476400@livemusickelowna.ca
SUMMARY:Songwriters @ Marmalade Cat Cafe
DESCRIPTION:Live music every Friday at The Marmalade Cat Cafe Pandosy from 5 to 7!
URL:https://livemusickelowna.ca/event/songwriters-marmalade-cat-cafe-2/2026-05-22/
LOCATION:Marmalade Cat Cafe\, 2903 Pandosy St #103\, Kelowna\, British Columbia\, V1Y 1W1\, Canada
CATEGORIES:Singer/Songwriter
ATTACH;FMTTYPE=image/jpeg:https://livemusickelowna.ca/wp-content/uploads/2025/10/556227675_10165951200697785_5914304530497974682_n.jpg
END:VEVENT
BEGIN:VEVENT
DTSTART;TZID=America/Vancouver:20260529T170000
DTEND;TZID=America/Vancouver:20260529T190000
DTSTAMP:20260419T081418
CREATED:20260309T173312Z
LAST-MODIFIED:20260413T182458Z
UID:10026223-1780074000-1780081200@livemusickelowna.ca
SUMMARY:Songwriters @ Marmalade Cat Cafe
DESCRIPTION:Live music every Friday at The Marmalade Cat Cafe Pandosy from 5 to 7!
URL:https://livemusickelowna.ca/event/songwriters-marmalade-cat-cafe-2/2026-05-29/
LOCATION:Marmalade Cat Cafe\, 2903 Pandosy St #103\, Kelowna\, British Columbia\, V1Y 1W1\, Canada
CATEGORIES:Singer/Songwriter
ATTACH;FMTTYPE=image/jpeg:https://livemusickelowna.ca/wp-content/uploads/2025/10/556227675_10165951200697785_5914304530497974682_n.jpg
END:VEVENT
BEGIN:VEVENT
DTSTART;TZID=America/Vancouver:20260605T170000
DTEND;TZID=America/Vancouver:20260605T190000
DTSTAMP:20260419T081418
CREATED:20260309T173312Z
LAST-MODIFIED:20260413T182458Z
UID:10024512-1780678800-1780686000@livemusickelowna.ca
SUMMARY:Songwriters @ Marmalade Cat Cafe
DESCRIPTION:Live music every Friday at The Marmalade Cat Cafe Pandosy from 5 to 7!
URL:https://livemusickelowna.ca/event/songwriters-marmalade-cat-cafe-2/2026-06-05/
LOCATION:Marmalade Cat Cafe\, 2903 Pandosy St #103\, Kelowna\, British Columbia\, V1Y 1W1\, Canada
CATEGORIES:Singer/Songwriter
ATTACH;FMTTYPE=image/jpeg:https://livemusickelowna.ca/wp-content/uploads/2025/10/556227675_10165951200697785_5914304530497974682_n.jpg
END:VEVENT
BEGIN:VEVENT
DTSTART;TZID=America/Vancouver:20260612T170000
DTEND;TZID=America/Vancouver:20260612T190000
DTSTAMP:20260419T081418
CREATED:20251029T153634Z
LAST-MODIFIED:20251029T153644Z
UID:10024532-1781283600-1781290800@livemusickelowna.ca
SUMMARY:Open Mic with Christine Pomeroy
DESCRIPTION:Live music every Friday at The Marmalade Cat Cafe Pandosy from 5 to 7. First Friday of the month songwriters in the round; 2nd Friday Christine Pomeroy open mic; 3rd Friday Gail and Karl (triple AAA) Adult Acoustic Alternative; Last Friday Leila Neverland
URL:https://livemusickelowna.ca/event/open-mic-with-christine-pomeroy/2026-06-12/
LOCATION:Marmalade Cat Cafe\, 2903 Pandosy St #103\, Kelowna\, British Columbia\, V1Y 1W1\, Canada
CATEGORIES:Open Mic
ATTACH;FMTTYPE=image/jpeg:https://livemusickelowna.ca/wp-content/uploads/2025/10/556227675_10165951200697785_5914304530497974682_n.jpg
END:VEVENT
BEGIN:VEVENT
DTSTART;TZID=America/Vancouver:20260612T170000
DTEND;TZID=America/Vancouver:20260612T190000
DTSTAMP:20260419T081418
CREATED:20260309T173312Z
LAST-MODIFIED:20260413T182458Z
UID:10026224-1781283600-1781290800@livemusickelowna.ca
SUMMARY:Songwriters @ Marmalade Cat Cafe
DESCRIPTION:Live music every Friday at The Marmalade Cat Cafe Pandosy from 5 to 7!
URL:https://livemusickelowna.ca/event/songwriters-marmalade-cat-cafe-2/2026-06-12/
LOCATION:Marmalade Cat Cafe\, 2903 Pandosy St #103\, Kelowna\, British Columbia\, V1Y 1W1\, Canada
CATEGORIES:Singer/Songwriter
ATTACH;FMTTYPE=image/jpeg:https://livemusickelowna.ca/wp-content/uploads/2025/10/556227675_10165951200697785_5914304530497974682_n.jpg
END:VEVENT
BEGIN:VEVENT
DTSTART;TZID=America/Vancouver:20260619T170000
DTEND;TZID=America/Vancouver:20260619T190000
DTSTAMP:20260419T081418
CREATED:20251029T153758Z
LAST-MODIFIED:20251029T154306Z
UID:10024552-1781888400-1781895600@livemusickelowna.ca
SUMMARY:Gail and Karl plus special guest @ Marmalade Cat Cafe
DESCRIPTION:Live music every Friday at The Marmalade Cat Cafe Pandosy from 5 to 7. First Friday of the month songwriters in the round; 2nd Friday Christine Pomeroy open mic; 3rd Friday Gail and Karl (triple AAA) Adult Acoustic Alternative; Last Friday Leila Neverland
URL:https://livemusickelowna.ca/event/gail-and-karl-plus-special-guest-marmalade-cat-cafe/2026-06-19/
LOCATION:Marmalade Cat Cafe\, 2903 Pandosy St #103\, Kelowna\, British Columbia\, V1Y 1W1\, Canada
CATEGORIES:Folk,Rock
ATTACH;FMTTYPE=image/jpeg:https://livemusickelowna.ca/wp-content/uploads/2025/10/artworks-asBZh1OvxrDQqzwG-dxrOIA-t1080x1080.jpg
END:VEVENT
BEGIN:VEVENT
DTSTART;TZID=America/Vancouver:20260619T170000
DTEND;TZID=America/Vancouver:20260619T190000
DTSTAMP:20260419T081418
CREATED:20260309T173312Z
LAST-MODIFIED:20260413T182458Z
UID:10026225-1781888400-1781895600@livemusickelowna.ca
SUMMARY:Songwriters @ Marmalade Cat Cafe
DESCRIPTION:Live music every Friday at The Marmalade Cat Cafe Pandosy from 5 to 7!
URL:https://livemusickelowna.ca/event/songwriters-marmalade-cat-cafe-2/2026-06-19/
LOCATION:Marmalade Cat Cafe\, 2903 Pandosy St #103\, Kelowna\, British Columbia\, V1Y 1W1\, Canada
CATEGORIES:Singer/Songwriter
ATTACH;FMTTYPE=image/jpeg:https://livemusickelowna.ca/wp-content/uploads/2025/10/556227675_10165951200697785_5914304530497974682_n.jpg
END:VEVENT
BEGIN:VEVENT
DTSTART;TZID=America/Vancouver:20260626T170000
DTEND;TZID=America/Vancouver:20260626T190000
DTSTAMP:20260419T081418
CREATED:20251029T153929Z
LAST-MODIFIED:20251029T153929Z
UID:10024561-1782493200-1782500400@livemusickelowna.ca
SUMMARY:Jazz with Leila Neverland
DESCRIPTION:Live music every Friday at The Marmalade Cat Cafe Pandosy from 5 to 7. First Friday of the month songwriters in the round; 2nd Friday Christine Pomeroy open mic; 3rd Friday Gail and Karl (triple AAA) Adult Acoustic Alternative; Last Friday Leila Neverland
URL:https://livemusickelowna.ca/event/live-music-at-marmalade-cat-cafe-2/2026-06-26/
LOCATION:Marmalade Cat Cafe\, 2903 Pandosy St #103\, Kelowna\, British Columbia\, V1Y 1W1\, Canada
CATEGORIES:Jazz
ATTACH;FMTTYPE=image/jpeg:https://livemusickelowna.ca/wp-content/uploads/2025/10/0027091170_25.jpg
END:VEVENT
BEGIN:VEVENT
DTSTART;TZID=America/Vancouver:20260626T170000
DTEND;TZID=America/Vancouver:20260626T190000
DTSTAMP:20260419T081418
CREATED:20260309T173312Z
LAST-MODIFIED:20260413T182458Z
UID:10026226-1782493200-1782500400@livemusickelowna.ca
SUMMARY:Songwriters @ Marmalade Cat Cafe
DESCRIPTION:Live music every Friday at The Marmalade Cat Cafe Pandosy from 5 to 7!
URL:https://livemusickelowna.ca/event/songwriters-marmalade-cat-cafe-2/2026-06-26/
LOCATION:Marmalade Cat Cafe\, 2903 Pandosy St #103\, Kelowna\, British Columbia\, V1Y 1W1\, Canada
CATEGORIES:Singer/Songwriter
ATTACH;FMTTYPE=image/jpeg:https://livemusickelowna.ca/wp-content/uploads/2025/10/556227675_10165951200697785_5914304530497974682_n.jpg
END:VEVENT
BEGIN:VEVENT
DTSTART;TZID=America/Vancouver:20260703T170000
DTEND;TZID=America/Vancouver:20260703T190000
DTSTAMP:20260419T081418
CREATED:20260309T173312Z
LAST-MODIFIED:20260413T182458Z
UID:10024513-1783098000-1783105200@livemusickelowna.ca
SUMMARY:Songwriters @ Marmalade Cat Cafe
DESCRIPTION:Live music every Friday at The Marmalade Cat Cafe Pandosy from 5 to 7!
URL:https://livemusickelowna.ca/event/songwriters-marmalade-cat-cafe-2/2026-07-03/
LOCATION:Marmalade Cat Cafe\, 2903 Pandosy St #103\, Kelowna\, British Columbia\, V1Y 1W1\, Canada
CATEGORIES:Singer/Songwriter
ATTACH;FMTTYPE=image/jpeg:https://livemusickelowna.ca/wp-content/uploads/2025/10/556227675_10165951200697785_5914304530497974682_n.jpg
END:VEVENT
BEGIN:VEVENT
DTSTART;TZID=America/Vancouver:20260710T170000
DTEND;TZID=America/Vancouver:20260710T190000
DTSTAMP:20260419T081418
CREATED:20251029T153634Z
LAST-MODIFIED:20251029T153644Z
UID:10024533-1783702800-1783710000@livemusickelowna.ca
SUMMARY:Open Mic with Christine Pomeroy
DESCRIPTION:Live music every Friday at The Marmalade Cat Cafe Pandosy from 5 to 7. First Friday of the month songwriters in the round; 2nd Friday Christine Pomeroy open mic; 3rd Friday Gail and Karl (triple AAA) Adult Acoustic Alternative; Last Friday Leila Neverland
URL:https://livemusickelowna.ca/event/open-mic-with-christine-pomeroy/2026-07-10/
LOCATION:Marmalade Cat Cafe\, 2903 Pandosy St #103\, Kelowna\, British Columbia\, V1Y 1W1\, Canada
CATEGORIES:Open Mic
ATTACH;FMTTYPE=image/jpeg:https://livemusickelowna.ca/wp-content/uploads/2025/10/556227675_10165951200697785_5914304530497974682_n.jpg
END:VEVENT
BEGIN:VEVENT
DTSTART;TZID=America/Vancouver:20260710T170000
DTEND;TZID=America/Vancouver:20260710T190000
DTSTAMP:20260419T081418
CREATED:20260309T173312Z
LAST-MODIFIED:20260413T182458Z
UID:10026227-1783702800-1783710000@livemusickelowna.ca
SUMMARY:Songwriters @ Marmalade Cat Cafe
DESCRIPTION:Live music every Friday at The Marmalade Cat Cafe Pandosy from 5 to 7!
URL:https://livemusickelowna.ca/event/songwriters-marmalade-cat-cafe-2/2026-07-10/
LOCATION:Marmalade Cat Cafe\, 2903 Pandosy St #103\, Kelowna\, British Columbia\, V1Y 1W1\, Canada
CATEGORIES:Singer/Songwriter
ATTACH;FMTTYPE=image/jpeg:https://livemusickelowna.ca/wp-content/uploads/2025/10/556227675_10165951200697785_5914304530497974682_n.jpg
END:VEVENT
BEGIN:VEVENT
DTSTART;TZID=America/Vancouver:20260717T170000
DTEND;TZID=America/Vancouver:20260717T190000
DTSTAMP:20260419T081418
CREATED:20251029T153758Z
LAST-MODIFIED:20251029T154306Z
UID:10024553-1784307600-1784314800@livemusickelowna.ca
SUMMARY:Gail and Karl plus special guest @ Marmalade Cat Cafe
DESCRIPTION:Live music every Friday at The Marmalade Cat Cafe Pandosy from 5 to 7. First Friday of the month songwriters in the round; 2nd Friday Christine Pomeroy open mic; 3rd Friday Gail and Karl (triple AAA) Adult Acoustic Alternative; Last Friday Leila Neverland
URL:https://livemusickelowna.ca/event/gail-and-karl-plus-special-guest-marmalade-cat-cafe/2026-07-17/
LOCATION:Marmalade Cat Cafe\, 2903 Pandosy St #103\, Kelowna\, British Columbia\, V1Y 1W1\, Canada
CATEGORIES:Folk,Rock
ATTACH;FMTTYPE=image/jpeg:https://livemusickelowna.ca/wp-content/uploads/2025/10/artworks-asBZh1OvxrDQqzwG-dxrOIA-t1080x1080.jpg
END:VEVENT
BEGIN:VEVENT
DTSTART;TZID=America/Vancouver:20260717T170000
DTEND;TZID=America/Vancouver:20260717T190000
DTSTAMP:20260419T081418
CREATED:20260309T173312Z
LAST-MODIFIED:20260413T182458Z
UID:10026228-1784307600-1784314800@livemusickelowna.ca
SUMMARY:Songwriters @ Marmalade Cat Cafe
DESCRIPTION:Live music every Friday at The Marmalade Cat Cafe Pandosy from 5 to 7!
URL:https://livemusickelowna.ca/event/songwriters-marmalade-cat-cafe-2/2026-07-17/
LOCATION:Marmalade Cat Cafe\, 2903 Pandosy St #103\, Kelowna\, British Columbia\, V1Y 1W1\, Canada
CATEGORIES:Singer/Songwriter
ATTACH;FMTTYPE=image/jpeg:https://livemusickelowna.ca/wp-content/uploads/2025/10/556227675_10165951200697785_5914304530497974682_n.jpg
END:VEVENT
BEGIN:VEVENT
DTSTART;TZID=America/Vancouver:20260724T170000
DTEND;TZID=America/Vancouver:20260724T190000
DTSTAMP:20260419T081418
CREATED:20251029T153929Z
LAST-MODIFIED:20251029T153929Z
UID:10024562-1784912400-1784919600@livemusickelowna.ca
SUMMARY:Jazz with Leila Neverland
DESCRIPTION:Live music every Friday at The Marmalade Cat Cafe Pandosy from 5 to 7. First Friday of the month songwriters in the round; 2nd Friday Christine Pomeroy open mic; 3rd Friday Gail and Karl (triple AAA) Adult Acoustic Alternative; Last Friday Leila Neverland
URL:https://livemusickelowna.ca/event/live-music-at-marmalade-cat-cafe-2/2026-07-24/
LOCATION:Marmalade Cat Cafe\, 2903 Pandosy St #103\, Kelowna\, British Columbia\, V1Y 1W1\, Canada
CATEGORIES:Jazz
ATTACH;FMTTYPE=image/jpeg:https://livemusickelowna.ca/wp-content/uploads/2025/10/0027091170_25.jpg
END:VEVENT
BEGIN:VEVENT
DTSTART;TZID=America/Vancouver:20260724T170000
DTEND;TZID=America/Vancouver:20260724T190000
DTSTAMP:20260419T081418
CREATED:20260309T173312Z
LAST-MODIFIED:20260413T182458Z
UID:10026229-1784912400-1784919600@livemusickelowna.ca
SUMMARY:Songwriters @ Marmalade Cat Cafe
DESCRIPTION:Live music every Friday at The Marmalade Cat Cafe Pandosy from 5 to 7!
URL:https://livemusickelowna.ca/event/songwriters-marmalade-cat-cafe-2/2026-07-24/
LOCATION:Marmalade Cat Cafe\, 2903 Pandosy St #103\, Kelowna\, British Columbia\, V1Y 1W1\, Canada
CATEGORIES:Singer/Songwriter
ATTACH;FMTTYPE=image/jpeg:https://livemusickelowna.ca/wp-content/uploads/2025/10/556227675_10165951200697785_5914304530497974682_n.jpg
END:VEVENT
BEGIN:VEVENT
DTSTART;TZID=America/Vancouver:20260731T170000
DTEND;TZID=America/Vancouver:20260731T190000
DTSTAMP:20260419T081418
CREATED:20260309T173312Z
LAST-MODIFIED:20260413T182458Z
UID:10026821-1785517200-1785524400@livemusickelowna.ca
SUMMARY:Songwriters @ Marmalade Cat Cafe
DESCRIPTION:Live music every Friday at The Marmalade Cat Cafe Pandosy from 5 to 7!
URL:https://livemusickelowna.ca/event/songwriters-marmalade-cat-cafe-2/2026-07-31/
LOCATION:Marmalade Cat Cafe\, 2903 Pandosy St #103\, Kelowna\, British Columbia\, V1Y 1W1\, Canada
CATEGORIES:Singer/Songwriter
ATTACH;FMTTYPE=image/jpeg:https://livemusickelowna.ca/wp-content/uploads/2025/10/556227675_10165951200697785_5914304530497974682_n.jpg
END:VEVENT
BEGIN:VEVENT
DTSTART;TZID=America/Vancouver:20260807T170000
DTEND;TZID=America/Vancouver:20260807T190000
DTSTAMP:20260419T081418
CREATED:20260309T173312Z
LAST-MODIFIED:20260413T182458Z
UID:10026822-1786122000-1786129200@livemusickelowna.ca
SUMMARY:Songwriters @ Marmalade Cat Cafe
DESCRIPTION:Live music every Friday at The Marmalade Cat Cafe Pandosy from 5 to 7!
URL:https://livemusickelowna.ca/event/songwriters-marmalade-cat-cafe-2/2026-08-07/
LOCATION:Marmalade Cat Cafe\, 2903 Pandosy St #103\, Kelowna\, British Columbia\, V1Y 1W1\, Canada
CATEGORIES:Singer/Songwriter
ATTACH;FMTTYPE=image/jpeg:https://livemusickelowna.ca/wp-content/uploads/2025/10/556227675_10165951200697785_5914304530497974682_n.jpg
END:VEVENT
BEGIN:VEVENT
DTSTART;TZID=America/Vancouver:20260814T170000
DTEND;TZID=America/Vancouver:20260814T190000
DTSTAMP:20260419T081418
CREATED:20251029T153634Z
LAST-MODIFIED:20251029T153644Z
UID:10024534-1786726800-1786734000@livemusickelowna.ca
SUMMARY:Open Mic with Christine Pomeroy
DESCRIPTION:Live music every Friday at The Marmalade Cat Cafe Pandosy from 5 to 7. First Friday of the month songwriters in the round; 2nd Friday Christine Pomeroy open mic; 3rd Friday Gail and Karl (triple AAA) Adult Acoustic Alternative; Last Friday Leila Neverland
URL:https://livemusickelowna.ca/event/open-mic-with-christine-pomeroy/2026-08-14/
LOCATION:Marmalade Cat Cafe\, 2903 Pandosy St #103\, Kelowna\, British Columbia\, V1Y 1W1\, Canada
CATEGORIES:Open Mic
ATTACH;FMTTYPE=image/jpeg:https://livemusickelowna.ca/wp-content/uploads/2025/10/556227675_10165951200697785_5914304530497974682_n.jpg
END:VEVENT
BEGIN:VEVENT
DTSTART;TZID=America/Vancouver:20260821T170000
DTEND;TZID=America/Vancouver:20260821T190000
DTSTAMP:20260419T081418
CREATED:20251029T153758Z
LAST-MODIFIED:20251029T154306Z
UID:10024554-1787331600-1787338800@livemusickelowna.ca
SUMMARY:Gail and Karl plus special guest @ Marmalade Cat Cafe
DESCRIPTION:Live music every Friday at The Marmalade Cat Cafe Pandosy from 5 to 7. First Friday of the month songwriters in the round; 2nd Friday Christine Pomeroy open mic; 3rd Friday Gail and Karl (triple AAA) Adult Acoustic Alternative; Last Friday Leila Neverland
URL:https://livemusickelowna.ca/event/gail-and-karl-plus-special-guest-marmalade-cat-cafe/2026-08-21/
LOCATION:Marmalade Cat Cafe\, 2903 Pandosy St #103\, Kelowna\, British Columbia\, V1Y 1W1\, Canada
CATEGORIES:Folk,Rock
ATTACH;FMTTYPE=image/jpeg:https://livemusickelowna.ca/wp-content/uploads/2025/10/artworks-asBZh1OvxrDQqzwG-dxrOIA-t1080x1080.jpg
END:VEVENT
END:VCALENDAR