BEGIN:VCALENDAR
VERSION:2.0
PRODID:-//Live Music Kelowna - ECPv6.15.18//NONSGML v1.0//EN
CALSCALE:GREGORIAN
METHOD:PUBLISH
X-ORIGINAL-URL:https://livemusickelowna.ca
X-WR-CALDESC:Events for Live Music Kelowna
REFRESH-INTERVAL;VALUE=DURATION:PT1H
X-Robots-Tag:noindex
X-PUBLISHED-TTL:PT1H
BEGIN:VTIMEZONE
TZID:America/Vancouver
BEGIN:DAYLIGHT
TZOFFSETFROM:-0800
TZOFFSETTO:-0700
TZNAME:PDT
DTSTART:20250309T100000
END:DAYLIGHT
BEGIN:STANDARD
TZOFFSETFROM:-0700
TZOFFSETTO:-0800
TZNAME:PST
DTSTART:20251102T090000
END:STANDARD
BEGIN:DAYLIGHT
TZOFFSETFROM:-0800
TZOFFSETTO:-0700
TZNAME:PDT
DTSTART:20260308T100000
END:DAYLIGHT
BEGIN:STANDARD
TZOFFSETFROM:-0700
TZOFFSETTO:-0800
TZNAME:PST
DTSTART:20261101T090000
END:STANDARD
BEGIN:DAYLIGHT
TZOFFSETFROM:-0800
TZOFFSETTO:-0700
TZNAME:PDT
DTSTART:20270314T100000
END:DAYLIGHT
BEGIN:STANDARD
TZOFFSETFROM:-0700
TZOFFSETTO:-0800
TZNAME:PST
DTSTART:20271107T090000
END:STANDARD
END:VTIMEZONE
BEGIN:VEVENT
DTSTART;TZID=America/Vancouver:20260722T183000
DTEND;TZID=America/Vancouver:20260722T203000
DTSTAMP:20260419T062129
CREATED:20260325T223932Z
LAST-MODIFIED:20260325T223932Z
UID:10026617-1784745000-1784752200@livemusickelowna.ca
SUMMARY:Dominick Antonelli at Kettle River Brewing
DESCRIPTION:Dominick Antonelli is on tour for his first time in BC and will be sharing an evening of original music at Kettle River Brewing in Kelowna\, BC on Wednesday July 22nd at 630 pm. Come out for an evening of delicious food\, drinks and live music!
URL:https://livemusickelowna.ca/event/dominick-antonelli-at-kettle-river-brewing/
LOCATION:Kettle River Brewing Co.\, 731 Baillie Avenue\, Kelowna\, BC\, V1Y-7E9\, Canada
CATEGORIES:Acoustic,Singer/Songwriter
ATTACH;FMTTYPE=image/jpeg:https://livemusickelowna.ca/wp-content/uploads/2026/03/IMG_3679.jpg
END:VEVENT
END:VCALENDAR