BEGIN:VCALENDAR
VERSION:2.0
PRODID:-//Live Music Kelowna - ECPv6.15.20//NONSGML v1.0//EN
CALSCALE:GREGORIAN
METHOD:PUBLISH
X-ORIGINAL-URL:https://livemusickelowna.ca
X-WR-CALDESC:Events for Live Music Kelowna
REFRESH-INTERVAL;VALUE=DURATION:PT1H
X-Robots-Tag:noindex
X-PUBLISHED-TTL:PT1H
BEGIN:VTIMEZONE
TZID:America/Vancouver
BEGIN:DAYLIGHT
TZOFFSETFROM:-0800
TZOFFSETTO:-0700
TZNAME:PDT
DTSTART:20250309T100000
END:DAYLIGHT
BEGIN:STANDARD
TZOFFSETFROM:-0700
TZOFFSETTO:-0800
TZNAME:PST
DTSTART:20251102T090000
END:STANDARD
BEGIN:DAYLIGHT
TZOFFSETFROM:-0800
TZOFFSETTO:-0700
TZNAME:PDT
DTSTART:20260308T100000
END:DAYLIGHT
BEGIN:STANDARD
TZOFFSETFROM:-0700
TZOFFSETTO:-0800
TZNAME:PST
DTSTART:20261101T090000
END:STANDARD
BEGIN:DAYLIGHT
TZOFFSETFROM:-0800
TZOFFSETTO:-0700
TZNAME:PDT
DTSTART:20270314T100000
END:DAYLIGHT
BEGIN:STANDARD
TZOFFSETFROM:-0700
TZOFFSETTO:-0800
TZNAME:PST
DTSTART:20271107T090000
END:STANDARD
END:VTIMEZONE
BEGIN:VEVENT
DTSTART;TZID=America/Vancouver:20260426T220000
DTEND;TZID=America/Vancouver:20260426T220000
DTSTAMP:20260421T091957
CREATED:20260201T200922Z
LAST-MODIFIED:20260201T200922Z
UID:10025903-1777240800-1777240800@livemusickelowna.ca
SUMMARY:Distrikit Saturdays
DESCRIPTION:
URL:https://livemusickelowna.ca/event/distrikit-saturdays/2026-04-26/
LOCATION:Distrikt Night Club\, 275 LEON AVENUE\, KELOWNA\, British Columbia\, V1Y 6J1\, Canada
CATEGORIES:Mixed Genres
ATTACH;FMTTYPE=image/jpeg:https://livemusickelowna.ca/wp-content/uploads/2026/02/WhatsApp-Image-2026-02-02-at-1.00.08-AM.jpeg
END:VEVENT
BEGIN:VEVENT
DTSTART;TZID=America/Vancouver:20260503T220000
DTEND;TZID=America/Vancouver:20260503T220000
DTSTAMP:20260421T091957
CREATED:20260201T200922Z
LAST-MODIFIED:20260201T200922Z
UID:10025904-1777845600-1777845600@livemusickelowna.ca
SUMMARY:Distrikit Saturdays
DESCRIPTION:
URL:https://livemusickelowna.ca/event/distrikit-saturdays/2026-05-03/
LOCATION:Distrikt Night Club\, 275 LEON AVENUE\, KELOWNA\, British Columbia\, V1Y 6J1\, Canada
CATEGORIES:Mixed Genres
ATTACH;FMTTYPE=image/jpeg:https://livemusickelowna.ca/wp-content/uploads/2026/02/WhatsApp-Image-2026-02-02-at-1.00.08-AM.jpeg
END:VEVENT
BEGIN:VEVENT
DTSTART;TZID=America/Vancouver:20260510T220000
DTEND;TZID=America/Vancouver:20260510T220000
DTSTAMP:20260421T091957
CREATED:20260201T200922Z
LAST-MODIFIED:20260201T200922Z
UID:10025905-1778450400-1778450400@livemusickelowna.ca
SUMMARY:Distrikit Saturdays
DESCRIPTION:
URL:https://livemusickelowna.ca/event/distrikit-saturdays/2026-05-10/
LOCATION:Distrikt Night Club\, 275 LEON AVENUE\, KELOWNA\, British Columbia\, V1Y 6J1\, Canada
CATEGORIES:Mixed Genres
ATTACH;FMTTYPE=image/jpeg:https://livemusickelowna.ca/wp-content/uploads/2026/02/WhatsApp-Image-2026-02-02-at-1.00.08-AM.jpeg
END:VEVENT
BEGIN:VEVENT
DTSTART;TZID=America/Vancouver:20260517T220000
DTEND;TZID=America/Vancouver:20260517T220000
DTSTAMP:20260421T091957
CREATED:20260201T200922Z
LAST-MODIFIED:20260201T200922Z
UID:10025906-1779055200-1779055200@livemusickelowna.ca
SUMMARY:Distrikit Saturdays
DESCRIPTION:
URL:https://livemusickelowna.ca/event/distrikit-saturdays/2026-05-17/
LOCATION:Distrikt Night Club\, 275 LEON AVENUE\, KELOWNA\, British Columbia\, V1Y 6J1\, Canada
CATEGORIES:Mixed Genres
ATTACH;FMTTYPE=image/jpeg:https://livemusickelowna.ca/wp-content/uploads/2026/02/WhatsApp-Image-2026-02-02-at-1.00.08-AM.jpeg
END:VEVENT
END:VCALENDAR