BEGIN:VCALENDAR
VERSION:2.0
PRODID:-//Live Music Kelowna - ECPv6.15.20//NONSGML v1.0//EN
CALSCALE:GREGORIAN
METHOD:PUBLISH
X-WR-CALNAME:Live Music Kelowna
X-ORIGINAL-URL:https://livemusickelowna.ca
X-WR-CALDESC:Events for Live Music Kelowna
REFRESH-INTERVAL;VALUE=DURATION:PT1H
X-Robots-Tag:noindex
X-PUBLISHED-TTL:PT1H
BEGIN:VTIMEZONE
TZID:America/Vancouver
BEGIN:DAYLIGHT
TZOFFSETFROM:-0800
TZOFFSETTO:-0700
TZNAME:PDT
DTSTART:20250309T100000
END:DAYLIGHT
BEGIN:STANDARD
TZOFFSETFROM:-0700
TZOFFSETTO:-0800
TZNAME:PST
DTSTART:20251102T090000
END:STANDARD
BEGIN:DAYLIGHT
TZOFFSETFROM:-0800
TZOFFSETTO:-0700
TZNAME:PDT
DTSTART:20260308T100000
END:DAYLIGHT
BEGIN:STANDARD
TZOFFSETFROM:-0700
TZOFFSETTO:-0800
TZNAME:PST
DTSTART:20261101T090000
END:STANDARD
BEGIN:DAYLIGHT
TZOFFSETFROM:-0800
TZOFFSETTO:-0700
TZNAME:PDT
DTSTART:20270314T100000
END:DAYLIGHT
BEGIN:STANDARD
TZOFFSETFROM:-0700
TZOFFSETTO:-0800
TZNAME:PST
DTSTART:20271107T090000
END:STANDARD
END:VTIMEZONE
BEGIN:VEVENT
DTSTART;TZID=America/Vancouver:20260508T180000
DTEND;TZID=America/Vancouver:20260508T200000
DTSTAMP:20260420T141334
CREATED:20260420T174723Z
LAST-MODIFIED:20260420T174829Z
UID:10026839-1778263200-1778270400@livemusickelowna.ca
SUMMARY:Jazz in the speakeasy
DESCRIPTION:Urban Distilleries: Jazz in the Speakeasy with Roseanarig.\nVenture into the Speakeasy space at Urban Distilleries with Roseanarig for a Jazz night to remember! Glitz & Glamour with a few Feathers.\nDoors open at 5:00 PM. Show is from 6:00 – 8:00 PM. Parking available on Bernard.\nWalk into an unforgettable evening of vintage flair in the Speakeasy Lounge\, upstairs inside Urban Distillery. Roseanarig’s Jazz\, Blues & Doo-Wop Night brings the golden age BACK with a swing!\nEnjoy a curated lineup of classic jazz\, blues and doo-wop hits\, performed live in an intimate setting that echoes the charm of a bygone era. Get ready to sing along and enjoy some delicious cocktails\, while watching feather dance routines. A performance that is old-Hollywood glamour and playful sophistication\, and some comedy!\nWhether you’re swaying in your seat\, sharing a slow dance\, enjoying a delicious dinner\, or simply sipping a handcrafted cocktail\, this is your invitation to dress sharp\, unwind\, and let the music carry you back in time. Three course dinner with pairings and appies are available. Jazz\, Blues\, feathers\, and a hint of speakeasy smoke—an evening of style and sound you won’t want to miss so order a delicious dish! Space is limited…get your tickets before they are gone!
URL:https://livemusickelowna.ca/event/jazz-in-the-speakeasy/2026-05-08/
LOCATION:Urban Distilleries\, 327 Bernard Ave\, Kelowna\, BC\, British Columbia\, V1Y 6N6\, Canada
CATEGORIES:Jazz
ATTACH;FMTTYPE=image/jpeg:https://livemusickelowna.ca/wp-content/uploads/2026/04/672174872_817198148124742_114075704539712413_n.jpg
END:VEVENT
BEGIN:VEVENT
DTSTART;TZID=America/Vancouver:20260606T180000
DTEND;TZID=America/Vancouver:20260606T200000
DTSTAMP:20260420T141334
CREATED:20260420T174723Z
LAST-MODIFIED:20260420T174829Z
UID:10026840-1780768800-1780776000@livemusickelowna.ca
SUMMARY:Jazz in the speakeasy
DESCRIPTION:Urban Distilleries: Jazz in the Speakeasy with Roseanarig.\nVenture into the Speakeasy space at Urban Distilleries with Roseanarig for a Jazz night to remember! Glitz & Glamour with a few Feathers.\nDoors open at 5:00 PM. Show is from 6:00 – 8:00 PM. Parking available on Bernard.\nWalk into an unforgettable evening of vintage flair in the Speakeasy Lounge\, upstairs inside Urban Distillery. Roseanarig’s Jazz\, Blues & Doo-Wop Night brings the golden age BACK with a swing!\nEnjoy a curated lineup of classic jazz\, blues and doo-wop hits\, performed live in an intimate setting that echoes the charm of a bygone era. Get ready to sing along and enjoy some delicious cocktails\, while watching feather dance routines. A performance that is old-Hollywood glamour and playful sophistication\, and some comedy!\nWhether you’re swaying in your seat\, sharing a slow dance\, enjoying a delicious dinner\, or simply sipping a handcrafted cocktail\, this is your invitation to dress sharp\, unwind\, and let the music carry you back in time. Three course dinner with pairings and appies are available. Jazz\, Blues\, feathers\, and a hint of speakeasy smoke—an evening of style and sound you won’t want to miss so order a delicious dish! Space is limited…get your tickets before they are gone!
URL:https://livemusickelowna.ca/event/jazz-in-the-speakeasy/2026-06-06/
LOCATION:Urban Distilleries\, 327 Bernard Ave\, Kelowna\, BC\, British Columbia\, V1Y 6N6\, Canada
CATEGORIES:Jazz
ATTACH;FMTTYPE=image/jpeg:https://livemusickelowna.ca/wp-content/uploads/2026/04/672174872_817198148124742_114075704539712413_n.jpg
END:VEVENT
BEGIN:VEVENT
DTSTART;TZID=America/Vancouver:20260717T180000
DTEND;TZID=America/Vancouver:20260717T200000
DTSTAMP:20260420T141334
CREATED:20260420T174723Z
LAST-MODIFIED:20260420T174829Z
UID:10026841-1784311200-1784318400@livemusickelowna.ca
SUMMARY:Jazz in the speakeasy
DESCRIPTION:Urban Distilleries: Jazz in the Speakeasy with Roseanarig.\nVenture into the Speakeasy space at Urban Distilleries with Roseanarig for a Jazz night to remember! Glitz & Glamour with a few Feathers.\nDoors open at 5:00 PM. Show is from 6:00 – 8:00 PM. Parking available on Bernard.\nWalk into an unforgettable evening of vintage flair in the Speakeasy Lounge\, upstairs inside Urban Distillery. Roseanarig’s Jazz\, Blues & Doo-Wop Night brings the golden age BACK with a swing!\nEnjoy a curated lineup of classic jazz\, blues and doo-wop hits\, performed live in an intimate setting that echoes the charm of a bygone era. Get ready to sing along and enjoy some delicious cocktails\, while watching feather dance routines. A performance that is old-Hollywood glamour and playful sophistication\, and some comedy!\nWhether you’re swaying in your seat\, sharing a slow dance\, enjoying a delicious dinner\, or simply sipping a handcrafted cocktail\, this is your invitation to dress sharp\, unwind\, and let the music carry you back in time. Three course dinner with pairings and appies are available. Jazz\, Blues\, feathers\, and a hint of speakeasy smoke—an evening of style and sound you won’t want to miss so order a delicious dish! Space is limited…get your tickets before they are gone!
URL:https://livemusickelowna.ca/event/jazz-in-the-speakeasy/2026-07-17/
LOCATION:Urban Distilleries\, 327 Bernard Ave\, Kelowna\, BC\, British Columbia\, V1Y 6N6\, Canada
CATEGORIES:Jazz
ATTACH;FMTTYPE=image/jpeg:https://livemusickelowna.ca/wp-content/uploads/2026/04/672174872_817198148124742_114075704539712413_n.jpg
END:VEVENT
BEGIN:VEVENT
DTSTART;TZID=America/Vancouver:20260821T180000
DTEND;TZID=America/Vancouver:20260821T200000
DTSTAMP:20260420T141334
CREATED:20260420T174723Z
LAST-MODIFIED:20260420T174829Z
UID:10026842-1787335200-1787342400@livemusickelowna.ca
SUMMARY:Jazz in the speakeasy
DESCRIPTION:Urban Distilleries: Jazz in the Speakeasy with Roseanarig.\nVenture into the Speakeasy space at Urban Distilleries with Roseanarig for a Jazz night to remember! Glitz & Glamour with a few Feathers.\nDoors open at 5:00 PM. Show is from 6:00 – 8:00 PM. Parking available on Bernard.\nWalk into an unforgettable evening of vintage flair in the Speakeasy Lounge\, upstairs inside Urban Distillery. Roseanarig’s Jazz\, Blues & Doo-Wop Night brings the golden age BACK with a swing!\nEnjoy a curated lineup of classic jazz\, blues and doo-wop hits\, performed live in an intimate setting that echoes the charm of a bygone era. Get ready to sing along and enjoy some delicious cocktails\, while watching feather dance routines. A performance that is old-Hollywood glamour and playful sophistication\, and some comedy!\nWhether you’re swaying in your seat\, sharing a slow dance\, enjoying a delicious dinner\, or simply sipping a handcrafted cocktail\, this is your invitation to dress sharp\, unwind\, and let the music carry you back in time. Three course dinner with pairings and appies are available. Jazz\, Blues\, feathers\, and a hint of speakeasy smoke—an evening of style and sound you won’t want to miss so order a delicious dish! Space is limited…get your tickets before they are gone!
URL:https://livemusickelowna.ca/event/jazz-in-the-speakeasy/2026-08-21/
LOCATION:Urban Distilleries\, 327 Bernard Ave\, Kelowna\, BC\, British Columbia\, V1Y 6N6\, Canada
CATEGORIES:Jazz
ATTACH;FMTTYPE=image/jpeg:https://livemusickelowna.ca/wp-content/uploads/2026/04/672174872_817198148124742_114075704539712413_n.jpg
END:VEVENT
END:VCALENDAR