BEGIN:VCALENDAR
VERSION:2.0
PRODID:-//Live Music Kelowna - ECPv6.15.20//NONSGML v1.0//EN
CALSCALE:GREGORIAN
METHOD:PUBLISH
X-WR-CALNAME:Live Music Kelowna
X-ORIGINAL-URL:https://livemusickelowna.ca
X-WR-CALDESC:Events for Live Music Kelowna
REFRESH-INTERVAL;VALUE=DURATION:PT1H
X-Robots-Tag:noindex
X-PUBLISHED-TTL:PT1H
BEGIN:VTIMEZONE
TZID:America/Vancouver
BEGIN:DAYLIGHT
TZOFFSETFROM:-0800
TZOFFSETTO:-0700
TZNAME:PDT
DTSTART:20250309T100000
END:DAYLIGHT
BEGIN:STANDARD
TZOFFSETFROM:-0700
TZOFFSETTO:-0800
TZNAME:PST
DTSTART:20251102T090000
END:STANDARD
BEGIN:DAYLIGHT
TZOFFSETFROM:-0800
TZOFFSETTO:-0700
TZNAME:PDT
DTSTART:20260308T100000
END:DAYLIGHT
BEGIN:STANDARD
TZOFFSETFROM:-0700
TZOFFSETTO:-0800
TZNAME:PST
DTSTART:20261101T090000
END:STANDARD
BEGIN:DAYLIGHT
TZOFFSETFROM:-0800
TZOFFSETTO:-0700
TZNAME:PDT
DTSTART:20270314T100000
END:DAYLIGHT
BEGIN:STANDARD
TZOFFSETFROM:-0700
TZOFFSETTO:-0800
TZNAME:PST
DTSTART:20271107T090000
END:STANDARD
END:VTIMEZONE
BEGIN:VEVENT
DTSTART;TZID=America/Vancouver:20260420T180000
DTEND;TZID=America/Vancouver:20260420T193000
DTSTAMP:20260420T132617
CREATED:20260420T172951Z
LAST-MODIFIED:20260420T172951Z
UID:10026836-1776708000-1776713400@livemusickelowna.ca
SUMMARY:Collective Singers from Namibia
DESCRIPTION:From Namibia to Kelowna: A Global Choral Celebration!\nAn unforgettable night of rhythm\, harmony\, and soul. Namibia’s renowned Collective Singers Choir is bringing their high-energy tour to Western Canada\, and Kelowna is on the map!\nFrom international stages like the World Choral Expo in Portugal\, these 36 powerful vocalists are known for performances that move the spirit (and the feet!). This isn’t just a concert—it’s a collaboration. Collective will be joined by our very own Okanagan Youth Choir and Kelowna Secondary School Choir.\nProudly sponsored by the Korora Choir Association as they celebrate their 30th Anniversary.\nBring the whole family—this is music for everyone!\n2 shows:6PM https://www.showpass.com/collective-singers-from-namibia…/\n8PM https://www.showpass.com/collective-singers-from-namibia…/
URL:https://livemusickelowna.ca/event/collective-singers-from-namibia/2026-04-20/1/
LOCATION:Central Okanagan United Church\, 721 Bernard Ave\, Kelowna
CATEGORIES:World Music
ATTACH;FMTTYPE=image/jpeg:https://livemusickelowna.ca/wp-content/uploads/2026/04/659844899_10174170650860693_1358438818374589355_n.jpg
END:VEVENT
BEGIN:VEVENT
DTSTART;TZID=America/Vancouver:20260420T200000
DTEND;TZID=America/Vancouver:20260420T213000
DTSTAMP:20260420T132617
CREATED:20260420T172951Z
LAST-MODIFIED:20260420T172951Z
UID:10026837-1776715200-1776720600@livemusickelowna.ca
SUMMARY:Collective Singers from Namibia
DESCRIPTION:From Namibia to Kelowna: A Global Choral Celebration!\nAn unforgettable night of rhythm\, harmony\, and soul. Namibia’s renowned Collective Singers Choir is bringing their high-energy tour to Western Canada\, and Kelowna is on the map!\nFrom international stages like the World Choral Expo in Portugal\, these 36 powerful vocalists are known for performances that move the spirit (and the feet!). This isn’t just a concert—it’s a collaboration. Collective will be joined by our very own Okanagan Youth Choir and Kelowna Secondary School Choir.\nProudly sponsored by the Korora Choir Association as they celebrate their 30th Anniversary.\nBring the whole family—this is music for everyone!\n2 shows:6PM https://www.showpass.com/collective-singers-from-namibia…/\n8PM https://www.showpass.com/collective-singers-from-namibia…/
URL:https://livemusickelowna.ca/event/collective-singers-from-namibia/2026-04-20/2/
LOCATION:Central Okanagan United Church\, 721 Bernard Ave\, Kelowna
CATEGORIES:World Music
ATTACH;FMTTYPE=image/jpeg:https://livemusickelowna.ca/wp-content/uploads/2026/04/659844899_10174170650860693_1358438818374589355_n.jpg
END:VEVENT
END:VCALENDAR