BEGIN:VCALENDAR
VERSION:2.0
PRODID:-//Live Music Kelowna - ECPv6.15.18//NONSGML v1.0//EN
CALSCALE:GREGORIAN
METHOD:PUBLISH
X-ORIGINAL-URL:https://livemusickelowna.ca
X-WR-CALDESC:Events for Live Music Kelowna
REFRESH-INTERVAL;VALUE=DURATION:PT1H
X-Robots-Tag:noindex
X-PUBLISHED-TTL:PT1H
BEGIN:VTIMEZONE
TZID:America/Vancouver
BEGIN:DAYLIGHT
TZOFFSETFROM:-0800
TZOFFSETTO:-0700
TZNAME:PDT
DTSTART:20250309T100000
END:DAYLIGHT
BEGIN:STANDARD
TZOFFSETFROM:-0700
TZOFFSETTO:-0800
TZNAME:PST
DTSTART:20251102T090000
END:STANDARD
BEGIN:DAYLIGHT
TZOFFSETFROM:-0800
TZOFFSETTO:-0700
TZNAME:PDT
DTSTART:20260308T100000
END:DAYLIGHT
BEGIN:STANDARD
TZOFFSETFROM:-0700
TZOFFSETTO:-0800
TZNAME:PST
DTSTART:20261101T090000
END:STANDARD
BEGIN:DAYLIGHT
TZOFFSETFROM:-0800
TZOFFSETTO:-0700
TZNAME:PDT
DTSTART:20270314T100000
END:DAYLIGHT
BEGIN:STANDARD
TZOFFSETFROM:-0700
TZOFFSETTO:-0800
TZNAME:PST
DTSTART:20271107T090000
END:STANDARD
BEGIN:DAYLIGHT
TZOFFSETFROM:-0800
TZOFFSETTO:-0700
TZNAME:PDT
DTSTART:20280312T100000
END:DAYLIGHT
BEGIN:STANDARD
TZOFFSETFROM:-0700
TZOFFSETTO:-0800
TZNAME:PST
DTSTART:20281105T090000
END:STANDARD
END:VTIMEZONE
BEGIN:VEVENT
DTSTART;TZID=America/Vancouver:20261226T230000
DTEND;TZID=America/Vancouver:20261226T235900
DTSTAMP:20260419T233652
CREATED:20251013T173128Z
LAST-MODIFIED:20251013T173128Z
UID:10024132-1798326000-1798329540@livemusickelowna.ca
SUMMARY:Funhouse Music with DJ Altair
DESCRIPTION:Join us every Saturday night starting around 11:30pm till 1AM with DJ Altair.\nNo Cover. No Reso’s required
URL:https://livemusickelowna.ca/event/funhouse-music-with-dj-altair/2026-12-26/
LOCATION:Friends of Dorothy Lounge\, 315 Lawrence Ave\, Kelowna\, British Columbia\, V1Y 6L4\, Canada
CATEGORIES:DJ Set
ATTACH;FMTTYPE=image/jpeg:https://livemusickelowna.ca/wp-content/uploads/2025/10/avatars-000247273010-znoxr0-t1080x1080.jpg
END:VEVENT
BEGIN:VEVENT
DTSTART;TZID=America/Vancouver:20261229T183000
DTEND;TZID=America/Vancouver:20261229T210000
DTSTAMP:20260419T233652
CREATED:20260309T181457Z
LAST-MODIFIED:20260309T181457Z
UID:10026274-1798569000-1798578000@livemusickelowna.ca
SUMMARY:Tuesday Jam Sessions
DESCRIPTION:oin the Fun and the Kelowna Fiddlers for an evening of traditional music. Musicians needed\, Guitar\, Bass\, Violin\, Accordian – First time is $7 and after that only $2 drop in fee. 7 Pm – 9 PM at 1353 Richter Street\, January to June\, Tuesdays. Must be 19 and over. Come at 6:30 and learn a tune.
URL:https://livemusickelowna.ca/event/tuesday-jam-sessions/2026-12-29/
LOCATION:Seniors Outreach – Recreation Centre\, 1353 Richter St.\, Kelowna\, British Columbia\, V1Y 2L5\, Canada
CATEGORIES:Fiddle,Folk
ATTACH;FMTTYPE=image/jpeg:https://livemusickelowna.ca/wp-content/uploads/2026/03/tuesday_jam_sessions_150722_l.jpg
END:VEVENT
BEGIN:VEVENT
DTSTART;TZID=America/Vancouver:20261230T180000
DTEND;TZID=America/Vancouver:20261230T200000
DTSTAMP:20260419T233652
CREATED:20260126T194129Z
LAST-MODIFIED:20260126T194129Z
UID:10025766-1798653600-1798660800@livemusickelowna.ca
SUMMARY:Wine & Song Nights
DESCRIPTION:Enjoy 50% off bottles of wine all night at Maestro’s Mediterranean every Wednesday\, as live music plays from 6:00pm-8:00pm. Check out Okanagan talent and enjoy every sip at Maestro’s Wine & Song!
URL:https://livemusickelowna.ca/event/wine-song-nights/2026-12-30/
LOCATION:Maestro’s Mediterranean Restaurant\, 3762 Lakeshore Rd\, Kelowna\, British Columbia\, Canada
CATEGORIES:Mixed Genres
ATTACH;FMTTYPE=image/jpeg:https://livemusickelowna.ca/wp-content/uploads/2026/01/maestros-2-1024x683-1.jpg
END:VEVENT
BEGIN:VEVENT
DTSTART;TZID=America/Vancouver:20270101T190000
DTEND;TZID=America/Vancouver:20270101T210000
DTSTAMP:20260419T233652
CREATED:20260316T163005Z
LAST-MODIFIED:20260316T173701Z
UID:10026441-1798830000-1798837200@livemusickelowna.ca
SUMMARY:Live Music Fridays at Eldorado
DESCRIPTION:Join us weekly at Lakeside Dining for live music! Immerse yourself in an evening of great tunes and vibrant atmosphere.\nWhether you’re enjoying a cocktail with friends or a cozy dinner\, our live music sets the perfect backdrop for a memorable night. Don’t miss out on the fun—come and experience the best of local talent! \nWhere: Lakeside Dining Restaurant – Eldorado Lounge\, Boardwalk\, or Vintage Room\nWe can’t wait to see you there!
URL:https://livemusickelowna.ca/event/live-music-fridays-at-eldorado/2027-01-01/
LOCATION:Eldorado Lounge\, 3762 Lakeshore Rd.\, Kelowna\, British Columbia\, V1W 3G9\, Canada
CATEGORIES:Mixed Genres
ATTACH;FMTTYPE=image/jpeg:https://livemusickelowna.ca/wp-content/uploads/2026/03/live_music_fridays_a_150098_l.jpg
END:VEVENT
BEGIN:VEVENT
DTSTART;TZID=America/Vancouver:20270105T183000
DTEND;TZID=America/Vancouver:20270105T210000
DTSTAMP:20260419T233652
CREATED:20260309T181457Z
LAST-MODIFIED:20260309T181457Z
UID:10026275-1799173800-1799182800@livemusickelowna.ca
SUMMARY:Tuesday Jam Sessions
DESCRIPTION:oin the Fun and the Kelowna Fiddlers for an evening of traditional music. Musicians needed\, Guitar\, Bass\, Violin\, Accordian – First time is $7 and after that only $2 drop in fee. 7 Pm – 9 PM at 1353 Richter Street\, January to June\, Tuesdays. Must be 19 and over. Come at 6:30 and learn a tune.
URL:https://livemusickelowna.ca/event/tuesday-jam-sessions/2027-01-05/
LOCATION:Seniors Outreach – Recreation Centre\, 1353 Richter St.\, Kelowna\, British Columbia\, V1Y 2L5\, Canada
CATEGORIES:Fiddle,Folk
ATTACH;FMTTYPE=image/jpeg:https://livemusickelowna.ca/wp-content/uploads/2026/03/tuesday_jam_sessions_150722_l.jpg
END:VEVENT
BEGIN:VEVENT
DTSTART;TZID=America/Vancouver:20270106T180000
DTEND;TZID=America/Vancouver:20270106T200000
DTSTAMP:20260419T233652
CREATED:20260126T194129Z
LAST-MODIFIED:20260126T194129Z
UID:10025767-1799258400-1799265600@livemusickelowna.ca
SUMMARY:Wine & Song Nights
DESCRIPTION:Enjoy 50% off bottles of wine all night at Maestro’s Mediterranean every Wednesday\, as live music plays from 6:00pm-8:00pm. Check out Okanagan talent and enjoy every sip at Maestro’s Wine & Song!
URL:https://livemusickelowna.ca/event/wine-song-nights/2027-01-06/
LOCATION:Maestro’s Mediterranean Restaurant\, 3762 Lakeshore Rd\, Kelowna\, British Columbia\, Canada
CATEGORIES:Mixed Genres
ATTACH;FMTTYPE=image/jpeg:https://livemusickelowna.ca/wp-content/uploads/2026/01/maestros-2-1024x683-1.jpg
END:VEVENT
BEGIN:VEVENT
DTSTART;TZID=America/Vancouver:20270108T190000
DTEND;TZID=America/Vancouver:20270108T210000
DTSTAMP:20260419T233652
CREATED:20260316T163005Z
LAST-MODIFIED:20260316T173701Z
UID:10026442-1799434800-1799442000@livemusickelowna.ca
SUMMARY:Live Music Fridays at Eldorado
DESCRIPTION:Join us weekly at Lakeside Dining for live music! Immerse yourself in an evening of great tunes and vibrant atmosphere.\nWhether you’re enjoying a cocktail with friends or a cozy dinner\, our live music sets the perfect backdrop for a memorable night. Don’t miss out on the fun—come and experience the best of local talent! \nWhere: Lakeside Dining Restaurant – Eldorado Lounge\, Boardwalk\, or Vintage Room\nWe can’t wait to see you there!
URL:https://livemusickelowna.ca/event/live-music-fridays-at-eldorado/2027-01-08/
LOCATION:Eldorado Lounge\, 3762 Lakeshore Rd.\, Kelowna\, British Columbia\, V1W 3G9\, Canada
CATEGORIES:Mixed Genres
ATTACH;FMTTYPE=image/jpeg:https://livemusickelowna.ca/wp-content/uploads/2026/03/live_music_fridays_a_150098_l.jpg
END:VEVENT
BEGIN:VEVENT
DTSTART;TZID=America/Vancouver:20270112T183000
DTEND;TZID=America/Vancouver:20270112T210000
DTSTAMP:20260419T233652
CREATED:20260309T181457Z
LAST-MODIFIED:20260309T181457Z
UID:10026276-1799778600-1799787600@livemusickelowna.ca
SUMMARY:Tuesday Jam Sessions
DESCRIPTION:oin the Fun and the Kelowna Fiddlers for an evening of traditional music. Musicians needed\, Guitar\, Bass\, Violin\, Accordian – First time is $7 and after that only $2 drop in fee. 7 Pm – 9 PM at 1353 Richter Street\, January to June\, Tuesdays. Must be 19 and over. Come at 6:30 and learn a tune.
URL:https://livemusickelowna.ca/event/tuesday-jam-sessions/2027-01-12/
LOCATION:Seniors Outreach – Recreation Centre\, 1353 Richter St.\, Kelowna\, British Columbia\, V1Y 2L5\, Canada
CATEGORIES:Fiddle,Folk
ATTACH;FMTTYPE=image/jpeg:https://livemusickelowna.ca/wp-content/uploads/2026/03/tuesday_jam_sessions_150722_l.jpg
END:VEVENT
BEGIN:VEVENT
DTSTART;TZID=America/Vancouver:20270113T180000
DTEND;TZID=America/Vancouver:20270113T200000
DTSTAMP:20260419T233652
CREATED:20260126T194129Z
LAST-MODIFIED:20260126T194129Z
UID:10025768-1799863200-1799870400@livemusickelowna.ca
SUMMARY:Wine & Song Nights
DESCRIPTION:Enjoy 50% off bottles of wine all night at Maestro’s Mediterranean every Wednesday\, as live music plays from 6:00pm-8:00pm. Check out Okanagan talent and enjoy every sip at Maestro’s Wine & Song!
URL:https://livemusickelowna.ca/event/wine-song-nights/2027-01-13/
LOCATION:Maestro’s Mediterranean Restaurant\, 3762 Lakeshore Rd\, Kelowna\, British Columbia\, Canada
CATEGORIES:Mixed Genres
ATTACH;FMTTYPE=image/jpeg:https://livemusickelowna.ca/wp-content/uploads/2026/01/maestros-2-1024x683-1.jpg
END:VEVENT
BEGIN:VEVENT
DTSTART;TZID=America/Vancouver:20270115T190000
DTEND;TZID=America/Vancouver:20270115T210000
DTSTAMP:20260419T233652
CREATED:20260316T163005Z
LAST-MODIFIED:20260316T173701Z
UID:10026443-1800039600-1800046800@livemusickelowna.ca
SUMMARY:Live Music Fridays at Eldorado
DESCRIPTION:Join us weekly at Lakeside Dining for live music! Immerse yourself in an evening of great tunes and vibrant atmosphere.\nWhether you’re enjoying a cocktail with friends or a cozy dinner\, our live music sets the perfect backdrop for a memorable night. Don’t miss out on the fun—come and experience the best of local talent! \nWhere: Lakeside Dining Restaurant – Eldorado Lounge\, Boardwalk\, or Vintage Room\nWe can’t wait to see you there!
URL:https://livemusickelowna.ca/event/live-music-fridays-at-eldorado/2027-01-15/
LOCATION:Eldorado Lounge\, 3762 Lakeshore Rd.\, Kelowna\, British Columbia\, V1W 3G9\, Canada
CATEGORIES:Mixed Genres
ATTACH;FMTTYPE=image/jpeg:https://livemusickelowna.ca/wp-content/uploads/2026/03/live_music_fridays_a_150098_l.jpg
END:VEVENT
BEGIN:VEVENT
DTSTART;TZID=America/Vancouver:20270119T183000
DTEND;TZID=America/Vancouver:20270119T210000
DTSTAMP:20260419T233652
CREATED:20260309T181457Z
LAST-MODIFIED:20260309T181457Z
UID:10026277-1800383400-1800392400@livemusickelowna.ca
SUMMARY:Tuesday Jam Sessions
DESCRIPTION:oin the Fun and the Kelowna Fiddlers for an evening of traditional music. Musicians needed\, Guitar\, Bass\, Violin\, Accordian – First time is $7 and after that only $2 drop in fee. 7 Pm – 9 PM at 1353 Richter Street\, January to June\, Tuesdays. Must be 19 and over. Come at 6:30 and learn a tune.
URL:https://livemusickelowna.ca/event/tuesday-jam-sessions/2027-01-19/
LOCATION:Seniors Outreach – Recreation Centre\, 1353 Richter St.\, Kelowna\, British Columbia\, V1Y 2L5\, Canada
CATEGORIES:Fiddle,Folk
ATTACH;FMTTYPE=image/jpeg:https://livemusickelowna.ca/wp-content/uploads/2026/03/tuesday_jam_sessions_150722_l.jpg
END:VEVENT
BEGIN:VEVENT
DTSTART;TZID=America/Vancouver:20270120T180000
DTEND;TZID=America/Vancouver:20270120T200000
DTSTAMP:20260419T233652
CREATED:20260126T194129Z
LAST-MODIFIED:20260126T194129Z
UID:10025769-1800468000-1800475200@livemusickelowna.ca
SUMMARY:Wine & Song Nights
DESCRIPTION:Enjoy 50% off bottles of wine all night at Maestro’s Mediterranean every Wednesday\, as live music plays from 6:00pm-8:00pm. Check out Okanagan talent and enjoy every sip at Maestro’s Wine & Song!
URL:https://livemusickelowna.ca/event/wine-song-nights/2027-01-20/
LOCATION:Maestro’s Mediterranean Restaurant\, 3762 Lakeshore Rd\, Kelowna\, British Columbia\, Canada
CATEGORIES:Mixed Genres
ATTACH;FMTTYPE=image/jpeg:https://livemusickelowna.ca/wp-content/uploads/2026/01/maestros-2-1024x683-1.jpg
END:VEVENT
BEGIN:VEVENT
DTSTART;TZID=America/Vancouver:20270120T190000
DTEND;TZID=America/Vancouver:20270120T220000
DTSTAMP:20260419T233652
CREATED:20260316T181024Z
LAST-MODIFIED:20260316T181024Z
UID:10026479-1800471600-1800482400@livemusickelowna.ca
SUMMARY:Salad Bowl Jam
DESCRIPTION:1st and 3rd Wednesday of every month 7pm – 10pm \nLocation: Unleashed Brewing \nGroove-centric jam: 1st and 3rd Wednesday\nDynamic sign-up\nNO SONGS – JUST JAM! \nAll instruments welcome! \nRules:\n1. Keep it groovy — no songs\, just feel\n2. Jump in — mics open anytime\n3. Uplift — support those who step up
URL:https://livemusickelowna.ca/event/salad-bowl-jam/2027-01-20/
LOCATION:Unleashed Brewing Company\, 880 Clement Ave #207\, Kelowna\, BC\, V1Y 0H8\, Canada
CATEGORIES:Open Mic
ATTACH;FMTTYPE=image/png:https://livemusickelowna.ca/wp-content/uploads/2026/03/Screenshot-2026-03-16-2.06.46-PM.png
END:VEVENT
BEGIN:VEVENT
DTSTART;TZID=America/Vancouver:20270122T190000
DTEND;TZID=America/Vancouver:20270122T210000
DTSTAMP:20260419T233652
CREATED:20260316T163005Z
LAST-MODIFIED:20260316T173701Z
UID:10026444-1800644400-1800651600@livemusickelowna.ca
SUMMARY:Live Music Fridays at Eldorado
DESCRIPTION:Join us weekly at Lakeside Dining for live music! Immerse yourself in an evening of great tunes and vibrant atmosphere.\nWhether you’re enjoying a cocktail with friends or a cozy dinner\, our live music sets the perfect backdrop for a memorable night. Don’t miss out on the fun—come and experience the best of local talent! \nWhere: Lakeside Dining Restaurant – Eldorado Lounge\, Boardwalk\, or Vintage Room\nWe can’t wait to see you there!
URL:https://livemusickelowna.ca/event/live-music-fridays-at-eldorado/2027-01-22/
LOCATION:Eldorado Lounge\, 3762 Lakeshore Rd.\, Kelowna\, British Columbia\, V1W 3G9\, Canada
CATEGORIES:Mixed Genres
ATTACH;FMTTYPE=image/jpeg:https://livemusickelowna.ca/wp-content/uploads/2026/03/live_music_fridays_a_150098_l.jpg
END:VEVENT
BEGIN:VEVENT
DTSTART;TZID=America/Vancouver:20270126T183000
DTEND;TZID=America/Vancouver:20270126T210000
DTSTAMP:20260419T233652
CREATED:20260309T181457Z
LAST-MODIFIED:20260309T181457Z
UID:10026278-1800988200-1800997200@livemusickelowna.ca
SUMMARY:Tuesday Jam Sessions
DESCRIPTION:oin the Fun and the Kelowna Fiddlers for an evening of traditional music. Musicians needed\, Guitar\, Bass\, Violin\, Accordian – First time is $7 and after that only $2 drop in fee. 7 Pm – 9 PM at 1353 Richter Street\, January to June\, Tuesdays. Must be 19 and over. Come at 6:30 and learn a tune.
URL:https://livemusickelowna.ca/event/tuesday-jam-sessions/2027-01-26/
LOCATION:Seniors Outreach – Recreation Centre\, 1353 Richter St.\, Kelowna\, British Columbia\, V1Y 2L5\, Canada
CATEGORIES:Fiddle,Folk
ATTACH;FMTTYPE=image/jpeg:https://livemusickelowna.ca/wp-content/uploads/2026/03/tuesday_jam_sessions_150722_l.jpg
END:VEVENT
BEGIN:VEVENT
DTSTART;TZID=America/Vancouver:20270129T190000
DTEND;TZID=America/Vancouver:20270129T210000
DTSTAMP:20260419T233652
CREATED:20260316T163005Z
LAST-MODIFIED:20260316T173701Z
UID:10026445-1801249200-1801256400@livemusickelowna.ca
SUMMARY:Live Music Fridays at Eldorado
DESCRIPTION:Join us weekly at Lakeside Dining for live music! Immerse yourself in an evening of great tunes and vibrant atmosphere.\nWhether you’re enjoying a cocktail with friends or a cozy dinner\, our live music sets the perfect backdrop for a memorable night. Don’t miss out on the fun—come and experience the best of local talent! \nWhere: Lakeside Dining Restaurant – Eldorado Lounge\, Boardwalk\, or Vintage Room\nWe can’t wait to see you there!
URL:https://livemusickelowna.ca/event/live-music-fridays-at-eldorado/2027-01-29/
LOCATION:Eldorado Lounge\, 3762 Lakeshore Rd.\, Kelowna\, British Columbia\, V1W 3G9\, Canada
CATEGORIES:Mixed Genres
ATTACH;FMTTYPE=image/jpeg:https://livemusickelowna.ca/wp-content/uploads/2026/03/live_music_fridays_a_150098_l.jpg
END:VEVENT
BEGIN:VEVENT
DTSTART;TZID=America/Vancouver:20270202T183000
DTEND;TZID=America/Vancouver:20270202T210000
DTSTAMP:20260419T233652
CREATED:20260309T181457Z
LAST-MODIFIED:20260309T181457Z
UID:10026279-1801593000-1801602000@livemusickelowna.ca
SUMMARY:Tuesday Jam Sessions
DESCRIPTION:oin the Fun and the Kelowna Fiddlers for an evening of traditional music. Musicians needed\, Guitar\, Bass\, Violin\, Accordian – First time is $7 and after that only $2 drop in fee. 7 Pm – 9 PM at 1353 Richter Street\, January to June\, Tuesdays. Must be 19 and over. Come at 6:30 and learn a tune.
URL:https://livemusickelowna.ca/event/tuesday-jam-sessions/2027-02-02/
LOCATION:Seniors Outreach – Recreation Centre\, 1353 Richter St.\, Kelowna\, British Columbia\, V1Y 2L5\, Canada
CATEGORIES:Fiddle,Folk
ATTACH;FMTTYPE=image/jpeg:https://livemusickelowna.ca/wp-content/uploads/2026/03/tuesday_jam_sessions_150722_l.jpg
END:VEVENT
BEGIN:VEVENT
DTSTART;TZID=America/Vancouver:20270205T190000
DTEND;TZID=America/Vancouver:20270205T210000
DTSTAMP:20260419T233652
CREATED:20260316T163005Z
LAST-MODIFIED:20260316T173701Z
UID:10026446-1801854000-1801861200@livemusickelowna.ca
SUMMARY:Live Music Fridays at Eldorado
DESCRIPTION:Join us weekly at Lakeside Dining for live music! Immerse yourself in an evening of great tunes and vibrant atmosphere.\nWhether you’re enjoying a cocktail with friends or a cozy dinner\, our live music sets the perfect backdrop for a memorable night. Don’t miss out on the fun—come and experience the best of local talent! \nWhere: Lakeside Dining Restaurant – Eldorado Lounge\, Boardwalk\, or Vintage Room\nWe can’t wait to see you there!
URL:https://livemusickelowna.ca/event/live-music-fridays-at-eldorado/2027-02-05/
LOCATION:Eldorado Lounge\, 3762 Lakeshore Rd.\, Kelowna\, British Columbia\, V1W 3G9\, Canada
CATEGORIES:Mixed Genres
ATTACH;FMTTYPE=image/jpeg:https://livemusickelowna.ca/wp-content/uploads/2026/03/live_music_fridays_a_150098_l.jpg
END:VEVENT
BEGIN:VEVENT
DTSTART;TZID=America/Vancouver:20270209T183000
DTEND;TZID=America/Vancouver:20270209T210000
DTSTAMP:20260419T233652
CREATED:20260309T181457Z
LAST-MODIFIED:20260309T181457Z
UID:10026280-1802197800-1802206800@livemusickelowna.ca
SUMMARY:Tuesday Jam Sessions
DESCRIPTION:oin the Fun and the Kelowna Fiddlers for an evening of traditional music. Musicians needed\, Guitar\, Bass\, Violin\, Accordian – First time is $7 and after that only $2 drop in fee. 7 Pm – 9 PM at 1353 Richter Street\, January to June\, Tuesdays. Must be 19 and over. Come at 6:30 and learn a tune.
URL:https://livemusickelowna.ca/event/tuesday-jam-sessions/2027-02-09/
LOCATION:Seniors Outreach – Recreation Centre\, 1353 Richter St.\, Kelowna\, British Columbia\, V1Y 2L5\, Canada
CATEGORIES:Fiddle,Folk
ATTACH;FMTTYPE=image/jpeg:https://livemusickelowna.ca/wp-content/uploads/2026/03/tuesday_jam_sessions_150722_l.jpg
END:VEVENT
BEGIN:VEVENT
DTSTART;TZID=America/Vancouver:20270212T190000
DTEND;TZID=America/Vancouver:20270212T210000
DTSTAMP:20260419T233652
CREATED:20260316T163005Z
LAST-MODIFIED:20260316T173701Z
UID:10026447-1802458800-1802466000@livemusickelowna.ca
SUMMARY:Live Music Fridays at Eldorado
DESCRIPTION:Join us weekly at Lakeside Dining for live music! Immerse yourself in an evening of great tunes and vibrant atmosphere.\nWhether you’re enjoying a cocktail with friends or a cozy dinner\, our live music sets the perfect backdrop for a memorable night. Don’t miss out on the fun—come and experience the best of local talent! \nWhere: Lakeside Dining Restaurant – Eldorado Lounge\, Boardwalk\, or Vintage Room\nWe can’t wait to see you there!
URL:https://livemusickelowna.ca/event/live-music-fridays-at-eldorado/2027-02-12/
LOCATION:Eldorado Lounge\, 3762 Lakeshore Rd.\, Kelowna\, British Columbia\, V1W 3G9\, Canada
CATEGORIES:Mixed Genres
ATTACH;FMTTYPE=image/jpeg:https://livemusickelowna.ca/wp-content/uploads/2026/03/live_music_fridays_a_150098_l.jpg
END:VEVENT
BEGIN:VEVENT
DTSTART;TZID=America/Vancouver:20270216T183000
DTEND;TZID=America/Vancouver:20270216T210000
DTSTAMP:20260419T233652
CREATED:20260309T181457Z
LAST-MODIFIED:20260309T181457Z
UID:10026281-1802802600-1802811600@livemusickelowna.ca
SUMMARY:Tuesday Jam Sessions
DESCRIPTION:oin the Fun and the Kelowna Fiddlers for an evening of traditional music. Musicians needed\, Guitar\, Bass\, Violin\, Accordian – First time is $7 and after that only $2 drop in fee. 7 Pm – 9 PM at 1353 Richter Street\, January to June\, Tuesdays. Must be 19 and over. Come at 6:30 and learn a tune.
URL:https://livemusickelowna.ca/event/tuesday-jam-sessions/2027-02-16/
LOCATION:Seniors Outreach – Recreation Centre\, 1353 Richter St.\, Kelowna\, British Columbia\, V1Y 2L5\, Canada
CATEGORIES:Fiddle,Folk
ATTACH;FMTTYPE=image/jpeg:https://livemusickelowna.ca/wp-content/uploads/2026/03/tuesday_jam_sessions_150722_l.jpg
END:VEVENT
BEGIN:VEVENT
DTSTART;TZID=America/Vancouver:20270217T190000
DTEND;TZID=America/Vancouver:20270217T220000
DTSTAMP:20260419T233652
CREATED:20260316T181024Z
LAST-MODIFIED:20260316T181024Z
UID:10026480-1802890800-1802901600@livemusickelowna.ca
SUMMARY:Salad Bowl Jam
DESCRIPTION:1st and 3rd Wednesday of every month 7pm – 10pm \nLocation: Unleashed Brewing \nGroove-centric jam: 1st and 3rd Wednesday\nDynamic sign-up\nNO SONGS – JUST JAM! \nAll instruments welcome! \nRules:\n1. Keep it groovy — no songs\, just feel\n2. Jump in — mics open anytime\n3. Uplift — support those who step up
URL:https://livemusickelowna.ca/event/salad-bowl-jam/2027-02-17/
LOCATION:Unleashed Brewing Company\, 880 Clement Ave #207\, Kelowna\, BC\, V1Y 0H8\, Canada
CATEGORIES:Open Mic
ATTACH;FMTTYPE=image/png:https://livemusickelowna.ca/wp-content/uploads/2026/03/Screenshot-2026-03-16-2.06.46-PM.png
END:VEVENT
BEGIN:VEVENT
DTSTART;TZID=America/Vancouver:20270219T190000
DTEND;TZID=America/Vancouver:20270219T210000
DTSTAMP:20260419T233652
CREATED:20260316T163005Z
LAST-MODIFIED:20260316T173701Z
UID:10026448-1803063600-1803070800@livemusickelowna.ca
SUMMARY:Live Music Fridays at Eldorado
DESCRIPTION:Join us weekly at Lakeside Dining for live music! Immerse yourself in an evening of great tunes and vibrant atmosphere.\nWhether you’re enjoying a cocktail with friends or a cozy dinner\, our live music sets the perfect backdrop for a memorable night. Don’t miss out on the fun—come and experience the best of local talent! \nWhere: Lakeside Dining Restaurant – Eldorado Lounge\, Boardwalk\, or Vintage Room\nWe can’t wait to see you there!
URL:https://livemusickelowna.ca/event/live-music-fridays-at-eldorado/2027-02-19/
LOCATION:Eldorado Lounge\, 3762 Lakeshore Rd.\, Kelowna\, British Columbia\, V1W 3G9\, Canada
CATEGORIES:Mixed Genres
ATTACH;FMTTYPE=image/jpeg:https://livemusickelowna.ca/wp-content/uploads/2026/03/live_music_fridays_a_150098_l.jpg
END:VEVENT
BEGIN:VEVENT
DTSTART;TZID=America/Vancouver:20270223T183000
DTEND;TZID=America/Vancouver:20270223T210000
DTSTAMP:20260419T233652
CREATED:20260309T181457Z
LAST-MODIFIED:20260309T181457Z
UID:10026282-1803407400-1803416400@livemusickelowna.ca
SUMMARY:Tuesday Jam Sessions
DESCRIPTION:oin the Fun and the Kelowna Fiddlers for an evening of traditional music. Musicians needed\, Guitar\, Bass\, Violin\, Accordian – First time is $7 and after that only $2 drop in fee. 7 Pm – 9 PM at 1353 Richter Street\, January to June\, Tuesdays. Must be 19 and over. Come at 6:30 and learn a tune.
URL:https://livemusickelowna.ca/event/tuesday-jam-sessions/2027-02-23/
LOCATION:Seniors Outreach – Recreation Centre\, 1353 Richter St.\, Kelowna\, British Columbia\, V1Y 2L5\, Canada
CATEGORIES:Fiddle,Folk
ATTACH;FMTTYPE=image/jpeg:https://livemusickelowna.ca/wp-content/uploads/2026/03/tuesday_jam_sessions_150722_l.jpg
END:VEVENT
BEGIN:VEVENT
DTSTART;TZID=America/Vancouver:20270226T190000
DTEND;TZID=America/Vancouver:20270226T210000
DTSTAMP:20260419T233652
CREATED:20260316T163005Z
LAST-MODIFIED:20260316T173701Z
UID:10026449-1803668400-1803675600@livemusickelowna.ca
SUMMARY:Live Music Fridays at Eldorado
DESCRIPTION:Join us weekly at Lakeside Dining for live music! Immerse yourself in an evening of great tunes and vibrant atmosphere.\nWhether you’re enjoying a cocktail with friends or a cozy dinner\, our live music sets the perfect backdrop for a memorable night. Don’t miss out on the fun—come and experience the best of local talent! \nWhere: Lakeside Dining Restaurant – Eldorado Lounge\, Boardwalk\, or Vintage Room\nWe can’t wait to see you there!
URL:https://livemusickelowna.ca/event/live-music-fridays-at-eldorado/2027-02-26/
LOCATION:Eldorado Lounge\, 3762 Lakeshore Rd.\, Kelowna\, British Columbia\, V1W 3G9\, Canada
CATEGORIES:Mixed Genres
ATTACH;FMTTYPE=image/jpeg:https://livemusickelowna.ca/wp-content/uploads/2026/03/live_music_fridays_a_150098_l.jpg
END:VEVENT
BEGIN:VEVENT
DTSTART;TZID=America/Vancouver:20270302T183000
DTEND;TZID=America/Vancouver:20270302T210000
DTSTAMP:20260419T233652
CREATED:20260309T181457Z
LAST-MODIFIED:20260309T181457Z
UID:10026283-1804012200-1804021200@livemusickelowna.ca
SUMMARY:Tuesday Jam Sessions
DESCRIPTION:oin the Fun and the Kelowna Fiddlers for an evening of traditional music. Musicians needed\, Guitar\, Bass\, Violin\, Accordian – First time is $7 and after that only $2 drop in fee. 7 Pm – 9 PM at 1353 Richter Street\, January to June\, Tuesdays. Must be 19 and over. Come at 6:30 and learn a tune.
URL:https://livemusickelowna.ca/event/tuesday-jam-sessions/2027-03-02/
LOCATION:Seniors Outreach – Recreation Centre\, 1353 Richter St.\, Kelowna\, British Columbia\, V1Y 2L5\, Canada
CATEGORIES:Fiddle,Folk
ATTACH;FMTTYPE=image/jpeg:https://livemusickelowna.ca/wp-content/uploads/2026/03/tuesday_jam_sessions_150722_l.jpg
END:VEVENT
BEGIN:VEVENT
DTSTART;TZID=America/Vancouver:20270309T183000
DTEND;TZID=America/Vancouver:20270309T210000
DTSTAMP:20260419T233652
CREATED:20260309T181457Z
LAST-MODIFIED:20260309T181457Z
UID:10026284-1804617000-1804626000@livemusickelowna.ca
SUMMARY:Tuesday Jam Sessions
DESCRIPTION:oin the Fun and the Kelowna Fiddlers for an evening of traditional music. Musicians needed\, Guitar\, Bass\, Violin\, Accordian – First time is $7 and after that only $2 drop in fee. 7 Pm – 9 PM at 1353 Richter Street\, January to June\, Tuesdays. Must be 19 and over. Come at 6:30 and learn a tune.
URL:https://livemusickelowna.ca/event/tuesday-jam-sessions/2027-03-09/
LOCATION:Seniors Outreach – Recreation Centre\, 1353 Richter St.\, Kelowna\, British Columbia\, V1Y 2L5\, Canada
CATEGORIES:Fiddle,Folk
ATTACH;FMTTYPE=image/jpeg:https://livemusickelowna.ca/wp-content/uploads/2026/03/tuesday_jam_sessions_150722_l.jpg
END:VEVENT
BEGIN:VEVENT
DTSTART;TZID=America/Vancouver:20270316T183000
DTEND;TZID=America/Vancouver:20270316T210000
DTSTAMP:20260419T233652
CREATED:20260309T181457Z
LAST-MODIFIED:20260309T181457Z
UID:10026285-1805221800-1805230800@livemusickelowna.ca
SUMMARY:Tuesday Jam Sessions
DESCRIPTION:oin the Fun and the Kelowna Fiddlers for an evening of traditional music. Musicians needed\, Guitar\, Bass\, Violin\, Accordian – First time is $7 and after that only $2 drop in fee. 7 Pm – 9 PM at 1353 Richter Street\, January to June\, Tuesdays. Must be 19 and over. Come at 6:30 and learn a tune.
URL:https://livemusickelowna.ca/event/tuesday-jam-sessions/2027-03-16/
LOCATION:Seniors Outreach – Recreation Centre\, 1353 Richter St.\, Kelowna\, British Columbia\, V1Y 2L5\, Canada
CATEGORIES:Fiddle,Folk
ATTACH;FMTTYPE=image/jpeg:https://livemusickelowna.ca/wp-content/uploads/2026/03/tuesday_jam_sessions_150722_l.jpg
END:VEVENT
BEGIN:VEVENT
DTSTART;TZID=America/Vancouver:20270317T190000
DTEND;TZID=America/Vancouver:20270317T220000
DTSTAMP:20260419T233652
CREATED:20260316T181024Z
LAST-MODIFIED:20260316T181024Z
UID:10026481-1805310000-1805320800@livemusickelowna.ca
SUMMARY:Salad Bowl Jam
DESCRIPTION:1st and 3rd Wednesday of every month 7pm – 10pm \nLocation: Unleashed Brewing \nGroove-centric jam: 1st and 3rd Wednesday\nDynamic sign-up\nNO SONGS – JUST JAM! \nAll instruments welcome! \nRules:\n1. Keep it groovy — no songs\, just feel\n2. Jump in — mics open anytime\n3. Uplift — support those who step up
URL:https://livemusickelowna.ca/event/salad-bowl-jam/2027-03-17/
LOCATION:Unleashed Brewing Company\, 880 Clement Ave #207\, Kelowna\, BC\, V1Y 0H8\, Canada
CATEGORIES:Open Mic
ATTACH;FMTTYPE=image/png:https://livemusickelowna.ca/wp-content/uploads/2026/03/Screenshot-2026-03-16-2.06.46-PM.png
END:VEVENT
BEGIN:VEVENT
DTSTART;TZID=America/Vancouver:20270323T183000
DTEND;TZID=America/Vancouver:20270323T210000
DTSTAMP:20260419T233652
CREATED:20260309T181457Z
LAST-MODIFIED:20260309T181457Z
UID:10026286-1805826600-1805835600@livemusickelowna.ca
SUMMARY:Tuesday Jam Sessions
DESCRIPTION:oin the Fun and the Kelowna Fiddlers for an evening of traditional music. Musicians needed\, Guitar\, Bass\, Violin\, Accordian – First time is $7 and after that only $2 drop in fee. 7 Pm – 9 PM at 1353 Richter Street\, January to June\, Tuesdays. Must be 19 and over. Come at 6:30 and learn a tune.
URL:https://livemusickelowna.ca/event/tuesday-jam-sessions/2027-03-23/
LOCATION:Seniors Outreach – Recreation Centre\, 1353 Richter St.\, Kelowna\, British Columbia\, V1Y 2L5\, Canada
CATEGORIES:Fiddle,Folk
ATTACH;FMTTYPE=image/jpeg:https://livemusickelowna.ca/wp-content/uploads/2026/03/tuesday_jam_sessions_150722_l.jpg
END:VEVENT
END:VCALENDAR