BEGIN:VCALENDAR
VERSION:2.0
PRODID:-//Live Music Kelowna - ECPv6.15.18//NONSGML v1.0//EN
CALSCALE:GREGORIAN
METHOD:PUBLISH
X-ORIGINAL-URL:https://livemusickelowna.ca
X-WR-CALDESC:Events for Live Music Kelowna
REFRESH-INTERVAL;VALUE=DURATION:PT1H
X-Robots-Tag:noindex
X-PUBLISHED-TTL:PT1H
BEGIN:VTIMEZONE
TZID:America/Vancouver
BEGIN:DAYLIGHT
TZOFFSETFROM:-0800
TZOFFSETTO:-0700
TZNAME:PDT
DTSTART:20250309T100000
END:DAYLIGHT
BEGIN:STANDARD
TZOFFSETFROM:-0700
TZOFFSETTO:-0800
TZNAME:PST
DTSTART:20251102T090000
END:STANDARD
BEGIN:DAYLIGHT
TZOFFSETFROM:-0800
TZOFFSETTO:-0700
TZNAME:PDT
DTSTART:20260308T100000
END:DAYLIGHT
BEGIN:STANDARD
TZOFFSETFROM:-0700
TZOFFSETTO:-0800
TZNAME:PST
DTSTART:20261101T090000
END:STANDARD
BEGIN:DAYLIGHT
TZOFFSETFROM:-0800
TZOFFSETTO:-0700
TZNAME:PDT
DTSTART:20270314T100000
END:DAYLIGHT
BEGIN:STANDARD
TZOFFSETFROM:-0700
TZOFFSETTO:-0800
TZNAME:PST
DTSTART:20271107T090000
END:STANDARD
END:VTIMEZONE
BEGIN:VEVENT
DTSTART;TZID=America/Vancouver:20260418T210000
DTEND;TZID=America/Vancouver:20260418T235900
DTSTAMP:20260419T064700
CREATED:20260306T162732Z
LAST-MODIFIED:20260306T162804Z
UID:10026170-1776546000-1776556740@livemusickelowna.ca
SUMMARY:The Feels @ Blue Gator
DESCRIPTION:Doors open at 8pm\, band starts at 915pm till 1am \nKelowna’s Oddest cover band
URL:https://livemusickelowna.ca/event/the-feels-blue-gator/2026-04-18/
LOCATION:Blue Gator Bar & Grill\, 441 Lawrence Ave\, Kelowna\, British Columbia\, V1Y 6L5\, Canada
CATEGORIES:Cover,Tribute
ATTACH;FMTTYPE=image/jpeg:https://livemusickelowna.ca/wp-content/uploads/2026/03/feelz.jpg
END:VEVENT
BEGIN:VEVENT
DTSTART;TZID=America/Vancouver:20260417T210000
DTEND;TZID=America/Vancouver:20260417T235900
DTSTAMP:20260419T064700
CREATED:20260306T162732Z
LAST-MODIFIED:20260306T162804Z
UID:10026169-1776459600-1776470340@livemusickelowna.ca
SUMMARY:The Feels @ Blue Gator
DESCRIPTION:Doors open at 8pm\, band starts at 915pm till 1am \nKelowna’s Oddest cover band
URL:https://livemusickelowna.ca/event/the-feels-blue-gator/2026-04-17/
LOCATION:Blue Gator Bar & Grill\, 441 Lawrence Ave\, Kelowna\, British Columbia\, V1Y 6L5\, Canada
CATEGORIES:Cover,Tribute
ATTACH;FMTTYPE=image/jpeg:https://livemusickelowna.ca/wp-content/uploads/2026/03/feelz.jpg
END:VEVENT
BEGIN:VEVENT
DTSTART;TZID=America/Vancouver:20260323T193000
DTEND;TZID=America/Vancouver:20260323T213000
DTSTAMP:20260419T064700
CREATED:20260316T154357Z
LAST-MODIFIED:20260316T154357Z
UID:10026398-1774294200-1774301400@livemusickelowna.ca
SUMMARY:Lennon & McCartney: In Their Own Words and Music
DESCRIPTION:In Their Own Words and Music\nAn Unmissable Event for All Music Lovers \nA Rockumentary Tribute Featuring Michael Sicoly and Mick Dalla-Vee \n“THESE GUYS SOUND JUST LIKE THE BEATLES!” \nDive into the world of John Lennon and Paul McCartney\, two of the most iconic and influential songwriters of all time\, with “Lennon & McCartney: In Their Own Words and Music.” This extraordinary live tribute\, featuring acclaimed performers Michael Sicoly and Mick Dalla-Vee\, brings the legacy of these two musical giants to life in an immersive Rockumentary experience. \nA Journey Back to the 1960s \nAudiences will be transported to 1960s Liverpool\, the birthplace of The Beatles\, as Sicoly and Dalla-Vee recreate the magic of Lennon and McCartney’s unforgettable partnership. Through live performances of their greatest hits\, this tribute showcases the duo’s meteoric rise during the British Invasion and explores the cultural and musical impact that transformed the world. \nMultimedia Spectacle \nThis unique production blends video footage\, interviews\, and insightful narration with a meticulously crafted live performance\, offering an intimate look at the songwriting genius of Lennon & McCartney. The multimedia enhancement delivers an emotional and educational experience\, shedding light on the personal stories behind the music and the duo’s collaboration. \nFrom early tracks that launched The Beatles into stardom to later masterpieces that showcased their musical evolution\, “Lennon & McCartney: In Their Own Words and Music” captures the heart and soul of two of history’s most beloved songwriters. \nA Moving Tribute \nMore than just a concert\, this tribute reveals the wit\, charm\, and depth of Lennon and McCartney’s partnership. Their songs—timeless\, poignant\, and packed with devil-may-care humour—come alive in this compelling live production. The audience will feel as though they are stepping into history\, witnessing first-hand the artistry that made Lennon & McCartney the most successful songwriting duo in music history. \nAn Unmissable Event for All Music Lovers \nWhether you’ve grown up with The Beatles or are discovering their music for the first time\, “Lennon & McCartney: In Their Own Words and Music” is a must-see show that celebrates the songs that defined a generation and continues to inspire new audiences around the world. \nAbout Michael Sicoly and Mick Dalla-Vee: \nMichael Sicoly and Mick Dalla-Vee are veteran performers with a deep passion for honouring the music of Lennon and McCartney. Both are seasoned entertainers\, known for their ability to authentically capture the spirit and sound of legendary artists while delivering performances that are both dynamic and heartfelt. \nPricing \nRegular $49.95 ($41.07 base price + $2.36 CIF + $6.52 service charge) \nAll above prices are CAD and include GST. \n— \nMary Irwin Theatre at the Rotary Centre for the Arts event tickets include a $2.36 Capital Improvement Fee (CIF). A service fee is added for box office costs\, card processing\, and taxes. Lennon & McCartney tickets and their applicable fees are non-refundable.
URL:https://livemusickelowna.ca/event/lennon-mccartney-in-their-own-words-and-music/
LOCATION:Rotary Centre for the Arts\, 421 Cawston Ave\, Kelowna\, BC\, V1Y 6Z1\, Canada
CATEGORIES:Rock,Tribute
ATTACH;FMTTYPE=image/jpeg:https://livemusickelowna.ca/wp-content/uploads/2026/03/641266880_1348614240627401_934726350388850705_n.jpg
END:VEVENT
END:VCALENDAR