BEGIN:VCALENDAR
VERSION:2.0
PRODID:-//Live Music Kelowna - ECPv6.15.18//NONSGML v1.0//EN
CALSCALE:GREGORIAN
METHOD:PUBLISH
X-WR-CALNAME:Live Music Kelowna
X-ORIGINAL-URL:https://livemusickelowna.ca
X-WR-CALDESC:Events for Live Music Kelowna
REFRESH-INTERVAL;VALUE=DURATION:PT1H
X-Robots-Tag:noindex
X-PUBLISHED-TTL:PT1H
BEGIN:VTIMEZONE
TZID:America/Vancouver
BEGIN:DAYLIGHT
TZOFFSETFROM:-0800
TZOFFSETTO:-0700
TZNAME:PDT
DTSTART:20250309T100000
END:DAYLIGHT
BEGIN:STANDARD
TZOFFSETFROM:-0700
TZOFFSETTO:-0800
TZNAME:PST
DTSTART:20251102T090000
END:STANDARD
BEGIN:DAYLIGHT
TZOFFSETFROM:-0800
TZOFFSETTO:-0700
TZNAME:PDT
DTSTART:20260308T100000
END:DAYLIGHT
BEGIN:STANDARD
TZOFFSETFROM:-0700
TZOFFSETTO:-0800
TZNAME:PST
DTSTART:20261101T090000
END:STANDARD
BEGIN:DAYLIGHT
TZOFFSETFROM:-0800
TZOFFSETTO:-0700
TZNAME:PDT
DTSTART:20270314T100000
END:DAYLIGHT
BEGIN:STANDARD
TZOFFSETFROM:-0700
TZOFFSETTO:-0800
TZNAME:PST
DTSTART:20271107T090000
END:STANDARD
END:VTIMEZONE
BEGIN:VEVENT
DTSTART;TZID=America/Vancouver:20260515T170000
DTEND;TZID=America/Vancouver:20260515T190000
DTSTAMP:20260420T021245
CREATED:20251029T153758Z
LAST-MODIFIED:20251029T154306Z
UID:10024551-1778864400-1778871600@livemusickelowna.ca
SUMMARY:Gail and Karl plus special guest @ Marmalade Cat Cafe
DESCRIPTION:Live music every Friday at The Marmalade Cat Cafe Pandosy from 5 to 7. First Friday of the month songwriters in the round; 2nd Friday Christine Pomeroy open mic; 3rd Friday Gail and Karl (triple AAA) Adult Acoustic Alternative; Last Friday Leila Neverland
URL:https://livemusickelowna.ca/event/gail-and-karl-plus-special-guest-marmalade-cat-cafe/2026-05-15/
LOCATION:Marmalade Cat Cafe\, 2903 Pandosy St #103\, Kelowna\, British Columbia\, V1Y 1W1\, Canada
CATEGORIES:Folk,Rock
ATTACH;FMTTYPE=image/jpeg:https://livemusickelowna.ca/wp-content/uploads/2025/10/artworks-asBZh1OvxrDQqzwG-dxrOIA-t1080x1080.jpg
END:VEVENT
BEGIN:VEVENT
DTSTART;TZID=America/Vancouver:20260519T183000
DTEND;TZID=America/Vancouver:20260519T203000
DTSTAMP:20260420T021245
CREATED:20251214T181110Z
LAST-MODIFIED:20260216T191516Z
UID:10025218-1779215400-1779222600@livemusickelowna.ca
SUMMARY:Dynamic Duo Band
DESCRIPTION:Dynamic Duo – aka Curtis Kieres & Dennis Lyne are two accomplished musicians who joined forces to\nprovide high-quality entertainment for all to enjoy.\nCurtis is a professional saxophonist\, composer and multi-instrumentalist that brings a sultry and soothing\nsound that is characteristic of the saxophone.\nDennis is a versatile keyboardist and accomplished vocalist who has woven a rich tapestry of musical\nexperiences through out his career.\nTogether\, they perform the blues & rock classics a variety of venues in BC.
URL:https://livemusickelowna.ca/event/dynamic-duo-band/2026-05-19/
LOCATION:TownePlace Suites West Kelowna\, 3551 Carrington Rd\, West Kelowna\, BC\, V4T 3L8
CATEGORIES:Blues,Classic Rock,Rock
ATTACH;FMTTYPE=image/jpeg:https://livemusickelowna.ca/wp-content/uploads/2025/12/vintage.jpg
END:VEVENT
BEGIN:VEVENT
DTSTART;TZID=America/Vancouver:20260519T183000
DTEND;TZID=America/Vancouver:20260519T203000
DTSTAMP:20260420T021245
CREATED:20260323T031943Z
LAST-MODIFIED:20260406T154049Z
UID:10026734-1779215400-1779222600@livemusickelowna.ca
SUMMARY:Dynamic Duo Band – Live Show at Ellipsis 51
DESCRIPTION:Dynamic Duo – aka Curtis Kieres & Dennis Lyne are two accomplished musicians\nwho joined forces to provide high-quality entertainment for all to enjoy.\nCurtis is a professional saxophonist\, composer and multi-instrumentalist that\nbrings a sultry and soothing sound that is characteristic of the saxophone.\nDennis is a versatile keyboardist and accomplished vocalist who has woven a rich\ntapestry of musical experiences through out his career.\nTogether\, they perform the blues & rock classics a variety of venues in BC.
URL:https://livemusickelowna.ca/event/dynamic-duo-band-live-show-at-ellipsis-51/2026-05-19/
LOCATION:Ellipsis 51 Bar & Grill\, 3551 Carrington Road\, West Kelowna\, British Columbia\, Canada
CATEGORIES:Blues,Rock
ATTACH;FMTTYPE=image/jpeg:https://livemusickelowna.ca/wp-content/uploads/2026/03/Ellipsis-51-Promo-Poster-April-21-2026.jpg
END:VEVENT
BEGIN:VEVENT
DTSTART;TZID=America/Vancouver:20260530T193000
DTEND;TZID=America/Vancouver:20260530T213000
DTSTAMP:20260420T021245
CREATED:20250914T180322Z
LAST-MODIFIED:20250914T180322Z
UID:10023461-1780169400-1780176600@livemusickelowna.ca
SUMMARY:Che Aimee Dorval
DESCRIPTION:Canadian artist Ché Aimee Dorval offers a sonic escape—an immersive cinematic journey where late-night trip-hop\, airy dream pop\, and laid-back electronica drift together with a touch of alt-indie edge. With sleek production reminiscent of Goldfrapp\, Bonobo’s organic pulse\, and Lana Del Rey’s moody allure\, Ché crafts a soundtrack for those chasing city lights and after-hours reveries. Step into her world\, where every beat paints a scene and every melody tells a story. \nIn 2023\, Ché was featured on a haunting duet with Gord Downie (The Tragically Hip) and made guest appearances on Devin Townsend’s Lightwork\, setting the stage for her third solo album\, The Crowned\, co-produced by Bob Rock (Metallica). Clash Magazine praised the record for “fusing pop\, soul\, and indie elements to produce something potent and original\,” while Knotfest called the standout track “Falling Under” a “timeless earworm.” \nFresh off a busy year of touring in 2024 to support The Crowned\, Ché channeled her passion for alt-pop and synthwave into a new body of work that promises to push her signature sound even further. This spring\, she’ll release new material that marks the next step in her ongoing evolution as an artist. \nFor more information\, visit: https://www.cheaimeedorval.com/
URL:https://livemusickelowna.ca/event/che-aimee-dorval/
LOCATION:Rotary Centre for the Arts\, 421 Cawston Ave\, Kelowna\, BC\, V1Y 6Z1\, Canada
CATEGORIES:Hip Hop,Mixed Genres,Rock
ATTACH;FMTTYPE=image/jpeg:https://livemusickelowna.ca/wp-content/uploads/2025/09/CADsquare.jpg
END:VEVENT
BEGIN:VEVENT
DTSTART;TZID=America/Vancouver:20260616T183000
DTEND;TZID=America/Vancouver:20260616T203000
DTSTAMP:20260420T021245
CREATED:20251214T181110Z
LAST-MODIFIED:20260216T191516Z
UID:10025219-1781634600-1781641800@livemusickelowna.ca
SUMMARY:Dynamic Duo Band
DESCRIPTION:Dynamic Duo – aka Curtis Kieres & Dennis Lyne are two accomplished musicians who joined forces to\nprovide high-quality entertainment for all to enjoy.\nCurtis is a professional saxophonist\, composer and multi-instrumentalist that brings a sultry and soothing\nsound that is characteristic of the saxophone.\nDennis is a versatile keyboardist and accomplished vocalist who has woven a rich tapestry of musical\nexperiences through out his career.\nTogether\, they perform the blues & rock classics a variety of venues in BC.
URL:https://livemusickelowna.ca/event/dynamic-duo-band/2026-06-16/
LOCATION:TownePlace Suites West Kelowna\, 3551 Carrington Rd\, West Kelowna\, BC\, V4T 3L8
CATEGORIES:Blues,Classic Rock,Rock
ATTACH;FMTTYPE=image/jpeg:https://livemusickelowna.ca/wp-content/uploads/2025/12/vintage.jpg
END:VEVENT
BEGIN:VEVENT
DTSTART;TZID=America/Vancouver:20260619T170000
DTEND;TZID=America/Vancouver:20260619T190000
DTSTAMP:20260420T021245
CREATED:20251029T153758Z
LAST-MODIFIED:20251029T154306Z
UID:10024552-1781888400-1781895600@livemusickelowna.ca
SUMMARY:Gail and Karl plus special guest @ Marmalade Cat Cafe
DESCRIPTION:Live music every Friday at The Marmalade Cat Cafe Pandosy from 5 to 7. First Friday of the month songwriters in the round; 2nd Friday Christine Pomeroy open mic; 3rd Friday Gail and Karl (triple AAA) Adult Acoustic Alternative; Last Friday Leila Neverland
URL:https://livemusickelowna.ca/event/gail-and-karl-plus-special-guest-marmalade-cat-cafe/2026-06-19/
LOCATION:Marmalade Cat Cafe\, 2903 Pandosy St #103\, Kelowna\, British Columbia\, V1Y 1W1\, Canada
CATEGORIES:Folk,Rock
ATTACH;FMTTYPE=image/jpeg:https://livemusickelowna.ca/wp-content/uploads/2025/10/artworks-asBZh1OvxrDQqzwG-dxrOIA-t1080x1080.jpg
END:VEVENT
BEGIN:VEVENT
DTSTART;TZID=America/Vancouver:20260717T170000
DTEND;TZID=America/Vancouver:20260717T190000
DTSTAMP:20260420T021245
CREATED:20251029T153758Z
LAST-MODIFIED:20251029T154306Z
UID:10024553-1784307600-1784314800@livemusickelowna.ca
SUMMARY:Gail and Karl plus special guest @ Marmalade Cat Cafe
DESCRIPTION:Live music every Friday at The Marmalade Cat Cafe Pandosy from 5 to 7. First Friday of the month songwriters in the round; 2nd Friday Christine Pomeroy open mic; 3rd Friday Gail and Karl (triple AAA) Adult Acoustic Alternative; Last Friday Leila Neverland
URL:https://livemusickelowna.ca/event/gail-and-karl-plus-special-guest-marmalade-cat-cafe/2026-07-17/
LOCATION:Marmalade Cat Cafe\, 2903 Pandosy St #103\, Kelowna\, British Columbia\, V1Y 1W1\, Canada
CATEGORIES:Folk,Rock
ATTACH;FMTTYPE=image/jpeg:https://livemusickelowna.ca/wp-content/uploads/2025/10/artworks-asBZh1OvxrDQqzwG-dxrOIA-t1080x1080.jpg
END:VEVENT
BEGIN:VEVENT
DTSTART;TZID=America/Vancouver:20260721T183000
DTEND;TZID=America/Vancouver:20260721T203000
DTSTAMP:20260420T021245
CREATED:20251214T181110Z
LAST-MODIFIED:20260216T191516Z
UID:10025220-1784658600-1784665800@livemusickelowna.ca
SUMMARY:Dynamic Duo Band
DESCRIPTION:Dynamic Duo – aka Curtis Kieres & Dennis Lyne are two accomplished musicians who joined forces to\nprovide high-quality entertainment for all to enjoy.\nCurtis is a professional saxophonist\, composer and multi-instrumentalist that brings a sultry and soothing\nsound that is characteristic of the saxophone.\nDennis is a versatile keyboardist and accomplished vocalist who has woven a rich tapestry of musical\nexperiences through out his career.\nTogether\, they perform the blues & rock classics a variety of venues in BC.
URL:https://livemusickelowna.ca/event/dynamic-duo-band/2026-07-21/
LOCATION:TownePlace Suites West Kelowna\, 3551 Carrington Rd\, West Kelowna\, BC\, V4T 3L8
CATEGORIES:Blues,Classic Rock,Rock
ATTACH;FMTTYPE=image/jpeg:https://livemusickelowna.ca/wp-content/uploads/2025/12/vintage.jpg
END:VEVENT
BEGIN:VEVENT
DTSTART;TZID=America/Vancouver:20260818T183000
DTEND;TZID=America/Vancouver:20260818T203000
DTSTAMP:20260420T021245
CREATED:20251214T181110Z
LAST-MODIFIED:20260216T191516Z
UID:10025221-1787077800-1787085000@livemusickelowna.ca
SUMMARY:Dynamic Duo Band
DESCRIPTION:Dynamic Duo – aka Curtis Kieres & Dennis Lyne are two accomplished musicians who joined forces to\nprovide high-quality entertainment for all to enjoy.\nCurtis is a professional saxophonist\, composer and multi-instrumentalist that brings a sultry and soothing\nsound that is characteristic of the saxophone.\nDennis is a versatile keyboardist and accomplished vocalist who has woven a rich tapestry of musical\nexperiences through out his career.\nTogether\, they perform the blues & rock classics a variety of venues in BC.
URL:https://livemusickelowna.ca/event/dynamic-duo-band/2026-08-18/
LOCATION:TownePlace Suites West Kelowna\, 3551 Carrington Rd\, West Kelowna\, BC\, V4T 3L8
CATEGORIES:Blues,Classic Rock,Rock
ATTACH;FMTTYPE=image/jpeg:https://livemusickelowna.ca/wp-content/uploads/2025/12/vintage.jpg
END:VEVENT
BEGIN:VEVENT
DTSTART;TZID=America/Vancouver:20260821T170000
DTEND;TZID=America/Vancouver:20260821T190000
DTSTAMP:20260420T021245
CREATED:20251029T153758Z
LAST-MODIFIED:20251029T154306Z
UID:10024554-1787331600-1787338800@livemusickelowna.ca
SUMMARY:Gail and Karl plus special guest @ Marmalade Cat Cafe
DESCRIPTION:Live music every Friday at The Marmalade Cat Cafe Pandosy from 5 to 7. First Friday of the month songwriters in the round; 2nd Friday Christine Pomeroy open mic; 3rd Friday Gail and Karl (triple AAA) Adult Acoustic Alternative; Last Friday Leila Neverland
URL:https://livemusickelowna.ca/event/gail-and-karl-plus-special-guest-marmalade-cat-cafe/2026-08-21/
LOCATION:Marmalade Cat Cafe\, 2903 Pandosy St #103\, Kelowna\, British Columbia\, V1Y 1W1\, Canada
CATEGORIES:Folk,Rock
ATTACH;FMTTYPE=image/jpeg:https://livemusickelowna.ca/wp-content/uploads/2025/10/artworks-asBZh1OvxrDQqzwG-dxrOIA-t1080x1080.jpg
END:VEVENT
BEGIN:VEVENT
DTSTART;TZID=America/Vancouver:20260915T183000
DTEND;TZID=America/Vancouver:20260915T203000
DTSTAMP:20260420T021245
CREATED:20251214T181110Z
LAST-MODIFIED:20260216T191516Z
UID:10025222-1789497000-1789504200@livemusickelowna.ca
SUMMARY:Dynamic Duo Band
DESCRIPTION:Dynamic Duo – aka Curtis Kieres & Dennis Lyne are two accomplished musicians who joined forces to\nprovide high-quality entertainment for all to enjoy.\nCurtis is a professional saxophonist\, composer and multi-instrumentalist that brings a sultry and soothing\nsound that is characteristic of the saxophone.\nDennis is a versatile keyboardist and accomplished vocalist who has woven a rich tapestry of musical\nexperiences through out his career.\nTogether\, they perform the blues & rock classics a variety of venues in BC.
URL:https://livemusickelowna.ca/event/dynamic-duo-band/2026-09-15/
LOCATION:TownePlace Suites West Kelowna\, 3551 Carrington Rd\, West Kelowna\, BC\, V4T 3L8
CATEGORIES:Blues,Classic Rock,Rock
ATTACH;FMTTYPE=image/jpeg:https://livemusickelowna.ca/wp-content/uploads/2025/12/vintage.jpg
END:VEVENT
BEGIN:VEVENT
DTSTART;TZID=America/Vancouver:20261020T183000
DTEND;TZID=America/Vancouver:20261020T203000
DTSTAMP:20260420T021245
CREATED:20251214T181110Z
LAST-MODIFIED:20260216T191516Z
UID:10025223-1792521000-1792528200@livemusickelowna.ca
SUMMARY:Dynamic Duo Band
DESCRIPTION:Dynamic Duo – aka Curtis Kieres & Dennis Lyne are two accomplished musicians who joined forces to\nprovide high-quality entertainment for all to enjoy.\nCurtis is a professional saxophonist\, composer and multi-instrumentalist that brings a sultry and soothing\nsound that is characteristic of the saxophone.\nDennis is a versatile keyboardist and accomplished vocalist who has woven a rich tapestry of musical\nexperiences through out his career.\nTogether\, they perform the blues & rock classics a variety of venues in BC.
URL:https://livemusickelowna.ca/event/dynamic-duo-band/2026-10-20/
LOCATION:TownePlace Suites West Kelowna\, 3551 Carrington Rd\, West Kelowna\, BC\, V4T 3L8
CATEGORIES:Blues,Classic Rock,Rock
ATTACH;FMTTYPE=image/jpeg:https://livemusickelowna.ca/wp-content/uploads/2025/12/vintage.jpg
END:VEVENT
BEGIN:VEVENT
DTSTART;TZID=America/Vancouver:20261117T183000
DTEND;TZID=America/Vancouver:20261117T203000
DTSTAMP:20260420T021245
CREATED:20251214T181110Z
LAST-MODIFIED:20260216T191516Z
UID:10025224-1794940200-1794947400@livemusickelowna.ca
SUMMARY:Dynamic Duo Band
DESCRIPTION:Dynamic Duo – aka Curtis Kieres & Dennis Lyne are two accomplished musicians who joined forces to\nprovide high-quality entertainment for all to enjoy.\nCurtis is a professional saxophonist\, composer and multi-instrumentalist that brings a sultry and soothing\nsound that is characteristic of the saxophone.\nDennis is a versatile keyboardist and accomplished vocalist who has woven a rich tapestry of musical\nexperiences through out his career.\nTogether\, they perform the blues & rock classics a variety of venues in BC.
URL:https://livemusickelowna.ca/event/dynamic-duo-band/2026-11-17/
LOCATION:TownePlace Suites West Kelowna\, 3551 Carrington Rd\, West Kelowna\, BC\, V4T 3L8
CATEGORIES:Blues,Classic Rock,Rock
ATTACH;FMTTYPE=image/jpeg:https://livemusickelowna.ca/wp-content/uploads/2025/12/vintage.jpg
END:VEVENT
BEGIN:VEVENT
DTSTART;TZID=America/Vancouver:20261215T183000
DTEND;TZID=America/Vancouver:20261215T203000
DTSTAMP:20260420T021245
CREATED:20251214T181110Z
LAST-MODIFIED:20260216T191516Z
UID:10025225-1797359400-1797366600@livemusickelowna.ca
SUMMARY:Dynamic Duo Band
DESCRIPTION:Dynamic Duo – aka Curtis Kieres & Dennis Lyne are two accomplished musicians who joined forces to\nprovide high-quality entertainment for all to enjoy.\nCurtis is a professional saxophonist\, composer and multi-instrumentalist that brings a sultry and soothing\nsound that is characteristic of the saxophone.\nDennis is a versatile keyboardist and accomplished vocalist who has woven a rich tapestry of musical\nexperiences through out his career.\nTogether\, they perform the blues & rock classics a variety of venues in BC.
URL:https://livemusickelowna.ca/event/dynamic-duo-band/2026-12-15/
LOCATION:TownePlace Suites West Kelowna\, 3551 Carrington Rd\, West Kelowna\, BC\, V4T 3L8
CATEGORIES:Blues,Classic Rock,Rock
ATTACH;FMTTYPE=image/jpeg:https://livemusickelowna.ca/wp-content/uploads/2025/12/vintage.jpg
END:VEVENT
END:VCALENDAR