BEGIN:VCALENDAR
VERSION:2.0
PRODID:-//Live Music Kelowna - ECPv6.15.18//NONSGML v1.0//EN
CALSCALE:GREGORIAN
METHOD:PUBLISH
X-WR-CALNAME:Live Music Kelowna
X-ORIGINAL-URL:https://livemusickelowna.ca
X-WR-CALDESC:Events for Live Music Kelowna
REFRESH-INTERVAL;VALUE=DURATION:PT1H
X-Robots-Tag:noindex
X-PUBLISHED-TTL:PT1H
BEGIN:VTIMEZONE
TZID:America/Vancouver
BEGIN:DAYLIGHT
TZOFFSETFROM:-0800
TZOFFSETTO:-0700
TZNAME:PDT
DTSTART:20250309T100000
END:DAYLIGHT
BEGIN:STANDARD
TZOFFSETFROM:-0700
TZOFFSETTO:-0800
TZNAME:PST
DTSTART:20251102T090000
END:STANDARD
BEGIN:DAYLIGHT
TZOFFSETFROM:-0800
TZOFFSETTO:-0700
TZNAME:PDT
DTSTART:20260308T100000
END:DAYLIGHT
BEGIN:STANDARD
TZOFFSETFROM:-0700
TZOFFSETTO:-0800
TZNAME:PST
DTSTART:20261101T090000
END:STANDARD
BEGIN:DAYLIGHT
TZOFFSETFROM:-0800
TZOFFSETTO:-0700
TZNAME:PDT
DTSTART:20270314T100000
END:DAYLIGHT
BEGIN:STANDARD
TZOFFSETFROM:-0700
TZOFFSETTO:-0800
TZNAME:PST
DTSTART:20271107T090000
END:STANDARD
END:VTIMEZONE
BEGIN:VEVENT
DTSTART;TZID=America/Vancouver:20260412T193000
DTEND;TZID=America/Vancouver:20260412T193000
DTSTAMP:20260419T162346
CREATED:20260405T103205Z
LAST-MODIFIED:20260405T103205Z
UID:10026710-1776022200-1776022200@livemusickelowna.ca
SUMMARY:THE KELOWNA ROCK CHOIR
DESCRIPTION:Get ready to rock with The Kelowna Rock Choir for another unforgettable show\, featuring the music of Heart\, CCR\, AC/DC\, Blink 182\, Talking Heads\, and more! \nThis isn’t just any choir performance – backed by a live band\, they’ll deliver classic rock anthems with the raw energy and excitement of a full-blown rock show. Feel the powerful vocals and infectious rhythms that will have you singing along and dancing in your seat. \nWhether you’re a die-hard classic rock fan or just looking for a fun night out\, this concert promises something for everyone. \nAll proceeds will support Central Okanagan Food Bank\, so bring your family\, friends\, and your best rock ‘n’ roll spirit for a night of music\, community\, and celebration! \nDon’t miss your chance to experience the thrill of a live rock show with one of the largest and most spirited choirs in town. Join us for an evening that will leave you buzzing long after the final note – grab your tickets now!​ \nwww.kelownarockchoir.comopen_in_new \nPricing\nRegular $30.00 ($24.04 base price + $2.36 CIF + $3.60 service charge) \nAll above prices are in CAD and include GST. \n— \nKelowna Community Theatre event tickets include a $2.25 Capital Improvement Fee (CIF) and 5% GST. A service fee is added for box office costs\, card processing\, and taxes. Kelowna Rock Choir tickets and their applicable service fees are non-refundable.
URL:https://livemusickelowna.ca/event/the-kelowna-rock-choir/
LOCATION:Kelowna Community Theatre\, 1375 Water St\, Kelowna\, British Columbia\, V1Y 0B4\, Canada
CATEGORIES:Mixed Genres,Rock
ATTACH;FMTTYPE=image/jpeg:https://livemusickelowna.ca/wp-content/uploads/2026/04/d706ea7b-d461-46ed-9d63-832d799d5e7a.jpg
END:VEVENT
END:VCALENDAR