BEGIN:VCALENDAR
VERSION:2.0
PRODID:-//Live Music Kelowna - ECPv6.15.18//NONSGML v1.0//EN
CALSCALE:GREGORIAN
METHOD:PUBLISH
X-ORIGINAL-URL:https://livemusickelowna.ca
X-WR-CALDESC:Events for Live Music Kelowna
REFRESH-INTERVAL;VALUE=DURATION:PT1H
X-Robots-Tag:noindex
X-PUBLISHED-TTL:PT1H
BEGIN:VTIMEZONE
TZID:America/Vancouver
BEGIN:DAYLIGHT
TZOFFSETFROM:-0800
TZOFFSETTO:-0700
TZNAME:PDT
DTSTART:20250309T100000
END:DAYLIGHT
BEGIN:STANDARD
TZOFFSETFROM:-0700
TZOFFSETTO:-0800
TZNAME:PST
DTSTART:20251102T090000
END:STANDARD
BEGIN:DAYLIGHT
TZOFFSETFROM:-0800
TZOFFSETTO:-0700
TZNAME:PDT
DTSTART:20260308T100000
END:DAYLIGHT
BEGIN:STANDARD
TZOFFSETFROM:-0700
TZOFFSETTO:-0800
TZNAME:PST
DTSTART:20261101T090000
END:STANDARD
BEGIN:DAYLIGHT
TZOFFSETFROM:-0800
TZOFFSETTO:-0700
TZNAME:PDT
DTSTART:20270314T100000
END:DAYLIGHT
BEGIN:STANDARD
TZOFFSETFROM:-0700
TZOFFSETTO:-0800
TZNAME:PST
DTSTART:20271107T090000
END:STANDARD
END:VTIMEZONE
BEGIN:VEVENT
DTSTART;TZID=America/Vancouver:20260327T210000
DTEND;TZID=America/Vancouver:20260327T230000
DTSTAMP:20260420T064933
CREATED:20260323T162153Z
LAST-MODIFIED:20260323T162153Z
UID:10026556-1774645200-1774652400@livemusickelowna.ca
SUMMARY:Candlelight: Tribute to British Rock Legends
DESCRIPTION:⭐ Candlelight concerts bring the magic of a live\, multi-sensory musical experience to awe-inspiring locations like never seen before in Kelowna. Get your tickets now to discover the music of Queen and The Beatles at The Laurel Packinghouse under the gentle glow of candlelight.\nGeneral Info\n📍 Venue: The Laurel Packinghouse\n📅 Dates and times: select your dates/times directly in the ticket selector\n⏳ Duration: 60 minutes. Doors open 30 minutes before the show. No entry once it starts.\n👤 Age recommendation: The experience is recommended for those who are 8+. To preserve the experience\, disruptive behaviour may result in being asked to step outside. Anyone under the age of 16 must be accompanied by an adult.\n♿ Accessibility: this venue is accessible for people with reduced mobility\n❓ View the FAQs for this event here\n🪑 Seating is assigned on a first come first served basis in each zone\n🕯️ If you would like to book a private concert or buy regular tickets for a large group (+30 people)\, click here\n🎻 Check out all the Candlelight concerts in Kelowna\n🎁 To treat your friends and family to a Candlelight gift card\, click here\nTentative Program \n\nHere Comes the Sun – The Beatles\nBlackbird – The Beatles\nHelp! – The Beatles\nCome Together – The Beatles\nYesterday – The Beatles\nAll You Need Is Love – The Beatles\nLove of My Life – Queen\nAnother One Bites the Dust – Queen\nI Want to Break Free – Queen\nWe Are the Champions – Queen\nWe Will Rock You – Queen\nRadio Ga-Ga – Queen\nBohemian Rhapsody – Queen\n\nPerformers\nString Quartet: \n\n2 violins\n1 viola\n1 cello
URL:https://livemusickelowna.ca/event/candlelight-tribute-to-british-rock-legends/2026-03-27/
LOCATION:Laurel Packing house\, 1304 Ellis St\, Kelowna\, British Columbia\, V1Y 1Z9\, Canada
CATEGORIES:Quartet
ATTACH;FMTTYPE=image/jpeg:https://livemusickelowna.ca/wp-content/uploads/2026/03/rock.jpg
END:VEVENT
BEGIN:VEVENT
DTSTART;TZID=America/Vancouver:20260327T190000
DTEND;TZID=America/Vancouver:20260327T210000
DTSTAMP:20260420T064933
CREATED:20260316T152025Z
LAST-MODIFIED:20260316T152025Z
UID:10026390-1774638000-1774645200@livemusickelowna.ca
SUMMARY:Candlelight: Featuring Vivaldi’s Four Seasons & More
DESCRIPTION:⭐ Candlelight concerts bring the magic of a live\, multi-sensory musical experience to awe-inspiring locations like never seen before in Kelowna. Get your tickets now to discover the music of Vivaldi’s Four Seasons & More at The Laurel Packinghouse under the gentle glow of candlelight.\nGeneral Info\n📍 Venue: The Laurel Packinghouse\n📅 Dates and times: select your dates/times directly in the ticket selector\n⏳ Duration: 60 minutes. Doors open 30 minutes before the show. No entry once it starts.\n👤 Age recommendation: The experience is recommended for those who are 8+. To preserve the experience\, disruptive behaviour may result in being asked to step outside. Anyone under the age of 16 must be accompanied by an adult.\n♿ Accessibility: This venue is compliant with the Accessible British Columbia Act\n❓ View the FAQs for this event here\n🪑 Seating is assigned on a first come first served basis in each zone\n🕯️ If you would like to book a private concert or buy regular tickets for a large group (+30 people)\, click here\n🎻 Check out all the Candlelight concerts in Kelowna\n🎁 To treat your friends and family to a Candlelight gift card\, click here\nTentative Program \n\n“The Four Seasons\, Violin Concerto in G Minor\, Op. 8 No. 1 RV 269: “Spring”” – Vivaldi\n“The Four Seasons\, Violin Concerto in G Minor\, Op. 8 No. 2 RV 315: “Summer”” – Vivaldi\n“Thaïs: Méditation” – Jules Massenet\n“Recomposed by Max Richter: Vivaldi\, The Four Seasons: “Spring 3”” – Max Richter\n“The Cuatro Estaciones Porteñas: Verano Porteño” – Astor Piazzolla\n“Libertango” – Astor Piazzolla\n“The Four Seasons\, Violin Concerto in G Minor\, Op. 8 No. 3 RV 293: “Autumn”” – Vivaldi\n“The Four Seasons\, Violin Concerto in G Minor\, Op. 8 No. 4 RV 297: “Winter”” – Vivaldi\n\nPerformers\nString Quartet: \n\n2 violins\n1 viola\n1 cello
URL:https://livemusickelowna.ca/event/candlelight-featuring-vivaldis-four-seasons-more/2026-03-27/
LOCATION:Laurel Packing house\, 1304 Ellis St\, Kelowna\, British Columbia\, V1Y 1Z9\, Canada
CATEGORIES:Quartet
ATTACH;FMTTYPE=image/jpeg:https://livemusickelowna.ca/wp-content/uploads/2026/03/viv.jpg
END:VEVENT
BEGIN:VEVENT
DTSTART;TZID=America/Vancouver:20260320T184500
DTEND;TZID=America/Vancouver:20260320T210000
DTSTAMP:20260420T064933
CREATED:20260316T152025Z
LAST-MODIFIED:20260316T152025Z
UID:10026389-1774032300-1774040400@livemusickelowna.ca
SUMMARY:Candlelight: Featuring Vivaldi’s Four Seasons & More
DESCRIPTION:⭐ Candlelight concerts bring the magic of a live\, multi-sensory musical experience to awe-inspiring locations like never seen before in Kelowna. Get your tickets now to discover the music of Vivaldi’s Four Seasons & More at The Laurel Packinghouse under the gentle glow of candlelight.\nGeneral Info\n📍 Venue: The Laurel Packinghouse\n📅 Dates and times: select your dates/times directly in the ticket selector\n⏳ Duration: 60 minutes. Doors open 30 minutes before the show. No entry once it starts.\n👤 Age recommendation: The experience is recommended for those who are 8+. To preserve the experience\, disruptive behaviour may result in being asked to step outside. Anyone under the age of 16 must be accompanied by an adult.\n♿ Accessibility: This venue is compliant with the Accessible British Columbia Act\n❓ View the FAQs for this event here\n🪑 Seating is assigned on a first come first served basis in each zone\n🕯️ If you would like to book a private concert or buy regular tickets for a large group (+30 people)\, click here\n🎻 Check out all the Candlelight concerts in Kelowna\n🎁 To treat your friends and family to a Candlelight gift card\, click here\nTentative Program \n\n“The Four Seasons\, Violin Concerto in G Minor\, Op. 8 No. 1 RV 269: “Spring”” – Vivaldi\n“The Four Seasons\, Violin Concerto in G Minor\, Op. 8 No. 2 RV 315: “Summer”” – Vivaldi\n“Thaïs: Méditation” – Jules Massenet\n“Recomposed by Max Richter: Vivaldi\, The Four Seasons: “Spring 3”” – Max Richter\n“The Cuatro Estaciones Porteñas: Verano Porteño” – Astor Piazzolla\n“Libertango” – Astor Piazzolla\n“The Four Seasons\, Violin Concerto in G Minor\, Op. 8 No. 3 RV 293: “Autumn”” – Vivaldi\n“The Four Seasons\, Violin Concerto in G Minor\, Op. 8 No. 4 RV 297: “Winter”” – Vivaldi\n\nPerformers\nString Quartet: \n\n2 violins\n1 viola\n1 cello
URL:https://livemusickelowna.ca/event/candlelight-featuring-vivaldis-four-seasons-more/2026-03-20/
LOCATION:Laurel Packing house\, 1304 Ellis St\, Kelowna\, British Columbia\, V1Y 1Z9\, Canada
CATEGORIES:Quartet
ATTACH;FMTTYPE=image/jpeg:https://livemusickelowna.ca/wp-content/uploads/2026/03/viv.jpg
END:VEVENT
END:VCALENDAR