BEGIN:VCALENDAR
VERSION:2.0
PRODID:-//Live Music Kelowna - ECPv6.15.18//NONSGML v1.0//EN
CALSCALE:GREGORIAN
METHOD:PUBLISH
X-ORIGINAL-URL:https://livemusickelowna.ca
X-WR-CALDESC:Events for Live Music Kelowna
REFRESH-INTERVAL;VALUE=DURATION:PT1H
X-Robots-Tag:noindex
X-PUBLISHED-TTL:PT1H
BEGIN:VTIMEZONE
TZID:America/Vancouver
BEGIN:DAYLIGHT
TZOFFSETFROM:-0800
TZOFFSETTO:-0700
TZNAME:PDT
DTSTART:20250309T100000
END:DAYLIGHT
BEGIN:STANDARD
TZOFFSETFROM:-0700
TZOFFSETTO:-0800
TZNAME:PST
DTSTART:20251102T090000
END:STANDARD
BEGIN:DAYLIGHT
TZOFFSETFROM:-0800
TZOFFSETTO:-0700
TZNAME:PDT
DTSTART:20260308T100000
END:DAYLIGHT
BEGIN:STANDARD
TZOFFSETFROM:-0700
TZOFFSETTO:-0800
TZNAME:PST
DTSTART:20261101T090000
END:STANDARD
BEGIN:DAYLIGHT
TZOFFSETFROM:-0800
TZOFFSETTO:-0700
TZNAME:PDT
DTSTART:20270314T100000
END:DAYLIGHT
BEGIN:STANDARD
TZOFFSETFROM:-0700
TZOFFSETTO:-0800
TZNAME:PST
DTSTART:20271107T090000
END:STANDARD
END:VTIMEZONE
BEGIN:VEVENT
DTSTART;TZID=America/Vancouver:20260606T140000
DTEND;TZID=America/Vancouver:20260606T190000
DTSTAMP:20260419T195710
CREATED:20250630T191347Z
LAST-MODIFIED:20250707T190453Z
UID:10022424-1780754400-1780772400@livemusickelowna.ca
SUMMARY:A Touch of Austria
DESCRIPTION:Throughout the weekends of July & August\, guests are cordially invited to experience Vienna Alive from 2-4p.m. and Celebrating Austria from 5-7p.m. Live grand piano performances of famous Austrian composers will be featured along with Culinary Arts Specialities of Chef Claudia Kargl. Included in the early evening events are deluxe dining with a full course sit down Wiener Schnitzel menu from a gorgeous Okanagan mountain view setting. Reservations are required to guarantee your seating. Treat yourself to European elegance and something truly extraordinary that will\nignite your senses and create a memorable experience. At least 48 hours in advance reservations are required to secure your deluxe booking. Space is limited in our quaint salon and award winning garden oasis.
URL:https://livemusickelowna.ca/event/a-touch-of-austria/2026-06-06/
LOCATION:3063 Bridlehill Drive\, 3063 Bridlehill Drive\, Kelowna\, British Columbia\, Canada
CATEGORIES:Piano
ATTACH;FMTTYPE=image/jpeg:https://livemusickelowna.ca/wp-content/uploads/2025/06/a_touch_of_austria_146083_l.jpg
END:VEVENT
BEGIN:VEVENT
DTSTART;TZID=America/Vancouver:20260613T140000
DTEND;TZID=America/Vancouver:20260613T190000
DTSTAMP:20260419T195710
CREATED:20250630T191347Z
LAST-MODIFIED:20250707T190453Z
UID:10022425-1781359200-1781377200@livemusickelowna.ca
SUMMARY:A Touch of Austria
DESCRIPTION:Throughout the weekends of July & August\, guests are cordially invited to experience Vienna Alive from 2-4p.m. and Celebrating Austria from 5-7p.m. Live grand piano performances of famous Austrian composers will be featured along with Culinary Arts Specialities of Chef Claudia Kargl. Included in the early evening events are deluxe dining with a full course sit down Wiener Schnitzel menu from a gorgeous Okanagan mountain view setting. Reservations are required to guarantee your seating. Treat yourself to European elegance and something truly extraordinary that will\nignite your senses and create a memorable experience. At least 48 hours in advance reservations are required to secure your deluxe booking. Space is limited in our quaint salon and award winning garden oasis.
URL:https://livemusickelowna.ca/event/a-touch-of-austria/2026-06-13/
LOCATION:3063 Bridlehill Drive\, 3063 Bridlehill Drive\, Kelowna\, British Columbia\, Canada
CATEGORIES:Piano
ATTACH;FMTTYPE=image/jpeg:https://livemusickelowna.ca/wp-content/uploads/2025/06/a_touch_of_austria_146083_l.jpg
END:VEVENT
BEGIN:VEVENT
DTSTART;TZID=America/Vancouver:20260620T140000
DTEND;TZID=America/Vancouver:20260620T190000
DTSTAMP:20260419T195710
CREATED:20250630T191347Z
LAST-MODIFIED:20250707T190453Z
UID:10022426-1781964000-1781982000@livemusickelowna.ca
SUMMARY:A Touch of Austria
DESCRIPTION:Throughout the weekends of July & August\, guests are cordially invited to experience Vienna Alive from 2-4p.m. and Celebrating Austria from 5-7p.m. Live grand piano performances of famous Austrian composers will be featured along with Culinary Arts Specialities of Chef Claudia Kargl. Included in the early evening events are deluxe dining with a full course sit down Wiener Schnitzel menu from a gorgeous Okanagan mountain view setting. Reservations are required to guarantee your seating. Treat yourself to European elegance and something truly extraordinary that will\nignite your senses and create a memorable experience. At least 48 hours in advance reservations are required to secure your deluxe booking. Space is limited in our quaint salon and award winning garden oasis.
URL:https://livemusickelowna.ca/event/a-touch-of-austria/2026-06-20/
LOCATION:3063 Bridlehill Drive\, 3063 Bridlehill Drive\, Kelowna\, British Columbia\, Canada
CATEGORIES:Piano
ATTACH;FMTTYPE=image/jpeg:https://livemusickelowna.ca/wp-content/uploads/2025/06/a_touch_of_austria_146083_l.jpg
END:VEVENT
BEGIN:VEVENT
DTSTART;TZID=America/Vancouver:20260627T140000
DTEND;TZID=America/Vancouver:20260627T190000
DTSTAMP:20260419T195710
CREATED:20250630T191347Z
LAST-MODIFIED:20250707T190453Z
UID:10022427-1782568800-1782586800@livemusickelowna.ca
SUMMARY:A Touch of Austria
DESCRIPTION:Throughout the weekends of July & August\, guests are cordially invited to experience Vienna Alive from 2-4p.m. and Celebrating Austria from 5-7p.m. Live grand piano performances of famous Austrian composers will be featured along with Culinary Arts Specialities of Chef Claudia Kargl. Included in the early evening events are deluxe dining with a full course sit down Wiener Schnitzel menu from a gorgeous Okanagan mountain view setting. Reservations are required to guarantee your seating. Treat yourself to European elegance and something truly extraordinary that will\nignite your senses and create a memorable experience. At least 48 hours in advance reservations are required to secure your deluxe booking. Space is limited in our quaint salon and award winning garden oasis.
URL:https://livemusickelowna.ca/event/a-touch-of-austria/2026-06-27/
LOCATION:3063 Bridlehill Drive\, 3063 Bridlehill Drive\, Kelowna\, British Columbia\, Canada
CATEGORIES:Piano
ATTACH;FMTTYPE=image/jpeg:https://livemusickelowna.ca/wp-content/uploads/2025/06/a_touch_of_austria_146083_l.jpg
END:VEVENT
BEGIN:VEVENT
DTSTART;TZID=America/Vancouver:20260704T140000
DTEND;TZID=America/Vancouver:20260704T190000
DTSTAMP:20260419T195710
CREATED:20250630T191347Z
LAST-MODIFIED:20250707T190453Z
UID:10022428-1783173600-1783191600@livemusickelowna.ca
SUMMARY:A Touch of Austria
DESCRIPTION:Throughout the weekends of July & August\, guests are cordially invited to experience Vienna Alive from 2-4p.m. and Celebrating Austria from 5-7p.m. Live grand piano performances of famous Austrian composers will be featured along with Culinary Arts Specialities of Chef Claudia Kargl. Included in the early evening events are deluxe dining with a full course sit down Wiener Schnitzel menu from a gorgeous Okanagan mountain view setting. Reservations are required to guarantee your seating. Treat yourself to European elegance and something truly extraordinary that will\nignite your senses and create a memorable experience. At least 48 hours in advance reservations are required to secure your deluxe booking. Space is limited in our quaint salon and award winning garden oasis.
URL:https://livemusickelowna.ca/event/a-touch-of-austria/2026-07-04/
LOCATION:3063 Bridlehill Drive\, 3063 Bridlehill Drive\, Kelowna\, British Columbia\, Canada
CATEGORIES:Piano
ATTACH;FMTTYPE=image/jpeg:https://livemusickelowna.ca/wp-content/uploads/2025/06/a_touch_of_austria_146083_l.jpg
END:VEVENT
BEGIN:VEVENT
DTSTART;TZID=America/Vancouver:20260711T140000
DTEND;TZID=America/Vancouver:20260711T190000
DTSTAMP:20260419T195710
CREATED:20250630T191347Z
LAST-MODIFIED:20250707T190453Z
UID:10022429-1783778400-1783796400@livemusickelowna.ca
SUMMARY:A Touch of Austria
DESCRIPTION:Throughout the weekends of July & August\, guests are cordially invited to experience Vienna Alive from 2-4p.m. and Celebrating Austria from 5-7p.m. Live grand piano performances of famous Austrian composers will be featured along with Culinary Arts Specialities of Chef Claudia Kargl. Included in the early evening events are deluxe dining with a full course sit down Wiener Schnitzel menu from a gorgeous Okanagan mountain view setting. Reservations are required to guarantee your seating. Treat yourself to European elegance and something truly extraordinary that will\nignite your senses and create a memorable experience. At least 48 hours in advance reservations are required to secure your deluxe booking. Space is limited in our quaint salon and award winning garden oasis.
URL:https://livemusickelowna.ca/event/a-touch-of-austria/2026-07-11/
LOCATION:3063 Bridlehill Drive\, 3063 Bridlehill Drive\, Kelowna\, British Columbia\, Canada
CATEGORIES:Piano
ATTACH;FMTTYPE=image/jpeg:https://livemusickelowna.ca/wp-content/uploads/2025/06/a_touch_of_austria_146083_l.jpg
END:VEVENT
BEGIN:VEVENT
DTSTART;TZID=America/Vancouver:20260718T140000
DTEND;TZID=America/Vancouver:20260718T190000
DTSTAMP:20260419T195710
CREATED:20250630T191347Z
LAST-MODIFIED:20250707T190453Z
UID:10022430-1784383200-1784401200@livemusickelowna.ca
SUMMARY:A Touch of Austria
DESCRIPTION:Throughout the weekends of July & August\, guests are cordially invited to experience Vienna Alive from 2-4p.m. and Celebrating Austria from 5-7p.m. Live grand piano performances of famous Austrian composers will be featured along with Culinary Arts Specialities of Chef Claudia Kargl. Included in the early evening events are deluxe dining with a full course sit down Wiener Schnitzel menu from a gorgeous Okanagan mountain view setting. Reservations are required to guarantee your seating. Treat yourself to European elegance and something truly extraordinary that will\nignite your senses and create a memorable experience. At least 48 hours in advance reservations are required to secure your deluxe booking. Space is limited in our quaint salon and award winning garden oasis.
URL:https://livemusickelowna.ca/event/a-touch-of-austria/2026-07-18/
LOCATION:3063 Bridlehill Drive\, 3063 Bridlehill Drive\, Kelowna\, British Columbia\, Canada
CATEGORIES:Piano
ATTACH;FMTTYPE=image/jpeg:https://livemusickelowna.ca/wp-content/uploads/2025/06/a_touch_of_austria_146083_l.jpg
END:VEVENT
BEGIN:VEVENT
DTSTART;TZID=America/Vancouver:20260725T140000
DTEND;TZID=America/Vancouver:20260725T190000
DTSTAMP:20260419T195710
CREATED:20250630T191347Z
LAST-MODIFIED:20250707T190453Z
UID:10022431-1784988000-1785006000@livemusickelowna.ca
SUMMARY:A Touch of Austria
DESCRIPTION:Throughout the weekends of July & August\, guests are cordially invited to experience Vienna Alive from 2-4p.m. and Celebrating Austria from 5-7p.m. Live grand piano performances of famous Austrian composers will be featured along with Culinary Arts Specialities of Chef Claudia Kargl. Included in the early evening events are deluxe dining with a full course sit down Wiener Schnitzel menu from a gorgeous Okanagan mountain view setting. Reservations are required to guarantee your seating. Treat yourself to European elegance and something truly extraordinary that will\nignite your senses and create a memorable experience. At least 48 hours in advance reservations are required to secure your deluxe booking. Space is limited in our quaint salon and award winning garden oasis.
URL:https://livemusickelowna.ca/event/a-touch-of-austria/2026-07-25/
LOCATION:3063 Bridlehill Drive\, 3063 Bridlehill Drive\, Kelowna\, British Columbia\, Canada
CATEGORIES:Piano
ATTACH;FMTTYPE=image/jpeg:https://livemusickelowna.ca/wp-content/uploads/2025/06/a_touch_of_austria_146083_l.jpg
END:VEVENT
BEGIN:VEVENT
DTSTART;TZID=America/Vancouver:20260801T140000
DTEND;TZID=America/Vancouver:20260801T190000
DTSTAMP:20260419T195710
CREATED:20250630T191347Z
LAST-MODIFIED:20250707T190453Z
UID:10022432-1785592800-1785610800@livemusickelowna.ca
SUMMARY:A Touch of Austria
DESCRIPTION:Throughout the weekends of July & August\, guests are cordially invited to experience Vienna Alive from 2-4p.m. and Celebrating Austria from 5-7p.m. Live grand piano performances of famous Austrian composers will be featured along with Culinary Arts Specialities of Chef Claudia Kargl. Included in the early evening events are deluxe dining with a full course sit down Wiener Schnitzel menu from a gorgeous Okanagan mountain view setting. Reservations are required to guarantee your seating. Treat yourself to European elegance and something truly extraordinary that will\nignite your senses and create a memorable experience. At least 48 hours in advance reservations are required to secure your deluxe booking. Space is limited in our quaint salon and award winning garden oasis.
URL:https://livemusickelowna.ca/event/a-touch-of-austria/2026-08-01/
LOCATION:3063 Bridlehill Drive\, 3063 Bridlehill Drive\, Kelowna\, British Columbia\, Canada
CATEGORIES:Piano
ATTACH;FMTTYPE=image/jpeg:https://livemusickelowna.ca/wp-content/uploads/2025/06/a_touch_of_austria_146083_l.jpg
END:VEVENT
BEGIN:VEVENT
DTSTART;TZID=America/Vancouver:20260808T140000
DTEND;TZID=America/Vancouver:20260808T190000
DTSTAMP:20260419T195710
CREATED:20250630T191347Z
LAST-MODIFIED:20250707T190453Z
UID:10022433-1786197600-1786215600@livemusickelowna.ca
SUMMARY:A Touch of Austria
DESCRIPTION:Throughout the weekends of July & August\, guests are cordially invited to experience Vienna Alive from 2-4p.m. and Celebrating Austria from 5-7p.m. Live grand piano performances of famous Austrian composers will be featured along with Culinary Arts Specialities of Chef Claudia Kargl. Included in the early evening events are deluxe dining with a full course sit down Wiener Schnitzel menu from a gorgeous Okanagan mountain view setting. Reservations are required to guarantee your seating. Treat yourself to European elegance and something truly extraordinary that will\nignite your senses and create a memorable experience. At least 48 hours in advance reservations are required to secure your deluxe booking. Space is limited in our quaint salon and award winning garden oasis.
URL:https://livemusickelowna.ca/event/a-touch-of-austria/2026-08-08/
LOCATION:3063 Bridlehill Drive\, 3063 Bridlehill Drive\, Kelowna\, British Columbia\, Canada
CATEGORIES:Piano
ATTACH;FMTTYPE=image/jpeg:https://livemusickelowna.ca/wp-content/uploads/2025/06/a_touch_of_austria_146083_l.jpg
END:VEVENT
BEGIN:VEVENT
DTSTART;TZID=America/Vancouver:20260815T140000
DTEND;TZID=America/Vancouver:20260815T190000
DTSTAMP:20260419T195710
CREATED:20250630T191347Z
LAST-MODIFIED:20250707T190453Z
UID:10022434-1786802400-1786820400@livemusickelowna.ca
SUMMARY:A Touch of Austria
DESCRIPTION:Throughout the weekends of July & August\, guests are cordially invited to experience Vienna Alive from 2-4p.m. and Celebrating Austria from 5-7p.m. Live grand piano performances of famous Austrian composers will be featured along with Culinary Arts Specialities of Chef Claudia Kargl. Included in the early evening events are deluxe dining with a full course sit down Wiener Schnitzel menu from a gorgeous Okanagan mountain view setting. Reservations are required to guarantee your seating. Treat yourself to European elegance and something truly extraordinary that will\nignite your senses and create a memorable experience. At least 48 hours in advance reservations are required to secure your deluxe booking. Space is limited in our quaint salon and award winning garden oasis.
URL:https://livemusickelowna.ca/event/a-touch-of-austria/2026-08-15/
LOCATION:3063 Bridlehill Drive\, 3063 Bridlehill Drive\, Kelowna\, British Columbia\, Canada
CATEGORIES:Piano
ATTACH;FMTTYPE=image/jpeg:https://livemusickelowna.ca/wp-content/uploads/2025/06/a_touch_of_austria_146083_l.jpg
END:VEVENT
BEGIN:VEVENT
DTSTART;TZID=America/Vancouver:20260822T140000
DTEND;TZID=America/Vancouver:20260822T190000
DTSTAMP:20260419T195710
CREATED:20250630T191347Z
LAST-MODIFIED:20250707T190453Z
UID:10022435-1787407200-1787425200@livemusickelowna.ca
SUMMARY:A Touch of Austria
DESCRIPTION:Throughout the weekends of July & August\, guests are cordially invited to experience Vienna Alive from 2-4p.m. and Celebrating Austria from 5-7p.m. Live grand piano performances of famous Austrian composers will be featured along with Culinary Arts Specialities of Chef Claudia Kargl. Included in the early evening events are deluxe dining with a full course sit down Wiener Schnitzel menu from a gorgeous Okanagan mountain view setting. Reservations are required to guarantee your seating. Treat yourself to European elegance and something truly extraordinary that will\nignite your senses and create a memorable experience. At least 48 hours in advance reservations are required to secure your deluxe booking. Space is limited in our quaint salon and award winning garden oasis.
URL:https://livemusickelowna.ca/event/a-touch-of-austria/2026-08-22/
LOCATION:3063 Bridlehill Drive\, 3063 Bridlehill Drive\, Kelowna\, British Columbia\, Canada
CATEGORIES:Piano
ATTACH;FMTTYPE=image/jpeg:https://livemusickelowna.ca/wp-content/uploads/2025/06/a_touch_of_austria_146083_l.jpg
END:VEVENT
BEGIN:VEVENT
DTSTART;TZID=America/Vancouver:20260829T140000
DTEND;TZID=America/Vancouver:20260829T190000
DTSTAMP:20260419T195710
CREATED:20250630T191347Z
LAST-MODIFIED:20250707T190453Z
UID:10022436-1788012000-1788030000@livemusickelowna.ca
SUMMARY:A Touch of Austria
DESCRIPTION:Throughout the weekends of July & August\, guests are cordially invited to experience Vienna Alive from 2-4p.m. and Celebrating Austria from 5-7p.m. Live grand piano performances of famous Austrian composers will be featured along with Culinary Arts Specialities of Chef Claudia Kargl. Included in the early evening events are deluxe dining with a full course sit down Wiener Schnitzel menu from a gorgeous Okanagan mountain view setting. Reservations are required to guarantee your seating. Treat yourself to European elegance and something truly extraordinary that will\nignite your senses and create a memorable experience. At least 48 hours in advance reservations are required to secure your deluxe booking. Space is limited in our quaint salon and award winning garden oasis.
URL:https://livemusickelowna.ca/event/a-touch-of-austria/2026-08-29/
LOCATION:3063 Bridlehill Drive\, 3063 Bridlehill Drive\, Kelowna\, British Columbia\, Canada
CATEGORIES:Piano
ATTACH;FMTTYPE=image/jpeg:https://livemusickelowna.ca/wp-content/uploads/2025/06/a_touch_of_austria_146083_l.jpg
END:VEVENT
END:VCALENDAR