BEGIN:VCALENDAR
VERSION:2.0
PRODID:-//Live Music Kelowna - ECPv6.15.20//NONSGML v1.0//EN
CALSCALE:GREGORIAN
METHOD:PUBLISH
X-WR-CALNAME:Live Music Kelowna
X-ORIGINAL-URL:https://livemusickelowna.ca
X-WR-CALDESC:Events for Live Music Kelowna
REFRESH-INTERVAL;VALUE=DURATION:PT1H
X-Robots-Tag:noindex
X-PUBLISHED-TTL:PT1H
BEGIN:VTIMEZONE
TZID:America/Vancouver
BEGIN:DAYLIGHT
TZOFFSETFROM:-0800
TZOFFSETTO:-0700
TZNAME:PDT
DTSTART:20250309T100000
END:DAYLIGHT
BEGIN:STANDARD
TZOFFSETFROM:-0700
TZOFFSETTO:-0800
TZNAME:PST
DTSTART:20251102T090000
END:STANDARD
BEGIN:DAYLIGHT
TZOFFSETFROM:-0800
TZOFFSETTO:-0700
TZNAME:PDT
DTSTART:20260308T100000
END:DAYLIGHT
BEGIN:STANDARD
TZOFFSETFROM:-0700
TZOFFSETTO:-0800
TZNAME:PST
DTSTART:20261101T090000
END:STANDARD
BEGIN:DAYLIGHT
TZOFFSETFROM:-0800
TZOFFSETTO:-0700
TZNAME:PDT
DTSTART:20270314T100000
END:DAYLIGHT
BEGIN:STANDARD
TZOFFSETFROM:-0700
TZOFFSETTO:-0800
TZNAME:PST
DTSTART:20271107T090000
END:STANDARD
END:VTIMEZONE
BEGIN:VEVENT
DTSTART;TZID=America/Vancouver:20260326T190000
DTEND;TZID=America/Vancouver:20260326T213000
DTSTAMP:20260421T152025
CREATED:20260119T195939Z
LAST-MODIFIED:20260119T195939Z
UID:10025630-1774551600-1774560600@livemusickelowna.ca
SUMMARY:Thursday Night Dance
DESCRIPTION:Dance every Thursday to Vic Ukrainetz\, Carol & Andrea (on Sax)\, 7 – 9:30 pm. Join us for Two steps\, foxtrots\, waltzes\, Polkas\, Cha Chas\, Rumbas\, some old time pattern and just plain fun. Parkinson Activity Centre\, 1700 Parkinson Way\, Kelowna. For info call 250-212-6216
URL:https://livemusickelowna.ca/event/thursday-night-dance/2026-03-26/
LOCATION:Parkinson Activity Centre\, 1700 Parkinson Way\, Kelowna\, Canada
CATEGORIES:Mixed Genres
ATTACH;FMTTYPE=image/jpeg:https://livemusickelowna.ca/wp-content/uploads/2026/01/thursday_night_dance_149580_l.jpg
END:VEVENT
BEGIN:VEVENT
DTSTART;TZID=America/Vancouver:20260325T193000
DTEND;TZID=America/Vancouver:20260325T193000
DTSTAMP:20260421T152025
CREATED:20260323T015148Z
LAST-MODIFIED:20260323T015148Z
UID:10026535-1774467000-1774467000@livemusickelowna.ca
SUMMARY:HIGH VALLEY
DESCRIPTION:Canada’s powerhouse country group High Valley showcase their signature storytelling on “Along for the Ride\,” the latest single from their upcoming EP Paradise & Hurricanes. The song channels the band’s trademark mix of heartfelt emotion and high-energy stompgrass sound. \n“Paradise and Hurricanes seems to be the right way to summarize a relationship and a music career! Along for the Ride is really a statement song about how to take the incredible highs and lows and find the balance somewhere in the middle.  I’m Leavin You is a true statement to never ever giving up!  This whole EP says a lot if you dig into it\, but on the surface\, it’s some of the most fun upbeat stompgrass we’ve ever recorded!” \nWith the project expected to be released in February 2026\, High Valley is gearing up for a year that celebrates their highs and lows on the road – The Paradise & Hurricanes Tour. Blending real experiences with a sound that’s as familiar as it is refreshing\, this season reveals the grit\, grace\, and heart that continue to define and shape the genre. \nABOUT HIGH VALLEY: Multi-platinum country group High Valley have cultivated a loyal following that craves the band’s upbeat messages\, anthemic melodies and signature fusion of contemporary country and traditional bluegrass. The musical blend has resonated with fans in the group’s native Canada and the U.S. with a force that propelled High Valley to be the top-selling Canadian band in country music history. \nLed by founder\, lead singer/songwriter and 7-time SOCAN Country Music Award Winner Brad Rempel\, the group has amassed more than half a billion global streams\, notched back-to-back gold singles in the U.S.\, achieved multiple No. 1 songs in Canada\, two gold albums and six platinum singles. High Valley has been nominated for ACM\, CMT and JUNO Awards and have earned multiple CCMA Awards\, with the group’s hits including “Make You Mine\,” “She’s With Me” and “Grew Up On That.””
URL:https://livemusickelowna.ca/event/high-valley/
LOCATION:Kelowna Community Theatre\, 1375 Water St\, Kelowna\, British Columbia\, V1Y 0B4\, Canada
CATEGORIES:Mixed Genres
ATTACH;FMTTYPE=image/jpeg:https://livemusickelowna.ca/wp-content/uploads/2026/03/60512473-cda4-4881-ba9d-e2a28a71aacf.jpg
END:VEVENT
BEGIN:VEVENT
DTSTART;TZID=America/Vancouver:20260325T180000
DTEND;TZID=America/Vancouver:20260325T200000
DTSTAMP:20260421T152025
CREATED:20260323T014031Z
LAST-MODIFIED:20260323T014031Z
UID:10026532-1774461600-1774468800@livemusickelowna.ca
SUMMARY:Jese Lawrence
DESCRIPTION:Wing Wednesday with Jese Lawrence \nJoin us for our smoked wings & live music!\n1 lb of our smoked chicken wings\, three flavors available (plain\, BBQ\, & hot) with a side of our pickled veg and our house made Alabama white sauce.\nLive Music with Jese Lawrence from 6-8pm\nNo tickets necessary – just make a reservation to secure your spot!
URL:https://livemusickelowna.ca/event/jese-lawrence-4/
LOCATION:Hatching Post Brewery\, 2850 Boucherie Rd\, West Kelowna\, British Columbia\, V1Z 2G5\, Canada
CATEGORIES:Mixed Genres
ATTACH;FMTTYPE=image/png:https://livemusickelowna.ca/wp-content/uploads/2026/03/Wings-Edited-Darker-scaled.png
END:VEVENT
BEGIN:VEVENT
DTSTART;TZID=America/Vancouver:20260325T180000
DTEND;TZID=America/Vancouver:20260325T200000
DTSTAMP:20260421T152025
CREATED:20260126T194129Z
LAST-MODIFIED:20260126T194129Z
UID:10025726-1774461600-1774468800@livemusickelowna.ca
SUMMARY:Wine & Song Nights
DESCRIPTION:Enjoy 50% off bottles of wine all night at Maestro’s Mediterranean every Wednesday\, as live music plays from 6:00pm-8:00pm. Check out Okanagan talent and enjoy every sip at Maestro’s Wine & Song!
URL:https://livemusickelowna.ca/event/wine-song-nights/2026-03-25/
LOCATION:Maestro’s Mediterranean Restaurant\, 3762 Lakeshore Rd\, Kelowna\, British Columbia\, Canada
CATEGORIES:Mixed Genres
ATTACH;FMTTYPE=image/jpeg:https://livemusickelowna.ca/wp-content/uploads/2026/01/maestros-2-1024x683-1.jpg
END:VEVENT
BEGIN:VEVENT
DTSTART;TZID=America/Vancouver:20260324T193000
DTEND;TZID=America/Vancouver:20260324T213000
DTSTAMP:20260421T152025
CREATED:20260302T164726Z
LAST-MODIFIED:20260302T164726Z
UID:10026128-1774380600-1774387800@livemusickelowna.ca
SUMMARY:Live Music @ Micro
DESCRIPTION:CLAIRE KUZMYK – March 3rd \nSAMMY COOPER– March 10th \nNILS LOEWEN– March 17th \nKANSAS LEE– March 24th \nDAN TAIT- March 31st \nSince the summer of 2022\, Tuesday nights at micro + bar and bites are home to live music from 7:30pm-9:30pm. Our curated schedule is comprised of talented musicians\, performing in an intimate\, listening-style environment. And of course\, the music is designed to be enjoyed with friends new and old over creative cocktails and tasty tapas. \nOver 70+ nights of music have been held at our cozy bar\, featuring a variety of Okanagan talent representing genres such as singer-songwriter\, soul\, blues\, latin folclórica\, and eastern-European jazz. \nGiven that our seating is limited (and we do not take reservations)\, we recommend you come early to secure your spot at the bar and enjoy an unforgettable night of live music\, great cocktails\, and a few bites from our tapas menu. ⁠
URL:https://livemusickelowna.ca/event/live-music-micro/2026-03-24/
LOCATION:Micro Bar & Bites\, 1500 Water St\, Kelowna\, British Columbia\, V1Y 1J8\, Canada
CATEGORIES:Dining,Mixed Genres
ATTACH;FMTTYPE=image/jpeg:https://livemusickelowna.ca/wp-content/uploads/2026/03/micro-march.jpg
END:VEVENT
BEGIN:VEVENT
DTSTART;TZID=America/Vancouver:20260323T180000
DTEND;TZID=America/Vancouver:20260323T210000
DTSTAMP:20260421T152025
CREATED:20260323T170051Z
LAST-MODIFIED:20260323T170129Z
UID:10026559-1774288800-1774299600@livemusickelowna.ca
SUMMARY:MUSIC MONDAYS
DESCRIPTION:Every Monday night from 6-9pm! \n– open mic\n– bring your own instruments (house drums and base guitar available)\n– industry discount on bevys!\n– free live music
URL:https://livemusickelowna.ca/event/music-mondays/2026-03-23/
LOCATION:Unleashed Brewing Company\, 880 Clement Ave #207\, Kelowna\, BC\, V1Y 0H8\, Canada
CATEGORIES:Mixed Genres,Open Mic
ATTACH;FMTTYPE=image/jpeg:https://livemusickelowna.ca/wp-content/uploads/2026/03/music-monday.jpg
END:VEVENT
BEGIN:VEVENT
DTSTART;TZID=America/Vancouver:20260322T220000
DTEND;TZID=America/Vancouver:20260322T220000
DTSTAMP:20260421T152025
CREATED:20260201T200922Z
LAST-MODIFIED:20260201T200922Z
UID:10025898-1774216800-1774216800@livemusickelowna.ca
SUMMARY:Distrikit Saturdays
DESCRIPTION:
URL:https://livemusickelowna.ca/event/distrikit-saturdays/2026-03-22/
LOCATION:Distrikt Night Club\, 275 LEON AVENUE\, KELOWNA\, British Columbia\, V1Y 6J1\, Canada
CATEGORIES:Mixed Genres
ATTACH;FMTTYPE=image/jpeg:https://livemusickelowna.ca/wp-content/uploads/2026/02/WhatsApp-Image-2026-02-02-at-1.00.08-AM.jpeg
END:VEVENT
BEGIN:VEVENT
DTSTART;TZID=America/Vancouver:20260322T203000
DTEND;TZID=America/Vancouver:20260322T230000
DTSTAMP:20260421T152025
CREATED:20250728T193908Z
LAST-MODIFIED:20251208T140721Z
UID:10025148-1774211400-1774220400@livemusickelowna.ca
SUMMARY:Sunday Funday
DESCRIPTION:Sunday’s are SUNDAY FUNDAY!!  We switch between our House DJ\, DJ Thistle and Conroy Ross playing live Rock & Alt Rock every Sunday starting at 8pm so come get your groove on! Entry is free and so is POOL in the Carlos O’Bryan’s Pub!
URL:https://livemusickelowna.ca/event/sunday-funday/2026-03-22/
LOCATION:Carlos O’Bryans\, 3470 Carrington Rd\, West Kelowna\, British Columbia\, V4T 3V1\, Canada
CATEGORIES:Mixed Genres
ATTACH;FMTTYPE=image/avif:https://livemusickelowna.ca/wp-content/uploads/2025/07/IMG_6127_2D87B453-F484-8B71-E1DDBC0E1DC275EE_2da490b0-a13f-db34-d6045a1966d7f649.avif
END:VEVENT
BEGIN:VEVENT
DTSTART;TZID=America/Vancouver:20260322T193000
DTEND;TZID=America/Vancouver:20260322T193000
DTSTAMP:20260421T152025
CREATED:20260315T074843Z
LAST-MODIFIED:20260315T074843Z
UID:10026378-1774207800-1774207800@livemusickelowna.ca
SUMMARY:GARTH STEVENSON
DESCRIPTION:Garth Stevenson is a double bassist and composer known for creating music in direct communion with the natural world. On a 2010 expedition to Antarctica with biologist Dr. Roger Payne\, Garth imitated whale calls on his double bass\, attracting a dozen sei whales to their icebreaker. In 2025\, he traveled to Baja\, Mexico\, to play for humpback whales. Standing on a small fishing boat\, Stevenson played his bass live through underwater speakers while listening to the underwater sound of humpbacks through hydrophones\, creating an environment where they could hear and respond to each other. These interactions were captured by National Geographic director Andy Mann for an installation at the Museum of Natural History in Mexico City. \nJoin Garth for an evening of music\, storytelling\, and film at the Mary Irwin Theatre. He will be playing alongside footage and underwater recordings of his interactions with whales in Mexico\, telling stories about his time in Antarctica playing music for penguins\, seals\, icebergs\, and premiering music from his new album. \nStick around after the show for a Meet & Greet with Garth!
URL:https://livemusickelowna.ca/event/garth-stevenson/
LOCATION:Rotary Centre for the Arts\, 421 Cawston Ave\, Kelowna\, BC\, V1Y 6Z1\, Canada
CATEGORIES:Mixed Genres,Singer/Songwriter
ATTACH;FMTTYPE=image/jpeg:https://livemusickelowna.ca/wp-content/uploads/2026/03/24e13d3b-9f95-4381-890d-d51e9ae5948b.jpg
END:VEVENT
BEGIN:VEVENT
DTSTART;TZID=America/Vancouver:20260322T193000
DTEND;TZID=America/Vancouver:20260322T193000
DTSTAMP:20260421T152025
CREATED:20260315T072915Z
LAST-MODIFIED:20260315T072915Z
UID:10026376-1774207800-1774207800@livemusickelowna.ca
SUMMARY:TOM LAVIN & THE LEGENDARY POWDER BLUES
DESCRIPTION:For over four decades Powder Blues has been Canada’s leading blues band. The mix of swing\, blues\, jazz\, rock & roll and r & b has an appeal so wide that people from seven to seventy swing side by side at a Powder Blues concert. Over the years the band has toured non-stop through Canada\, the US and overseas\, sharing their feel-good music. \nPowder Blues debut album\, ‘Uncut’\, was ignored by major labels who said there was ‘no market for the blues’. Undiscouraged\, the band sent it to radio stations whose switchboards lit up with calls asking\, ‘who’s that?’ After selling 30\,000 copies in a few weeks\, the same record labels competed to sign the band. To date Powder Blues have sold over a million records worldwide. \nHighlights include winning Canada’s Juno\, headlining the Montreux Switzerland Jazz Festival\, winning the Blues Foundation Award in Memphis\, Tennessee and touring the US and Europe with legends like Willie Dixon\, John Lee Hooker\, B.B. King\, James Brown\, Albert Collins\, James Cotton and Stevie Ray Vaughn. \nLeader Tom Lavin wrote many of the band’s best-known songs including ‘Doin’ It Right’ (‘On the Wrong Side of Town’) and ‘Boppin With the Blues’. Born in Chicago\, where he played with local bands and blues legends\, Tom moved to Vancouver where he worked as studio musician\, song writer\, band leader\, record producer and film composer. \nTom has won BCMIA awards for ‘Guitarist\, Singer\, Songwriter and Producer of the Year’\, a Juno award for ‘Best New Band’ and the American W.C. Handy award. He has over a dozen gold\, and platinum records for Powder Blues\, Prism\, April Wine\, Long John Baldry\, Amos Garrett\, and many others. \n2025 is the band’s 47th Anniversary. Their more than dozen CD titles and DVD continue to sell world-wide making Tom Lavin & the Legendary Powder Blues one of Canada’s longest-standing musical ambassadors. \nPricing \nRegular $77.69 ($65.50 base price + $2.36 CIF + $9.83 service charge) \nAll above prices are in CAD and include GST. \n— \nKelowna Community Theatre event tickets include a $2.36 Capital Improvement Fee (CIF). A service fee is added for box office costs\, card processing\, and taxes. Tom Lavin & The Legendary Powder Blues tickets and their applicable fees are non-refundable.
URL:https://livemusickelowna.ca/event/tom-lavin-the-legendary-powder-blues/
LOCATION:Kelowna Community Theatre\, 1375 Water St\, Kelowna\, British Columbia\, V1Y 0B4\, Canada
CATEGORIES:Folk,Mixed Genres,Rock
ATTACH;FMTTYPE=image/jpeg:https://livemusickelowna.ca/wp-content/uploads/2026/03/2b9478ef-eb01-4190-8167-416d49897d7f.jpg
END:VEVENT
BEGIN:VEVENT
DTSTART;TZID=America/Vancouver:20260321T220000
DTEND;TZID=America/Vancouver:20260321T220000
DTSTAMP:20260421T152025
CREATED:20260316T150950Z
LAST-MODIFIED:20260316T152322Z
UID:10026391-1774130400-1774130400@livemusickelowna.ca
SUMMARY:BASS HAVEN | Vol:2
DESCRIPTION:Overview\n\n\n\n\nGet ready for the ultimate bass experience with Prism Project BASS HAVEN Vol:2\, where the beats will have you bopping all night long! \n\n\n\n\nPresented by Prism Project \nThe haven returns. \nAfter the energy\, the lows\, and the response from Vol. 1\, we’re pushing it further.\nDeeper bass. Heavier pressure. No holding back. \nExpect chest-rattling subs\, warped sound design\, and a room full of people who understand the assignment. This is underground bass culture in its rawest form. \nThis isn’t just another night out.\nIt’s a space built for the community\, by the community. \nIf you were there for Vol. 1\, you already know.\nIf you weren’t… this is your chance. \nBass Haven Vol. 2 is coming.\nSame haven. Heavier storm! \n10 pm-2 am
URL:https://livemusickelowna.ca/event/bass-haven-vol2-2/
LOCATION:Distrikt Night Club\, 275 LEON AVENUE\, KELOWNA\, British Columbia\, V1Y 6J1\, Canada
CATEGORIES:Bass,Mixed Genres
ATTACH;FMTTYPE=image/webp:https://livemusickelowna.ca/wp-content/uploads/2026/03/image-1.webp
END:VEVENT
BEGIN:VEVENT
DTSTART;TZID=America/Vancouver:20260321T220000
DTEND;TZID=America/Vancouver:20260321T220000
DTSTAMP:20260421T152025
CREATED:20260316T113718Z
LAST-MODIFIED:20260316T113718Z
UID:10026386-1774130400-1774130400@livemusickelowna.ca
SUMMARY:Bingo Loco Kelowna
DESCRIPTION:⭐ Bingo Loco – The Wildest Bingo Party in Kelowna! Looking for the most outrageous bingo party in the USA or the top-rated bingo show in Canada? \nWelcome to Bingo Loco\, the interactive live event that’s taken North America by storm. We’ve turned traditional bingo on its head—this is a full-blown party rave with DJs\, dance-offs\, lip-sync battles\, confetti showers\, and wild prizes you won’t believe. \n General Info \n 📅 Date: 21st March 2026 EARLY SHOW \n\n 📍 Location: 1383 Ellis St\, Kelowna\, BC V1Y 1Z9\, Canada \n 👤 Age requirement: 19+ with valid ID \n 🔥 Highlights \n 🌍 Global Hit: After selling out in over 200 cities worldwide\, Bingo Loco lands in Kelowna for one of its biggest nights yet. \n 🕺 Insane Energy: Expect a high-octane stage show with rave rounds\, dance battles\, hype DJs\, and confetti explosions. \n 🎁 Crazy Prizes: Win everything from a Vegas vacation to air fryers\, inflatable flamingos\, lawnmowers\, or even a fridge! \n 🎶 Epic Throwbacks: Dance to hits from the 80s\, 90s\, and 00s—from ABBA to Britneys Spears. \n 😂 Comedian MCs: Your hilarious hosts will have you laughing and dancing all night long. \n 😍 Still not sure? See exactly ‘what is bingo loco’ right here! \n ♿ Accessibility: Contact venue for accommodation options \n 🎉 Get ready as Bingo Loco is crashing into Kelowna nightlife with a wild mix of bingo\, rave\, and comedy like nothing you’ve seen before. Picture this: comedian MCs\, DJ-spun throwbacks\, mountains of confetti\, and crowd-hyping CO2 cannons—all while you play high-stakes bingo for outrageously fun prizes. Whether you’re planning a night out with friends\, a birthday celebration\, or looking for a unique event in Kelowna\, this is the party you don’t want to miss. \n 🎟️ Grab your tickets now and get ready to experience the chaos\, the comedy\, and the confetti of Bingo Loco Kelowna!
URL:https://livemusickelowna.ca/event/bingo-loco-kelowna-2/
LOCATION:Revelry Food + Music Hub\, 1383 Ellis St\, Kelowna\, British Columbia\, V1Y 1Z9\, Canada
CATEGORIES:Dance,Disco,Mixed Genres
ATTACH;FMTTYPE=image/jpeg:https://livemusickelowna.ca/wp-content/uploads/2026/03/WhatsApp-Image-2026-03-16-at-2.28.13-AM-1.jpeg
END:VEVENT
BEGIN:VEVENT
DTSTART;TZID=America/Vancouver:20260321T210000
DTEND;TZID=America/Vancouver:20260321T230000
DTSTAMP:20260421T152025
CREATED:20260315T065034Z
LAST-MODIFIED:20260315T065034Z
UID:10026372-1774126800-1774134000@livemusickelowna.ca
SUMMARY:Ben Dunnill
DESCRIPTION:Ben Dunnill\nBen Dunnill is a jazz-pop artist with a timeless voice and an extraordinary memory – he performs over 5\,000 songs entirely by heart. A professional performer since age 13\, he built his career playing piano bars across Vancouver and quickly became one of the city’s most sought-after entertainers. His blend of classic style and digital fluency has captivated global audiences\, with over 5 million music streams and 200 million video views. Ben’s artistry has drawn praise from musical icons like Laufey and David Foster\, positioning him as a modern artist with a classic soul. \nDoors will open at 8pm\, with curtains at 9pm.  As always – wine\, cocktails\, beer & more are available for purchase. \nSeating for events in the speakeasy is preassigned\, not first come first served. If you would like to be seated with a group that purchased tickets separately please include their name in the order form. \n\n\n\nContact Information \nWest Kelowna’s entertainment hub. Offering wine\, beer\, cider\, and top-tier local entertainment at The Broken Hearts Club Speakeasy at Crown & Thieves\, and more. Enjoy live music\, comedy\, magic\, burlesque\, and endless fun at JPC locations.
URL:https://livemusickelowna.ca/event/ben-dunnill-2/
LOCATION:The Broken Hearts Club\, 3887C Brown Road\, West Kelowna\, BC\, V4T 2J3\, Canada
CATEGORIES:Jazz,Mixed Genres,Pop
ATTACH;FMTTYPE=image/webp:https://livemusickelowna.ca/wp-content/uploads/2026/03/rrrrrr.webp
END:VEVENT
BEGIN:VEVENT
DTSTART;TZID=America/Vancouver:20260321T200000
DTEND;TZID=America/Vancouver:20260321T230000
DTSTAMP:20260421T152025
CREATED:20260316T110030Z
LAST-MODIFIED:20260316T154215Z
UID:10026383-1774123200-1774134000@livemusickelowna.ca
SUMMARY:Mark Woodyard
DESCRIPTION:A one-man band. Infinite possibilities.\nSaturday nights at Red Bird are made for moments you didn’t see coming — and Mark Woodyard delivers exactly that.\nOften dubbed a “Human Jukebox\,” Woodyard brings an electrifying\, genre-hopping live show built entirely in the moment. Using looping machines\, guitar\, and a wildly versatile voice\, he transforms familiar songs into something completely new — blending pop\, rock\, hip-hop\, funk\, and unexpected deep cuts into a seamless\, dance-fuelled experience. No setlists\, no repeats\, and no two shows ever the same.\nEqual parts musician and mad scientist\, Woodyard’s improv-forward style draws comparisons to Reggie Watts and Marc Rebillet\, creating spontaneous\, high-energy performances that ignite dance floors within seconds. Whether you’re singing along\, moving your feet\, or just watching the magic unfold\, this is a night that keeps you locked in from the first loop to the final beat.
URL:https://livemusickelowna.ca/event/mark-woodyard/
LOCATION:Red Bird Brewing\, 1080 Richter S\, Kelowna\, British Columbia\, V1Y 2K5\, Canada
CATEGORIES:Folk,Funk,Hip Hop,Mixed Genres,Pop
ATTACH;FMTTYPE=image/webp:https://livemusickelowna.ca/wp-content/uploads/2026/03/mark-woodyard-live-at-red-bird-brewing-march-21.webp
END:VEVENT
BEGIN:VEVENT
DTSTART;TZID=America/Vancouver:20260321T193000
DTEND;TZID=America/Vancouver:20260321T193000
DTSTAMP:20260421T152025
CREATED:20260315T074126Z
LAST-MODIFIED:20260315T074126Z
UID:10026377-1774121400-1774121400@livemusickelowna.ca
SUMMARY:PWR/UP
DESCRIPTION:Canada’s Premier Tribute to AC/DC\nPWR/UP. The Best AC/DC You’ll See Without a Time Machine! \nYoung Lads with a devilish passion for AC/DC\, bringing it to you with all the attitude and power of 1980 when AC/DC was Young and Hungry! \nPWR/UP singer Jon Bon Johnson just Wins AC/DC International Singer Spot in Europe. Both Bon and Brian are sung with all the swagger and character that makes them unique\, the vocal transformation is uncanny\, complete down to the body language. Angus tone and riffs for days!! \nGet ready for a Driving night of the finest High Energy Old School AC/DC Rock ’n Roll. \nLet There Be Rock.\nLet there Be…\nPWR/UP \nPricing \nRegular $49.95 ($41.38 base price + $2.36 CIF + $6.21 service charge) \nAll above prices are in CAD and include GST. \n— \nMary Irwin Theatre at the Rotary Centre for the Arts event tickets include a $2.36 Capital Improvement Fee (CIF). A service fee is added for box office costs\, card processing\, and taxes. PWR/UP tickets and their applicable fees are non-refundable.
URL:https://livemusickelowna.ca/event/pwr-up/
LOCATION:Rotary Centre for the Arts\, 421 Cawston Ave\, Kelowna\, BC\, V1Y 6Z1\, Canada
CATEGORIES:Mixed Genres,Rock,Rock & Roll
ATTACH;FMTTYPE=image/jpeg:https://livemusickelowna.ca/wp-content/uploads/2026/03/de7d0e6c-9311-4db5-bebb-dd9fbb3c1076.jpg
END:VEVENT
BEGIN:VEVENT
DTSTART;TZID=America/Vancouver:20260321T190000
DTEND;TZID=America/Vancouver:20260321T190000
DTSTAMP:20260421T152025
CREATED:20260315T063056Z
LAST-MODIFIED:20260315T063056Z
UID:10026370-1774119600-1774119600@livemusickelowna.ca
SUMMARY:Josh Ritter
DESCRIPTION:Sat\, Mar 21\, 2026 At 7:00pm\n\n\n$39.00 Per Person\nIncluding fees & charges \nAn Evening with Josh Ritter: A Book of Gold Thrown Open \nJosh Ritter is a renowned singer\, songwriter\, musician\, artist and best-selling author. One of today’s most thoughtful and prolific voices\, he has released eleven studio albums including 2019’s widely acclaimed ‘Fever Breaks’ of which NPR Music praised\, “He remains a hydrant of ideas while embodying an endless capacity for empathy and indignation\, often within a single song.” \nHis twelfth studio album\, “I Believe in You\, My Honeydew’ is out now. Two-plus decades into his celebrated career\, Ritter has written music that has transcended generations including luminaries such as Bob Dylan\, Joan Baez\, and Bob Weir covering his songs. \nThe Book of Gold Thrown Open tour is meant to encompass the whole of Ritter’s career\, versus focusing on any one studio album. \nIn addition to his work as a musician\, Ritter is also a national best-selling author\, having released two novels to date: 2021’s The Great Glorious Goddamn of It All and 2011’s Bright’s Passage. Released to critical attention\, Stephen King wrote in The New York Times Book Review that Bright’s Passage “shines with a compressed lyricism that recalls Ray Bradbury in his prime…This is the work of a gifted novelist.” \n“Josh Ritter remains at the top of his game two decades into a highlight-strewn career. He’d be forgiven for loosening his grip\, but his hand has never felt surer.”\n– NPR Music \n“Harking back to Bob Dylan\, Bruce Springsteen and maybe a little Mark Knopfler\, Mr. Ritter has always been a slinger of serious ideas and high-flown imagery.”\n– The New York Times \n“Mysterious\, melancholy\, melodic…and those are only the M’s.”\n– Stephen King in Entertainment Weekly
URL:https://livemusickelowna.ca/event/josh-ritter/
LOCATION:Creekside Theatre\, 10241 Bottom Wood Lake Rd\, Lake Country\, British Columbia\, V4V 1Y7\, Canada
CATEGORIES:Mixed Genres,Singer/Songwriter
ATTACH;FMTTYPE=image/jpeg:https://livemusickelowna.ca/wp-content/uploads/2026/03/jjjj.jpg
END:VEVENT
BEGIN:VEVENT
DTSTART;TZID=America/Vancouver:20260321T180000
DTEND;TZID=America/Vancouver:20260321T180000
DTSTAMP:20260421T152025
CREATED:20260316T113244Z
LAST-MODIFIED:20260316T113244Z
UID:10026385-1774116000-1774116000@livemusickelowna.ca
SUMMARY:Bingo Loco Kelowna
DESCRIPTION:⭐ Bingo Loco – The Wildest Bingo Party in Kelowna! Looking for the most outrageous bingo party in the USA or the top-rated bingo show in Canada? \nWelcome to Bingo Loco\, the interactive live event that’s taken North America by storm. We’ve turned traditional bingo on its head—this is a full-blown party rave with DJs\, dance-offs\, lip-sync battles\, confetti showers\, and wild prizes you won’t believe. \n General Info \n 📅 Date: 21st March 2026 EARLY SHOW \n 🕒 Time: Doors – 5:00 pm / Show Starts – 6:00 pm ⏳ \n 📍 Location: 1383 Ellis St\, Kelowna\, BC V1Y 1Z9\, Canada \n 👤 Age requirement: 19+ with valid ID \n 🔥 Highlights \n 🌍 Global Hit: After selling out in over 200 cities worldwide\, Bingo Loco lands in Kelowna for one of its biggest nights yet. \n 🕺 Insane Energy: Expect a high-octane stage show with rave rounds\, dance battles\, hype DJs\, and confetti explosions. \n 🎁 Crazy Prizes: Win everything from a Vegas vacation to air fryers\, inflatable flamingos\, lawnmowers\, or even a fridge! \n 🎶 Epic Throwbacks: Dance to hits from the 80s\, 90s\, and 00s—from ABBA to Britneys Spears. \n 😂 Comedian MCs: Your hilarious hosts will have you laughing and dancing all night long. \n 😍 Still not sure? See exactly ‘what is bingo loco’ right here! \n ♿ Accessibility: Contact venue for accommodation options \n 🎉 Get ready as Bingo Loco is crashing into Kelowna nightlife with a wild mix of bingo\, rave\, and comedy like nothing you’ve seen before. Picture this: comedian MCs\, DJ-spun throwbacks\, mountains of confetti\, and crowd-hyping CO2 cannons—all while you play high-stakes bingo for outrageously fun prizes. Whether you’re planning a night out with friends\, a birthday celebration\, or looking for a unique event in Kelowna\, this is the party you don’t want to miss. \n 🎟️ Grab your tickets now and get ready to experience the chaos\, the comedy\, and the confetti of Bingo Loco Kelowna!
URL:https://livemusickelowna.ca/event/bingo-loco-kelowna/
LOCATION:Revelry Food + Music Hub\, 1383 Ellis St\, Kelowna\, British Columbia\, V1Y 1Z9\, Canada
CATEGORIES:Dance,Disco,Mixed Genres
ATTACH;FMTTYPE=image/jpeg:https://livemusickelowna.ca/wp-content/uploads/2026/03/WhatsApp-Image-2026-03-16-at-2.28.13-AM.jpeg
END:VEVENT
BEGIN:VEVENT
DTSTART;TZID=America/Vancouver:20260320T213000
DTEND;TZID=America/Vancouver:20260320T213000
DTSTAMP:20260421T152025
CREATED:20260316T153340Z
LAST-MODIFIED:20260316T153340Z
UID:10026394-1774042200-1774042200@livemusickelowna.ca
SUMMARY:THE FEELS
DESCRIPTION:THE FEELS \nMar 20\, 2026 9:30pm \nOkanagan’s Newest Cover Band with unique and diverse collection of nostalgic top 40 hits from the 80’s 90’s and now! \nFriday & Saturday
URL:https://livemusickelowna.ca/event/the-feels/
LOCATION:O’Flannigan’s Pub\, 319 Queensway\, Kelowna\, British Columbia\, V1Y 8E6\, Canada
CATEGORIES:80's,90s,Mixed Genres
ATTACH;FMTTYPE=image/jpeg:https://livemusickelowna.ca/wp-content/uploads/2026/03/45ddce424f937f9c2bc798c1e46d5a42_lg.jpg
END:VEVENT
END:VCALENDAR