BEGIN:VCALENDAR
VERSION:2.0
PRODID:-//Live Music Kelowna - ECPv6.15.20//NONSGML v1.0//EN
CALSCALE:GREGORIAN
METHOD:PUBLISH
X-WR-CALNAME:Live Music Kelowna
X-ORIGINAL-URL:https://livemusickelowna.ca
X-WR-CALDESC:Events for Live Music Kelowna
REFRESH-INTERVAL;VALUE=DURATION:PT1H
X-Robots-Tag:noindex
X-PUBLISHED-TTL:PT1H
BEGIN:VTIMEZONE
TZID:America/Vancouver
BEGIN:DAYLIGHT
TZOFFSETFROM:-0800
TZOFFSETTO:-0700
TZNAME:PDT
DTSTART:20250309T100000
END:DAYLIGHT
BEGIN:STANDARD
TZOFFSETFROM:-0700
TZOFFSETTO:-0800
TZNAME:PST
DTSTART:20251102T090000
END:STANDARD
BEGIN:DAYLIGHT
TZOFFSETFROM:-0800
TZOFFSETTO:-0700
TZNAME:PDT
DTSTART:20260308T100000
END:DAYLIGHT
BEGIN:STANDARD
TZOFFSETFROM:-0700
TZOFFSETTO:-0800
TZNAME:PST
DTSTART:20261101T090000
END:STANDARD
BEGIN:DAYLIGHT
TZOFFSETFROM:-0800
TZOFFSETTO:-0700
TZNAME:PDT
DTSTART:20270314T100000
END:DAYLIGHT
BEGIN:STANDARD
TZOFFSETFROM:-0700
TZOFFSETTO:-0800
TZNAME:PST
DTSTART:20271107T090000
END:STANDARD
END:VTIMEZONE
BEGIN:VEVENT
DTSTART;TZID=America/Vancouver:20260629T180000
DTEND;TZID=America/Vancouver:20260629T210000
DTSTAMP:20260421T122838
CREATED:20260323T170051Z
LAST-MODIFIED:20260323T170129Z
UID:10026573-1782756000-1782766800@livemusickelowna.ca
SUMMARY:MUSIC MONDAYS
DESCRIPTION:Every Monday night from 6-9pm! \n– open mic\n– bring your own instruments (house drums and base guitar available)\n– industry discount on bevys!\n– free live music
URL:https://livemusickelowna.ca/event/music-mondays/2026-06-29/
LOCATION:Unleashed Brewing Company\, 880 Clement Ave #207\, Kelowna\, BC\, V1Y 0H8\, Canada
CATEGORIES:Mixed Genres,Open Mic
ATTACH;FMTTYPE=image/jpeg:https://livemusickelowna.ca/wp-content/uploads/2026/03/music-monday.jpg
END:VEVENT
BEGIN:VEVENT
DTSTART;TZID=America/Vancouver:20260701T180000
DTEND;TZID=America/Vancouver:20260701T200000
DTSTAMP:20260421T122838
CREATED:20260126T194129Z
LAST-MODIFIED:20260126T194129Z
UID:10025740-1782928800-1782936000@livemusickelowna.ca
SUMMARY:Wine & Song Nights
DESCRIPTION:Enjoy 50% off bottles of wine all night at Maestro’s Mediterranean every Wednesday\, as live music plays from 6:00pm-8:00pm. Check out Okanagan talent and enjoy every sip at Maestro’s Wine & Song!
URL:https://livemusickelowna.ca/event/wine-song-nights/2026-07-01/
LOCATION:Maestro’s Mediterranean Restaurant\, 3762 Lakeshore Rd\, Kelowna\, British Columbia\, Canada
CATEGORIES:Mixed Genres
ATTACH;FMTTYPE=image/jpeg:https://livemusickelowna.ca/wp-content/uploads/2026/01/maestros-2-1024x683-1.jpg
END:VEVENT
BEGIN:VEVENT
DTSTART;TZID=America/Vancouver:20260702T190000
DTEND;TZID=America/Vancouver:20260702T213000
DTSTAMP:20260421T122838
CREATED:20260119T195939Z
LAST-MODIFIED:20260119T195939Z
UID:10025644-1783018800-1783027800@livemusickelowna.ca
SUMMARY:Thursday Night Dance
DESCRIPTION:Dance every Thursday to Vic Ukrainetz\, Carol & Andrea (on Sax)\, 7 – 9:30 pm. Join us for Two steps\, foxtrots\, waltzes\, Polkas\, Cha Chas\, Rumbas\, some old time pattern and just plain fun. Parkinson Activity Centre\, 1700 Parkinson Way\, Kelowna. For info call 250-212-6216
URL:https://livemusickelowna.ca/event/thursday-night-dance/2026-07-02/
LOCATION:Parkinson Activity Centre\, 1700 Parkinson Way\, Kelowna\, Canada
CATEGORIES:Mixed Genres
ATTACH;FMTTYPE=image/jpeg:https://livemusickelowna.ca/wp-content/uploads/2026/01/thursday_night_dance_149580_l.jpg
END:VEVENT
BEGIN:VEVENT
DTSTART;TZID=America/Vancouver:20260703T190000
DTEND;TZID=America/Vancouver:20260703T210000
DTSTAMP:20260421T122838
CREATED:20260316T163005Z
LAST-MODIFIED:20260316T173701Z
UID:10026415-1783105200-1783112400@livemusickelowna.ca
SUMMARY:Live Music Fridays at Eldorado
DESCRIPTION:Join us weekly at Lakeside Dining for live music! Immerse yourself in an evening of great tunes and vibrant atmosphere.\nWhether you’re enjoying a cocktail with friends or a cozy dinner\, our live music sets the perfect backdrop for a memorable night. Don’t miss out on the fun—come and experience the best of local talent! \nWhere: Lakeside Dining Restaurant – Eldorado Lounge\, Boardwalk\, or Vintage Room\nWe can’t wait to see you there!
URL:https://livemusickelowna.ca/event/live-music-fridays-at-eldorado/2026-07-03/
LOCATION:Eldorado Lounge\, 3762 Lakeshore Rd.\, Kelowna\, British Columbia\, V1W 3G9\, Canada
CATEGORIES:Mixed Genres
ATTACH;FMTTYPE=image/jpeg:https://livemusickelowna.ca/wp-content/uploads/2026/03/live_music_fridays_a_150098_l.jpg
END:VEVENT
BEGIN:VEVENT
DTSTART;TZID=America/Vancouver:20260705T203000
DTEND;TZID=America/Vancouver:20260705T230000
DTSTAMP:20260421T122838
CREATED:20250728T193908Z
LAST-MODIFIED:20251208T140721Z
UID:10025163-1783283400-1783292400@livemusickelowna.ca
SUMMARY:Sunday Funday
DESCRIPTION:Sunday’s are SUNDAY FUNDAY!!  We switch between our House DJ\, DJ Thistle and Conroy Ross playing live Rock & Alt Rock every Sunday starting at 8pm so come get your groove on! Entry is free and so is POOL in the Carlos O’Bryan’s Pub!
URL:https://livemusickelowna.ca/event/sunday-funday/2026-07-05/
LOCATION:Carlos O’Bryans\, 3470 Carrington Rd\, West Kelowna\, British Columbia\, V4T 3V1\, Canada
CATEGORIES:Mixed Genres
ATTACH;FMTTYPE=image/avif:https://livemusickelowna.ca/wp-content/uploads/2025/07/IMG_6127_2D87B453-F484-8B71-E1DDBC0E1DC275EE_2da490b0-a13f-db34-d6045a1966d7f649.avif
END:VEVENT
BEGIN:VEVENT
DTSTART;TZID=America/Vancouver:20260706T180000
DTEND;TZID=America/Vancouver:20260706T210000
DTSTAMP:20260421T122838
CREATED:20260323T170051Z
LAST-MODIFIED:20260323T170129Z
UID:10026574-1783360800-1783371600@livemusickelowna.ca
SUMMARY:MUSIC MONDAYS
DESCRIPTION:Every Monday night from 6-9pm! \n– open mic\n– bring your own instruments (house drums and base guitar available)\n– industry discount on bevys!\n– free live music
URL:https://livemusickelowna.ca/event/music-mondays/2026-07-06/
LOCATION:Unleashed Brewing Company\, 880 Clement Ave #207\, Kelowna\, BC\, V1Y 0H8\, Canada
CATEGORIES:Mixed Genres,Open Mic
ATTACH;FMTTYPE=image/jpeg:https://livemusickelowna.ca/wp-content/uploads/2026/03/music-monday.jpg
END:VEVENT
BEGIN:VEVENT
DTSTART;TZID=America/Vancouver:20260708T180000
DTEND;TZID=America/Vancouver:20260708T200000
DTSTAMP:20260421T122838
CREATED:20260126T194129Z
LAST-MODIFIED:20260126T194129Z
UID:10025741-1783533600-1783540800@livemusickelowna.ca
SUMMARY:Wine & Song Nights
DESCRIPTION:Enjoy 50% off bottles of wine all night at Maestro’s Mediterranean every Wednesday\, as live music plays from 6:00pm-8:00pm. Check out Okanagan talent and enjoy every sip at Maestro’s Wine & Song!
URL:https://livemusickelowna.ca/event/wine-song-nights/2026-07-08/
LOCATION:Maestro’s Mediterranean Restaurant\, 3762 Lakeshore Rd\, Kelowna\, British Columbia\, Canada
CATEGORIES:Mixed Genres
ATTACH;FMTTYPE=image/jpeg:https://livemusickelowna.ca/wp-content/uploads/2026/01/maestros-2-1024x683-1.jpg
END:VEVENT
BEGIN:VEVENT
DTSTART;TZID=America/Vancouver:20260709T190000
DTEND;TZID=America/Vancouver:20260709T213000
DTSTAMP:20260421T122838
CREATED:20260119T195939Z
LAST-MODIFIED:20260119T195939Z
UID:10025645-1783623600-1783632600@livemusickelowna.ca
SUMMARY:Thursday Night Dance
DESCRIPTION:Dance every Thursday to Vic Ukrainetz\, Carol & Andrea (on Sax)\, 7 – 9:30 pm. Join us for Two steps\, foxtrots\, waltzes\, Polkas\, Cha Chas\, Rumbas\, some old time pattern and just plain fun. Parkinson Activity Centre\, 1700 Parkinson Way\, Kelowna. For info call 250-212-6216
URL:https://livemusickelowna.ca/event/thursday-night-dance/2026-07-09/
LOCATION:Parkinson Activity Centre\, 1700 Parkinson Way\, Kelowna\, Canada
CATEGORIES:Mixed Genres
ATTACH;FMTTYPE=image/jpeg:https://livemusickelowna.ca/wp-content/uploads/2026/01/thursday_night_dance_149580_l.jpg
END:VEVENT
BEGIN:VEVENT
DTSTART;TZID=America/Vancouver:20260710T190000
DTEND;TZID=America/Vancouver:20260710T210000
DTSTAMP:20260421T122838
CREATED:20260316T163005Z
LAST-MODIFIED:20260316T173701Z
UID:10026416-1783710000-1783717200@livemusickelowna.ca
SUMMARY:Live Music Fridays at Eldorado
DESCRIPTION:Join us weekly at Lakeside Dining for live music! Immerse yourself in an evening of great tunes and vibrant atmosphere.\nWhether you’re enjoying a cocktail with friends or a cozy dinner\, our live music sets the perfect backdrop for a memorable night. Don’t miss out on the fun—come and experience the best of local talent! \nWhere: Lakeside Dining Restaurant – Eldorado Lounge\, Boardwalk\, or Vintage Room\nWe can’t wait to see you there!
URL:https://livemusickelowna.ca/event/live-music-fridays-at-eldorado/2026-07-10/
LOCATION:Eldorado Lounge\, 3762 Lakeshore Rd.\, Kelowna\, British Columbia\, V1W 3G9\, Canada
CATEGORIES:Mixed Genres
ATTACH;FMTTYPE=image/jpeg:https://livemusickelowna.ca/wp-content/uploads/2026/03/live_music_fridays_a_150098_l.jpg
END:VEVENT
BEGIN:VEVENT
DTSTART;TZID=America/Vancouver:20260712T203000
DTEND;TZID=America/Vancouver:20260712T230000
DTSTAMP:20260421T122838
CREATED:20250728T193908Z
LAST-MODIFIED:20251208T140721Z
UID:10025164-1783888200-1783897200@livemusickelowna.ca
SUMMARY:Sunday Funday
DESCRIPTION:Sunday’s are SUNDAY FUNDAY!!  We switch between our House DJ\, DJ Thistle and Conroy Ross playing live Rock & Alt Rock every Sunday starting at 8pm so come get your groove on! Entry is free and so is POOL in the Carlos O’Bryan’s Pub!
URL:https://livemusickelowna.ca/event/sunday-funday/2026-07-12/
LOCATION:Carlos O’Bryans\, 3470 Carrington Rd\, West Kelowna\, British Columbia\, V4T 3V1\, Canada
CATEGORIES:Mixed Genres
ATTACH;FMTTYPE=image/avif:https://livemusickelowna.ca/wp-content/uploads/2025/07/IMG_6127_2D87B453-F484-8B71-E1DDBC0E1DC275EE_2da490b0-a13f-db34-d6045a1966d7f649.avif
END:VEVENT
BEGIN:VEVENT
DTSTART;TZID=America/Vancouver:20260713T180000
DTEND;TZID=America/Vancouver:20260713T210000
DTSTAMP:20260421T122838
CREATED:20260323T170051Z
LAST-MODIFIED:20260323T170129Z
UID:10026575-1783965600-1783976400@livemusickelowna.ca
SUMMARY:MUSIC MONDAYS
DESCRIPTION:Every Monday night from 6-9pm! \n– open mic\n– bring your own instruments (house drums and base guitar available)\n– industry discount on bevys!\n– free live music
URL:https://livemusickelowna.ca/event/music-mondays/2026-07-13/
LOCATION:Unleashed Brewing Company\, 880 Clement Ave #207\, Kelowna\, BC\, V1Y 0H8\, Canada
CATEGORIES:Mixed Genres,Open Mic
ATTACH;FMTTYPE=image/jpeg:https://livemusickelowna.ca/wp-content/uploads/2026/03/music-monday.jpg
END:VEVENT
BEGIN:VEVENT
DTSTART;TZID=America/Vancouver:20260715T180000
DTEND;TZID=America/Vancouver:20260715T200000
DTSTAMP:20260421T122838
CREATED:20260126T194129Z
LAST-MODIFIED:20260126T194129Z
UID:10025742-1784138400-1784145600@livemusickelowna.ca
SUMMARY:Wine & Song Nights
DESCRIPTION:Enjoy 50% off bottles of wine all night at Maestro’s Mediterranean every Wednesday\, as live music plays from 6:00pm-8:00pm. Check out Okanagan talent and enjoy every sip at Maestro’s Wine & Song!
URL:https://livemusickelowna.ca/event/wine-song-nights/2026-07-15/
LOCATION:Maestro’s Mediterranean Restaurant\, 3762 Lakeshore Rd\, Kelowna\, British Columbia\, Canada
CATEGORIES:Mixed Genres
ATTACH;FMTTYPE=image/jpeg:https://livemusickelowna.ca/wp-content/uploads/2026/01/maestros-2-1024x683-1.jpg
END:VEVENT
BEGIN:VEVENT
DTSTART;TZID=America/Vancouver:20260716T190000
DTEND;TZID=America/Vancouver:20260716T213000
DTSTAMP:20260421T122838
CREATED:20260119T195939Z
LAST-MODIFIED:20260119T195939Z
UID:10025646-1784228400-1784237400@livemusickelowna.ca
SUMMARY:Thursday Night Dance
DESCRIPTION:Dance every Thursday to Vic Ukrainetz\, Carol & Andrea (on Sax)\, 7 – 9:30 pm. Join us for Two steps\, foxtrots\, waltzes\, Polkas\, Cha Chas\, Rumbas\, some old time pattern and just plain fun. Parkinson Activity Centre\, 1700 Parkinson Way\, Kelowna. For info call 250-212-6216
URL:https://livemusickelowna.ca/event/thursday-night-dance/2026-07-16/
LOCATION:Parkinson Activity Centre\, 1700 Parkinson Way\, Kelowna\, Canada
CATEGORIES:Mixed Genres
ATTACH;FMTTYPE=image/jpeg:https://livemusickelowna.ca/wp-content/uploads/2026/01/thursday_night_dance_149580_l.jpg
END:VEVENT
BEGIN:VEVENT
DTSTART;TZID=America/Vancouver:20260717T190000
DTEND;TZID=America/Vancouver:20260717T210000
DTSTAMP:20260421T122838
CREATED:20260316T163005Z
LAST-MODIFIED:20260316T173701Z
UID:10026417-1784314800-1784322000@livemusickelowna.ca
SUMMARY:Live Music Fridays at Eldorado
DESCRIPTION:Join us weekly at Lakeside Dining for live music! Immerse yourself in an evening of great tunes and vibrant atmosphere.\nWhether you’re enjoying a cocktail with friends or a cozy dinner\, our live music sets the perfect backdrop for a memorable night. Don’t miss out on the fun—come and experience the best of local talent! \nWhere: Lakeside Dining Restaurant – Eldorado Lounge\, Boardwalk\, or Vintage Room\nWe can’t wait to see you there!
URL:https://livemusickelowna.ca/event/live-music-fridays-at-eldorado/2026-07-17/
LOCATION:Eldorado Lounge\, 3762 Lakeshore Rd.\, Kelowna\, British Columbia\, V1W 3G9\, Canada
CATEGORIES:Mixed Genres
ATTACH;FMTTYPE=image/jpeg:https://livemusickelowna.ca/wp-content/uploads/2026/03/live_music_fridays_a_150098_l.jpg
END:VEVENT
BEGIN:VEVENT
DTSTART;TZID=America/Vancouver:20260720T180000
DTEND;TZID=America/Vancouver:20260720T210000
DTSTAMP:20260421T122838
CREATED:20260323T170051Z
LAST-MODIFIED:20260323T170129Z
UID:10026576-1784570400-1784581200@livemusickelowna.ca
SUMMARY:MUSIC MONDAYS
DESCRIPTION:Every Monday night from 6-9pm! \n– open mic\n– bring your own instruments (house drums and base guitar available)\n– industry discount on bevys!\n– free live music
URL:https://livemusickelowna.ca/event/music-mondays/2026-07-20/
LOCATION:Unleashed Brewing Company\, 880 Clement Ave #207\, Kelowna\, BC\, V1Y 0H8\, Canada
CATEGORIES:Mixed Genres,Open Mic
ATTACH;FMTTYPE=image/jpeg:https://livemusickelowna.ca/wp-content/uploads/2026/03/music-monday.jpg
END:VEVENT
BEGIN:VEVENT
DTSTART;TZID=America/Vancouver:20260722T180000
DTEND;TZID=America/Vancouver:20260722T200000
DTSTAMP:20260421T122838
CREATED:20260126T194129Z
LAST-MODIFIED:20260126T194129Z
UID:10025743-1784743200-1784750400@livemusickelowna.ca
SUMMARY:Wine & Song Nights
DESCRIPTION:Enjoy 50% off bottles of wine all night at Maestro’s Mediterranean every Wednesday\, as live music plays from 6:00pm-8:00pm. Check out Okanagan talent and enjoy every sip at Maestro’s Wine & Song!
URL:https://livemusickelowna.ca/event/wine-song-nights/2026-07-22/
LOCATION:Maestro’s Mediterranean Restaurant\, 3762 Lakeshore Rd\, Kelowna\, British Columbia\, Canada
CATEGORIES:Mixed Genres
ATTACH;FMTTYPE=image/jpeg:https://livemusickelowna.ca/wp-content/uploads/2026/01/maestros-2-1024x683-1.jpg
END:VEVENT
BEGIN:VEVENT
DTSTART;TZID=America/Vancouver:20260723T190000
DTEND;TZID=America/Vancouver:20260723T213000
DTSTAMP:20260421T122838
CREATED:20260119T195939Z
LAST-MODIFIED:20260119T195939Z
UID:10025647-1784833200-1784842200@livemusickelowna.ca
SUMMARY:Thursday Night Dance
DESCRIPTION:Dance every Thursday to Vic Ukrainetz\, Carol & Andrea (on Sax)\, 7 – 9:30 pm. Join us for Two steps\, foxtrots\, waltzes\, Polkas\, Cha Chas\, Rumbas\, some old time pattern and just plain fun. Parkinson Activity Centre\, 1700 Parkinson Way\, Kelowna. For info call 250-212-6216
URL:https://livemusickelowna.ca/event/thursday-night-dance/2026-07-23/
LOCATION:Parkinson Activity Centre\, 1700 Parkinson Way\, Kelowna\, Canada
CATEGORIES:Mixed Genres
ATTACH;FMTTYPE=image/jpeg:https://livemusickelowna.ca/wp-content/uploads/2026/01/thursday_night_dance_149580_l.jpg
END:VEVENT
BEGIN:VEVENT
DTSTART;TZID=America/Vancouver:20260724T190000
DTEND;TZID=America/Vancouver:20260724T210000
DTSTAMP:20260421T122838
CREATED:20260316T163005Z
LAST-MODIFIED:20260316T173701Z
UID:10026418-1784919600-1784926800@livemusickelowna.ca
SUMMARY:Live Music Fridays at Eldorado
DESCRIPTION:Join us weekly at Lakeside Dining for live music! Immerse yourself in an evening of great tunes and vibrant atmosphere.\nWhether you’re enjoying a cocktail with friends or a cozy dinner\, our live music sets the perfect backdrop for a memorable night. Don’t miss out on the fun—come and experience the best of local talent! \nWhere: Lakeside Dining Restaurant – Eldorado Lounge\, Boardwalk\, or Vintage Room\nWe can’t wait to see you there!
URL:https://livemusickelowna.ca/event/live-music-fridays-at-eldorado/2026-07-24/
LOCATION:Eldorado Lounge\, 3762 Lakeshore Rd.\, Kelowna\, British Columbia\, V1W 3G9\, Canada
CATEGORIES:Mixed Genres
ATTACH;FMTTYPE=image/jpeg:https://livemusickelowna.ca/wp-content/uploads/2026/03/live_music_fridays_a_150098_l.jpg
END:VEVENT
BEGIN:VEVENT
DTSTART;TZID=America/Vancouver:20260727T180000
DTEND;TZID=America/Vancouver:20260727T210000
DTSTAMP:20260421T122838
CREATED:20260323T170051Z
LAST-MODIFIED:20260323T170129Z
UID:10026577-1785175200-1785186000@livemusickelowna.ca
SUMMARY:MUSIC MONDAYS
DESCRIPTION:Every Monday night from 6-9pm! \n– open mic\n– bring your own instruments (house drums and base guitar available)\n– industry discount on bevys!\n– free live music
URL:https://livemusickelowna.ca/event/music-mondays/2026-07-27/
LOCATION:Unleashed Brewing Company\, 880 Clement Ave #207\, Kelowna\, BC\, V1Y 0H8\, Canada
CATEGORIES:Mixed Genres,Open Mic
ATTACH;FMTTYPE=image/jpeg:https://livemusickelowna.ca/wp-content/uploads/2026/03/music-monday.jpg
END:VEVENT
BEGIN:VEVENT
DTSTART;TZID=America/Vancouver:20260729T180000
DTEND;TZID=America/Vancouver:20260729T200000
DTSTAMP:20260421T122838
CREATED:20260126T194129Z
LAST-MODIFIED:20260126T194129Z
UID:10025744-1785348000-1785355200@livemusickelowna.ca
SUMMARY:Wine & Song Nights
DESCRIPTION:Enjoy 50% off bottles of wine all night at Maestro’s Mediterranean every Wednesday\, as live music plays from 6:00pm-8:00pm. Check out Okanagan talent and enjoy every sip at Maestro’s Wine & Song!
URL:https://livemusickelowna.ca/event/wine-song-nights/2026-07-29/
LOCATION:Maestro’s Mediterranean Restaurant\, 3762 Lakeshore Rd\, Kelowna\, British Columbia\, Canada
CATEGORIES:Mixed Genres
ATTACH;FMTTYPE=image/jpeg:https://livemusickelowna.ca/wp-content/uploads/2026/01/maestros-2-1024x683-1.jpg
END:VEVENT
BEGIN:VEVENT
DTSTART;TZID=America/Vancouver:20260730T190000
DTEND;TZID=America/Vancouver:20260730T213000
DTSTAMP:20260421T122838
CREATED:20260119T195939Z
LAST-MODIFIED:20260119T195939Z
UID:10025648-1785438000-1785447000@livemusickelowna.ca
SUMMARY:Thursday Night Dance
DESCRIPTION:Dance every Thursday to Vic Ukrainetz\, Carol & Andrea (on Sax)\, 7 – 9:30 pm. Join us for Two steps\, foxtrots\, waltzes\, Polkas\, Cha Chas\, Rumbas\, some old time pattern and just plain fun. Parkinson Activity Centre\, 1700 Parkinson Way\, Kelowna. For info call 250-212-6216
URL:https://livemusickelowna.ca/event/thursday-night-dance/2026-07-30/
LOCATION:Parkinson Activity Centre\, 1700 Parkinson Way\, Kelowna\, Canada
CATEGORIES:Mixed Genres
ATTACH;FMTTYPE=image/jpeg:https://livemusickelowna.ca/wp-content/uploads/2026/01/thursday_night_dance_149580_l.jpg
END:VEVENT
BEGIN:VEVENT
DTSTART;TZID=America/Vancouver:20260731T190000
DTEND;TZID=America/Vancouver:20260731T210000
DTSTAMP:20260421T122838
CREATED:20260316T163005Z
LAST-MODIFIED:20260316T173701Z
UID:10026419-1785524400-1785531600@livemusickelowna.ca
SUMMARY:Live Music Fridays at Eldorado
DESCRIPTION:Join us weekly at Lakeside Dining for live music! Immerse yourself in an evening of great tunes and vibrant atmosphere.\nWhether you’re enjoying a cocktail with friends or a cozy dinner\, our live music sets the perfect backdrop for a memorable night. Don’t miss out on the fun—come and experience the best of local talent! \nWhere: Lakeside Dining Restaurant – Eldorado Lounge\, Boardwalk\, or Vintage Room\nWe can’t wait to see you there!
URL:https://livemusickelowna.ca/event/live-music-fridays-at-eldorado/2026-07-31/
LOCATION:Eldorado Lounge\, 3762 Lakeshore Rd.\, Kelowna\, British Columbia\, V1W 3G9\, Canada
CATEGORIES:Mixed Genres
ATTACH;FMTTYPE=image/jpeg:https://livemusickelowna.ca/wp-content/uploads/2026/03/live_music_fridays_a_150098_l.jpg
END:VEVENT
BEGIN:VEVENT
DTSTART;TZID=America/Vancouver:20260803T180000
DTEND;TZID=America/Vancouver:20260803T210000
DTSTAMP:20260421T122838
CREATED:20260323T170051Z
LAST-MODIFIED:20260323T170129Z
UID:10026578-1785780000-1785790800@livemusickelowna.ca
SUMMARY:MUSIC MONDAYS
DESCRIPTION:Every Monday night from 6-9pm! \n– open mic\n– bring your own instruments (house drums and base guitar available)\n– industry discount on bevys!\n– free live music
URL:https://livemusickelowna.ca/event/music-mondays/2026-08-03/
LOCATION:Unleashed Brewing Company\, 880 Clement Ave #207\, Kelowna\, BC\, V1Y 0H8\, Canada
CATEGORIES:Mixed Genres,Open Mic
ATTACH;FMTTYPE=image/jpeg:https://livemusickelowna.ca/wp-content/uploads/2026/03/music-monday.jpg
END:VEVENT
BEGIN:VEVENT
DTSTART;TZID=America/Vancouver:20260805T180000
DTEND;TZID=America/Vancouver:20260805T200000
DTSTAMP:20260421T122838
CREATED:20260126T194129Z
LAST-MODIFIED:20260126T194129Z
UID:10025745-1785952800-1785960000@livemusickelowna.ca
SUMMARY:Wine & Song Nights
DESCRIPTION:Enjoy 50% off bottles of wine all night at Maestro’s Mediterranean every Wednesday\, as live music plays from 6:00pm-8:00pm. Check out Okanagan talent and enjoy every sip at Maestro’s Wine & Song!
URL:https://livemusickelowna.ca/event/wine-song-nights/2026-08-05/
LOCATION:Maestro’s Mediterranean Restaurant\, 3762 Lakeshore Rd\, Kelowna\, British Columbia\, Canada
CATEGORIES:Mixed Genres
ATTACH;FMTTYPE=image/jpeg:https://livemusickelowna.ca/wp-content/uploads/2026/01/maestros-2-1024x683-1.jpg
END:VEVENT
BEGIN:VEVENT
DTSTART;TZID=America/Vancouver:20260806T190000
DTEND;TZID=America/Vancouver:20260806T213000
DTSTAMP:20260421T122838
CREATED:20260119T195939Z
LAST-MODIFIED:20260119T195939Z
UID:10025649-1786042800-1786051800@livemusickelowna.ca
SUMMARY:Thursday Night Dance
DESCRIPTION:Dance every Thursday to Vic Ukrainetz\, Carol & Andrea (on Sax)\, 7 – 9:30 pm. Join us for Two steps\, foxtrots\, waltzes\, Polkas\, Cha Chas\, Rumbas\, some old time pattern and just plain fun. Parkinson Activity Centre\, 1700 Parkinson Way\, Kelowna. For info call 250-212-6216
URL:https://livemusickelowna.ca/event/thursday-night-dance/2026-08-06/
LOCATION:Parkinson Activity Centre\, 1700 Parkinson Way\, Kelowna\, Canada
CATEGORIES:Mixed Genres
ATTACH;FMTTYPE=image/jpeg:https://livemusickelowna.ca/wp-content/uploads/2026/01/thursday_night_dance_149580_l.jpg
END:VEVENT
BEGIN:VEVENT
DTSTART;TZID=America/Vancouver:20260807T190000
DTEND;TZID=America/Vancouver:20260807T210000
DTSTAMP:20260421T122838
CREATED:20260316T163005Z
LAST-MODIFIED:20260316T173701Z
UID:10026420-1786129200-1786136400@livemusickelowna.ca
SUMMARY:Live Music Fridays at Eldorado
DESCRIPTION:Join us weekly at Lakeside Dining for live music! Immerse yourself in an evening of great tunes and vibrant atmosphere.\nWhether you’re enjoying a cocktail with friends or a cozy dinner\, our live music sets the perfect backdrop for a memorable night. Don’t miss out on the fun—come and experience the best of local talent! \nWhere: Lakeside Dining Restaurant – Eldorado Lounge\, Boardwalk\, or Vintage Room\nWe can’t wait to see you there!
URL:https://livemusickelowna.ca/event/live-music-fridays-at-eldorado/2026-08-07/
LOCATION:Eldorado Lounge\, 3762 Lakeshore Rd.\, Kelowna\, British Columbia\, V1W 3G9\, Canada
CATEGORIES:Mixed Genres
ATTACH;FMTTYPE=image/jpeg:https://livemusickelowna.ca/wp-content/uploads/2026/03/live_music_fridays_a_150098_l.jpg
END:VEVENT
BEGIN:VEVENT
DTSTART;TZID=America/Vancouver:20260812T180000
DTEND;TZID=America/Vancouver:20260812T200000
DTSTAMP:20260421T122838
CREATED:20260126T194129Z
LAST-MODIFIED:20260126T194129Z
UID:10025746-1786557600-1786564800@livemusickelowna.ca
SUMMARY:Wine & Song Nights
DESCRIPTION:Enjoy 50% off bottles of wine all night at Maestro’s Mediterranean every Wednesday\, as live music plays from 6:00pm-8:00pm. Check out Okanagan talent and enjoy every sip at Maestro’s Wine & Song!
URL:https://livemusickelowna.ca/event/wine-song-nights/2026-08-12/
LOCATION:Maestro’s Mediterranean Restaurant\, 3762 Lakeshore Rd\, Kelowna\, British Columbia\, Canada
CATEGORIES:Mixed Genres
ATTACH;FMTTYPE=image/jpeg:https://livemusickelowna.ca/wp-content/uploads/2026/01/maestros-2-1024x683-1.jpg
END:VEVENT
BEGIN:VEVENT
DTSTART;TZID=America/Vancouver:20260813T190000
DTEND;TZID=America/Vancouver:20260813T213000
DTSTAMP:20260421T122838
CREATED:20260119T195939Z
LAST-MODIFIED:20260119T195939Z
UID:10025650-1786647600-1786656600@livemusickelowna.ca
SUMMARY:Thursday Night Dance
DESCRIPTION:Dance every Thursday to Vic Ukrainetz\, Carol & Andrea (on Sax)\, 7 – 9:30 pm. Join us for Two steps\, foxtrots\, waltzes\, Polkas\, Cha Chas\, Rumbas\, some old time pattern and just plain fun. Parkinson Activity Centre\, 1700 Parkinson Way\, Kelowna. For info call 250-212-6216
URL:https://livemusickelowna.ca/event/thursday-night-dance/2026-08-13/
LOCATION:Parkinson Activity Centre\, 1700 Parkinson Way\, Kelowna\, Canada
CATEGORIES:Mixed Genres
ATTACH;FMTTYPE=image/jpeg:https://livemusickelowna.ca/wp-content/uploads/2026/01/thursday_night_dance_149580_l.jpg
END:VEVENT
BEGIN:VEVENT
DTSTART;TZID=America/Vancouver:20260814T190000
DTEND;TZID=America/Vancouver:20260814T210000
DTSTAMP:20260421T122838
CREATED:20260316T163005Z
LAST-MODIFIED:20260316T173701Z
UID:10026421-1786734000-1786741200@livemusickelowna.ca
SUMMARY:Live Music Fridays at Eldorado
DESCRIPTION:Join us weekly at Lakeside Dining for live music! Immerse yourself in an evening of great tunes and vibrant atmosphere.\nWhether you’re enjoying a cocktail with friends or a cozy dinner\, our live music sets the perfect backdrop for a memorable night. Don’t miss out on the fun—come and experience the best of local talent! \nWhere: Lakeside Dining Restaurant – Eldorado Lounge\, Boardwalk\, or Vintage Room\nWe can’t wait to see you there!
URL:https://livemusickelowna.ca/event/live-music-fridays-at-eldorado/2026-08-14/
LOCATION:Eldorado Lounge\, 3762 Lakeshore Rd.\, Kelowna\, British Columbia\, V1W 3G9\, Canada
CATEGORIES:Mixed Genres
ATTACH;FMTTYPE=image/jpeg:https://livemusickelowna.ca/wp-content/uploads/2026/03/live_music_fridays_a_150098_l.jpg
END:VEVENT
BEGIN:VEVENT
DTSTART;TZID=America/Vancouver:20260819T180000
DTEND;TZID=America/Vancouver:20260819T200000
DTSTAMP:20260421T122838
CREATED:20260126T194129Z
LAST-MODIFIED:20260126T194129Z
UID:10025747-1787162400-1787169600@livemusickelowna.ca
SUMMARY:Wine & Song Nights
DESCRIPTION:Enjoy 50% off bottles of wine all night at Maestro’s Mediterranean every Wednesday\, as live music plays from 6:00pm-8:00pm. Check out Okanagan talent and enjoy every sip at Maestro’s Wine & Song!
URL:https://livemusickelowna.ca/event/wine-song-nights/2026-08-19/
LOCATION:Maestro’s Mediterranean Restaurant\, 3762 Lakeshore Rd\, Kelowna\, British Columbia\, Canada
CATEGORIES:Mixed Genres
ATTACH;FMTTYPE=image/jpeg:https://livemusickelowna.ca/wp-content/uploads/2026/01/maestros-2-1024x683-1.jpg
END:VEVENT
END:VCALENDAR