BEGIN:VCALENDAR
VERSION:2.0
PRODID:-//Live Music Kelowna - ECPv6.15.20//NONSGML v1.0//EN
CALSCALE:GREGORIAN
METHOD:PUBLISH
X-WR-CALNAME:Live Music Kelowna
X-ORIGINAL-URL:https://livemusickelowna.ca
X-WR-CALDESC:Events for Live Music Kelowna
REFRESH-INTERVAL;VALUE=DURATION:PT1H
X-Robots-Tag:noindex
X-PUBLISHED-TTL:PT1H
BEGIN:VTIMEZONE
TZID:America/Vancouver
BEGIN:DAYLIGHT
TZOFFSETFROM:-0800
TZOFFSETTO:-0700
TZNAME:PDT
DTSTART:20250309T100000
END:DAYLIGHT
BEGIN:STANDARD
TZOFFSETFROM:-0700
TZOFFSETTO:-0800
TZNAME:PST
DTSTART:20251102T090000
END:STANDARD
BEGIN:DAYLIGHT
TZOFFSETFROM:-0800
TZOFFSETTO:-0700
TZNAME:PDT
DTSTART:20260308T100000
END:DAYLIGHT
BEGIN:STANDARD
TZOFFSETFROM:-0700
TZOFFSETTO:-0800
TZNAME:PST
DTSTART:20261101T090000
END:STANDARD
BEGIN:DAYLIGHT
TZOFFSETFROM:-0800
TZOFFSETTO:-0700
TZNAME:PDT
DTSTART:20270314T100000
END:DAYLIGHT
BEGIN:STANDARD
TZOFFSETFROM:-0700
TZOFFSETTO:-0800
TZNAME:PST
DTSTART:20271107T090000
END:STANDARD
END:VTIMEZONE
BEGIN:VEVENT
DTSTART;TZID=America/Vancouver:20260427T180000
DTEND;TZID=America/Vancouver:20260427T210000
DTSTAMP:20260421T054339
CREATED:20260323T170051Z
LAST-MODIFIED:20260323T170129Z
UID:10026564-1777312800-1777323600@livemusickelowna.ca
SUMMARY:MUSIC MONDAYS
DESCRIPTION:Every Monday night from 6-9pm! \n– open mic\n– bring your own instruments (house drums and base guitar available)\n– industry discount on bevys!\n– free live music
URL:https://livemusickelowna.ca/event/music-mondays/2026-04-27/
LOCATION:Unleashed Brewing Company\, 880 Clement Ave #207\, Kelowna\, BC\, V1Y 0H8\, Canada
CATEGORIES:Mixed Genres,Open Mic
ATTACH;FMTTYPE=image/jpeg:https://livemusickelowna.ca/wp-content/uploads/2026/03/music-monday.jpg
END:VEVENT
BEGIN:VEVENT
DTSTART;TZID=America/Vancouver:20260427T190000
DTEND;TZID=America/Vancouver:20260427T210000
DTSTAMP:20260421T054339
CREATED:20260401T035632Z
LAST-MODIFIED:20260401T035640Z
UID:10026681-1777316400-1777323600@livemusickelowna.ca
SUMMARY:Shaedan Hawse + Claire Kuzmyk @ KBI
DESCRIPTION:
URL:https://livemusickelowna.ca/event/shaedan-hawse-claire-kuzmyk-kbi/
LOCATION:Kelowna Beer Institute\, 1346 Water Street\, Kelowna\, BC\, V1Y 9P3\, Canada
CATEGORIES:Mixed Genres,Piano,Singer/Songwriter
ATTACH;FMTTYPE=image/png:https://livemusickelowna.ca/wp-content/uploads/2026/03/image0.png
END:VEVENT
BEGIN:VEVENT
DTSTART;TZID=America/Vancouver:20260428T183000
DTEND;TZID=America/Vancouver:20260428T203000
DTSTAMP:20260421T054339
CREATED:20260420T154727Z
LAST-MODIFIED:20260420T154751Z
UID:10026828-1777401000-1777408200@livemusickelowna.ca
SUMMARY:Jason Wheel
DESCRIPTION:Jason is a Kelowna based musician whose dynamic performances span multiple genres. His soulful\, sultry voice and masterful guitar skills create and engaging mix that keeps audiences wanting more!
URL:https://livemusickelowna.ca/event/jason-wheel/
LOCATION:Ellipsis 51 Bar & Grill\, 3551 Carrington Road\, West Kelowna\, British Columbia\, Canada
CATEGORIES:Guitar,Mixed Genres,Rock
ATTACH;FMTTYPE=image/avif:https://livemusickelowna.ca/wp-content/uploads/2026/04/589ceb_f5cd415d7174440cb6f09d512e205f1fmv2.avif
END:VEVENT
BEGIN:VEVENT
DTSTART;TZID=America/Vancouver:20260429T180000
DTEND;TZID=America/Vancouver:20260429T200000
DTSTAMP:20260421T054339
CREATED:20260126T194129Z
LAST-MODIFIED:20260126T194129Z
UID:10025731-1777485600-1777492800@livemusickelowna.ca
SUMMARY:Wine & Song Nights
DESCRIPTION:Enjoy 50% off bottles of wine all night at Maestro’s Mediterranean every Wednesday\, as live music plays from 6:00pm-8:00pm. Check out Okanagan talent and enjoy every sip at Maestro’s Wine & Song!
URL:https://livemusickelowna.ca/event/wine-song-nights/2026-04-29/
LOCATION:Maestro’s Mediterranean Restaurant\, 3762 Lakeshore Rd\, Kelowna\, British Columbia\, Canada
CATEGORIES:Mixed Genres
ATTACH;FMTTYPE=image/jpeg:https://livemusickelowna.ca/wp-content/uploads/2026/01/maestros-2-1024x683-1.jpg
END:VEVENT
BEGIN:VEVENT
DTSTART;TZID=America/Vancouver:20260430T190000
DTEND;TZID=America/Vancouver:20260430T213000
DTSTAMP:20260421T054339
CREATED:20260119T195939Z
LAST-MODIFIED:20260119T195939Z
UID:10025635-1777575600-1777584600@livemusickelowna.ca
SUMMARY:Thursday Night Dance
DESCRIPTION:Dance every Thursday to Vic Ukrainetz\, Carol & Andrea (on Sax)\, 7 – 9:30 pm. Join us for Two steps\, foxtrots\, waltzes\, Polkas\, Cha Chas\, Rumbas\, some old time pattern and just plain fun. Parkinson Activity Centre\, 1700 Parkinson Way\, Kelowna. For info call 250-212-6216
URL:https://livemusickelowna.ca/event/thursday-night-dance/2026-04-30/
LOCATION:Parkinson Activity Centre\, 1700 Parkinson Way\, Kelowna\, Canada
CATEGORIES:Mixed Genres
ATTACH;FMTTYPE=image/jpeg:https://livemusickelowna.ca/wp-content/uploads/2026/01/thursday_night_dance_149580_l.jpg
END:VEVENT
BEGIN:VEVENT
DTSTART;TZID=America/Vancouver:20260430T200000
DTEND;TZID=America/Vancouver:20260430T200000
DTSTAMP:20260421T054339
CREATED:20260126T000814Z
LAST-MODIFIED:20260126T000844Z
UID:10025680-1777579200-1777579200@livemusickelowna.ca
SUMMARY:College Thursdays
DESCRIPTION:🎉 College Thursdays are BACK for 2026! 🎉 \nGet ready to make Thursday nights legendary again at the OK Corral Cabaret 🤠🔥 \nWe’re bringing back the party with unbeatable drink specials all night long:\n🍺 $4.50 Good Company lager draft (beer tub)\n🥃 $5.75 Burt Reynolds\n🍻 $6.75 Good Company lager tallboys\n🦌 $8.00 Jägerbombs\n🍹 $9.00 Double Long Island \n🕗 Doors open at 8:00 PM — grab your crew\, hit the dance floor\, and kick off the weekend early! \n#CollegeThursdays #OKCorralCabaret #CountryNights #BootsAndBeers #YeehawVibes\n2w\nThis reel has 7 comments from Facebook.
URL:https://livemusickelowna.ca/event/college-thursdays/2026-04-30/
LOCATION:OK Corral Cabaret\, 1978 Kirschner Rd\, Kelowna\, British Columbia\, V1Y 4N6\, Canada
CATEGORIES:Dance,Mixed Genres
ATTACH;FMTTYPE=image/png:https://livemusickelowna.ca/wp-content/uploads/2026/01/2026-01-26-05_06_20-Downloads-File-Explorer.png
END:VEVENT
BEGIN:VEVENT
DTSTART;TZID=America/Vancouver:20260501T180000
DTEND;TZID=America/Vancouver:20260501T180000
DTSTAMP:20260421T054339
CREATED:20260329T202825Z
LAST-MODIFIED:20260329T202838Z
UID:10026653-1777658400-1777658400@livemusickelowna.ca
SUMMARY:Brad Turner
DESCRIPTION:Don’t miss the 2026 season finale of the Moonlight Jazz Series at The Vibrant Vine Winery! Doors open at 5pm. \nFor the final concert of the season\, Moonlight Jazz is thrilled to present trumpeter\, pianist\, drummer and composer Brad Turner\, May 1st 2025. \nAs one of Canada’s most highly esteemed jazz musicians\, Brad has performed and/or recorded with such artists as Joe Lovano\, Bill Frisell\, Kenny Wheeler\, Terry-Lynn Carrington\, John Scofield\, Lewis Nash\, Reneé Rosnes\, Joe Farnsworth\, Dan Weiss\, Seamus Blake\, Peter Bernstein\, Steve Davis and Ingrid Jensen. \nBrad is a three-time Juno Award winner\, a seven-time nominee\, and is a member of the jazz studies faculty at Capilano University in North Vancouver\, B.C. \nKelowna\, get ready to wrap up another fantastic season. Thank you for your patronage! None of this would be possible without your endless support. \nMoonlight Jazz Society (MJS) is a non-profit in its third year. MJS is focused on facilitating connection between primarily composers and arrangers\, venues\, and audiences to foster synergy in the local and provincial jazz community. \nSponsors and friends of MJS include: \nWentworth Music\, Coast Capri Hotel\, Urban Harvest Organic Delivery\, Alex Hennig\, Rory Fader Piano Services\, Okanagan Piano Moving Services\, Christine Di Pieta\, Simon Nuttgens\, and David Willoughby \nTo show your arts’ patronage and see about next season’s artists\, get on the MJS mailing list by emailing: moonlightjazzsociety@gmail.com
URL:https://livemusickelowna.ca/event/brad-turner/
LOCATION:Vibrant Vine\, 3240 Pooley Rd\, Kelowna\, British Columbia\, V1W 4G7\, Canada
CATEGORIES:Drum,Mixed Genres,Piano
ATTACH;FMTTYPE=image/webp:https://livemusickelowna.ca/wp-content/uploads/2026/03/image-5.webp
END:VEVENT
BEGIN:VEVENT
DTSTART;TZID=America/Vancouver:20260501T180000
DTEND;TZID=America/Vancouver:20260501T203000
DTSTAMP:20260421T054339
CREATED:20251117T175932Z
LAST-MODIFIED:20260330T034359Z
UID:10026660-1777658400-1777667400@livemusickelowna.ca
SUMMARY:Live Music Fridays @ Vinters
DESCRIPTION:Join us at Vintners restaurant for Live Music Fridays\, at the Coast Capri Hotel. Taking place on select Friday evenings from 6pm to 8:30pm\, for hotel guests and the public to enjoy. Come indulge in a delicious meal while listening to Kelowna’s best artists. Call 250.860.6060 to inquire about upcoming performances and reserve your table now.
URL:https://livemusickelowna.ca/event/live-music-fridays-2-2-2/2026-05-01/
LOCATION:Vintner’s Grill\, 1171 Harvey Ave\, Kelowna\, British Columbia\, V1Y 6E8\, Canada
CATEGORIES:Dining,Mixed Genres
ATTACH;FMTTYPE=image/jpeg:https://livemusickelowna.ca/wp-content/uploads/2025/02/livemusic.jpg
END:VEVENT
BEGIN:VEVENT
DTSTART;TZID=America/Vancouver:20260501T190000
DTEND;TZID=America/Vancouver:20260501T210000
DTSTAMP:20260421T054339
CREATED:20260316T163005Z
LAST-MODIFIED:20260316T173701Z
UID:10026406-1777662000-1777669200@livemusickelowna.ca
SUMMARY:Live Music Fridays at Eldorado
DESCRIPTION:Join us weekly at Lakeside Dining for live music! Immerse yourself in an evening of great tunes and vibrant atmosphere.\nWhether you’re enjoying a cocktail with friends or a cozy dinner\, our live music sets the perfect backdrop for a memorable night. Don’t miss out on the fun—come and experience the best of local talent! \nWhere: Lakeside Dining Restaurant – Eldorado Lounge\, Boardwalk\, or Vintage Room\nWe can’t wait to see you there!
URL:https://livemusickelowna.ca/event/live-music-fridays-at-eldorado/2026-05-01/
LOCATION:Eldorado Lounge\, 3762 Lakeshore Rd.\, Kelowna\, British Columbia\, V1W 3G9\, Canada
CATEGORIES:Mixed Genres
ATTACH;FMTTYPE=image/jpeg:https://livemusickelowna.ca/wp-content/uploads/2026/03/live_music_fridays_a_150098_l.jpg
END:VEVENT
BEGIN:VEVENT
DTSTART;TZID=America/Vancouver:20260503T203000
DTEND;TZID=America/Vancouver:20260503T230000
DTSTAMP:20260421T054339
CREATED:20250728T193908Z
LAST-MODIFIED:20251208T140721Z
UID:10025154-1777840200-1777849200@livemusickelowna.ca
SUMMARY:Sunday Funday
DESCRIPTION:Sunday’s are SUNDAY FUNDAY!!  We switch between our House DJ\, DJ Thistle and Conroy Ross playing live Rock & Alt Rock every Sunday starting at 8pm so come get your groove on! Entry is free and so is POOL in the Carlos O’Bryan’s Pub!
URL:https://livemusickelowna.ca/event/sunday-funday/2026-05-03/
LOCATION:Carlos O’Bryans\, 3470 Carrington Rd\, West Kelowna\, British Columbia\, V4T 3V1\, Canada
CATEGORIES:Mixed Genres
ATTACH;FMTTYPE=image/avif:https://livemusickelowna.ca/wp-content/uploads/2025/07/IMG_6127_2D87B453-F484-8B71-E1DDBC0E1DC275EE_2da490b0-a13f-db34-d6045a1966d7f649.avif
END:VEVENT
BEGIN:VEVENT
DTSTART;TZID=America/Vancouver:20260503T220000
DTEND;TZID=America/Vancouver:20260503T220000
DTSTAMP:20260421T054339
CREATED:20260201T200922Z
LAST-MODIFIED:20260201T200922Z
UID:10025904-1777845600-1777845600@livemusickelowna.ca
SUMMARY:Distrikit Saturdays
DESCRIPTION:
URL:https://livemusickelowna.ca/event/distrikit-saturdays/2026-05-03/
LOCATION:Distrikt Night Club\, 275 LEON AVENUE\, KELOWNA\, British Columbia\, V1Y 6J1\, Canada
CATEGORIES:Mixed Genres
ATTACH;FMTTYPE=image/jpeg:https://livemusickelowna.ca/wp-content/uploads/2026/02/WhatsApp-Image-2026-02-02-at-1.00.08-AM.jpeg
END:VEVENT
BEGIN:VEVENT
DTSTART;TZID=America/Vancouver:20260504T180000
DTEND;TZID=America/Vancouver:20260504T210000
DTSTAMP:20260421T054339
CREATED:20260323T170051Z
LAST-MODIFIED:20260323T170129Z
UID:10026565-1777917600-1777928400@livemusickelowna.ca
SUMMARY:MUSIC MONDAYS
DESCRIPTION:Every Monday night from 6-9pm! \n– open mic\n– bring your own instruments (house drums and base guitar available)\n– industry discount on bevys!\n– free live music
URL:https://livemusickelowna.ca/event/music-mondays/2026-05-04/
LOCATION:Unleashed Brewing Company\, 880 Clement Ave #207\, Kelowna\, BC\, V1Y 0H8\, Canada
CATEGORIES:Mixed Genres,Open Mic
ATTACH;FMTTYPE=image/jpeg:https://livemusickelowna.ca/wp-content/uploads/2026/03/music-monday.jpg
END:VEVENT
BEGIN:VEVENT
DTSTART;TZID=America/Vancouver:20260506T180000
DTEND;TZID=America/Vancouver:20260506T200000
DTSTAMP:20260421T054339
CREATED:20260126T194129Z
LAST-MODIFIED:20260126T194129Z
UID:10025732-1778090400-1778097600@livemusickelowna.ca
SUMMARY:Wine & Song Nights
DESCRIPTION:Enjoy 50% off bottles of wine all night at Maestro’s Mediterranean every Wednesday\, as live music plays from 6:00pm-8:00pm. Check out Okanagan talent and enjoy every sip at Maestro’s Wine & Song!
URL:https://livemusickelowna.ca/event/wine-song-nights/2026-05-06/
LOCATION:Maestro’s Mediterranean Restaurant\, 3762 Lakeshore Rd\, Kelowna\, British Columbia\, Canada
CATEGORIES:Mixed Genres
ATTACH;FMTTYPE=image/jpeg:https://livemusickelowna.ca/wp-content/uploads/2026/01/maestros-2-1024x683-1.jpg
END:VEVENT
BEGIN:VEVENT
DTSTART;TZID=America/Vancouver:20260507T190000
DTEND;TZID=America/Vancouver:20260507T213000
DTSTAMP:20260421T054339
CREATED:20260119T195939Z
LAST-MODIFIED:20260119T195939Z
UID:10025636-1778180400-1778189400@livemusickelowna.ca
SUMMARY:Thursday Night Dance
DESCRIPTION:Dance every Thursday to Vic Ukrainetz\, Carol & Andrea (on Sax)\, 7 – 9:30 pm. Join us for Two steps\, foxtrots\, waltzes\, Polkas\, Cha Chas\, Rumbas\, some old time pattern and just plain fun. Parkinson Activity Centre\, 1700 Parkinson Way\, Kelowna. For info call 250-212-6216
URL:https://livemusickelowna.ca/event/thursday-night-dance/2026-05-07/
LOCATION:Parkinson Activity Centre\, 1700 Parkinson Way\, Kelowna\, Canada
CATEGORIES:Mixed Genres
ATTACH;FMTTYPE=image/jpeg:https://livemusickelowna.ca/wp-content/uploads/2026/01/thursday_night_dance_149580_l.jpg
END:VEVENT
BEGIN:VEVENT
DTSTART;TZID=America/Vancouver:20260507T200000
DTEND;TZID=America/Vancouver:20260507T200000
DTSTAMP:20260421T054339
CREATED:20260126T000814Z
LAST-MODIFIED:20260126T000844Z
UID:10025681-1778184000-1778184000@livemusickelowna.ca
SUMMARY:College Thursdays
DESCRIPTION:🎉 College Thursdays are BACK for 2026! 🎉 \nGet ready to make Thursday nights legendary again at the OK Corral Cabaret 🤠🔥 \nWe’re bringing back the party with unbeatable drink specials all night long:\n🍺 $4.50 Good Company lager draft (beer tub)\n🥃 $5.75 Burt Reynolds\n🍻 $6.75 Good Company lager tallboys\n🦌 $8.00 Jägerbombs\n🍹 $9.00 Double Long Island \n🕗 Doors open at 8:00 PM — grab your crew\, hit the dance floor\, and kick off the weekend early! \n#CollegeThursdays #OKCorralCabaret #CountryNights #BootsAndBeers #YeehawVibes\n2w\nThis reel has 7 comments from Facebook.
URL:https://livemusickelowna.ca/event/college-thursdays/2026-05-07/
LOCATION:OK Corral Cabaret\, 1978 Kirschner Rd\, Kelowna\, British Columbia\, V1Y 4N6\, Canada
CATEGORIES:Dance,Mixed Genres
ATTACH;FMTTYPE=image/png:https://livemusickelowna.ca/wp-content/uploads/2026/01/2026-01-26-05_06_20-Downloads-File-Explorer.png
END:VEVENT
BEGIN:VEVENT
DTSTART;TZID=America/Vancouver:20260508T180000
DTEND;TZID=America/Vancouver:20260508T203000
DTSTAMP:20260421T054339
CREATED:20251117T175932Z
LAST-MODIFIED:20260330T034359Z
UID:10026661-1778263200-1778272200@livemusickelowna.ca
SUMMARY:Live Music Fridays @ Vinters
DESCRIPTION:Join us at Vintners restaurant for Live Music Fridays\, at the Coast Capri Hotel. Taking place on select Friday evenings from 6pm to 8:30pm\, for hotel guests and the public to enjoy. Come indulge in a delicious meal while listening to Kelowna’s best artists. Call 250.860.6060 to inquire about upcoming performances and reserve your table now.
URL:https://livemusickelowna.ca/event/live-music-fridays-2-2-2/2026-05-08/
LOCATION:Vintner’s Grill\, 1171 Harvey Ave\, Kelowna\, British Columbia\, V1Y 6E8\, Canada
CATEGORIES:Dining,Mixed Genres
ATTACH;FMTTYPE=image/jpeg:https://livemusickelowna.ca/wp-content/uploads/2025/02/livemusic.jpg
END:VEVENT
BEGIN:VEVENT
DTSTART;TZID=America/Vancouver:20260508T190000
DTEND;TZID=America/Vancouver:20260508T210000
DTSTAMP:20260421T054339
CREATED:20260316T163005Z
LAST-MODIFIED:20260316T173701Z
UID:10026407-1778266800-1778274000@livemusickelowna.ca
SUMMARY:Live Music Fridays at Eldorado
DESCRIPTION:Join us weekly at Lakeside Dining for live music! Immerse yourself in an evening of great tunes and vibrant atmosphere.\nWhether you’re enjoying a cocktail with friends or a cozy dinner\, our live music sets the perfect backdrop for a memorable night. Don’t miss out on the fun—come and experience the best of local talent! \nWhere: Lakeside Dining Restaurant – Eldorado Lounge\, Boardwalk\, or Vintage Room\nWe can’t wait to see you there!
URL:https://livemusickelowna.ca/event/live-music-fridays-at-eldorado/2026-05-08/
LOCATION:Eldorado Lounge\, 3762 Lakeshore Rd.\, Kelowna\, British Columbia\, V1W 3G9\, Canada
CATEGORIES:Mixed Genres
ATTACH;FMTTYPE=image/jpeg:https://livemusickelowna.ca/wp-content/uploads/2026/03/live_music_fridays_a_150098_l.jpg
END:VEVENT
BEGIN:VEVENT
DTSTART;TZID=America/Vancouver:20260510T203000
DTEND;TZID=America/Vancouver:20260510T230000
DTSTAMP:20260421T054339
CREATED:20250728T193908Z
LAST-MODIFIED:20251208T140721Z
UID:10025155-1778445000-1778454000@livemusickelowna.ca
SUMMARY:Sunday Funday
DESCRIPTION:Sunday’s are SUNDAY FUNDAY!!  We switch between our House DJ\, DJ Thistle and Conroy Ross playing live Rock & Alt Rock every Sunday starting at 8pm so come get your groove on! Entry is free and so is POOL in the Carlos O’Bryan’s Pub!
URL:https://livemusickelowna.ca/event/sunday-funday/2026-05-10/
LOCATION:Carlos O’Bryans\, 3470 Carrington Rd\, West Kelowna\, British Columbia\, V4T 3V1\, Canada
CATEGORIES:Mixed Genres
ATTACH;FMTTYPE=image/avif:https://livemusickelowna.ca/wp-content/uploads/2025/07/IMG_6127_2D87B453-F484-8B71-E1DDBC0E1DC275EE_2da490b0-a13f-db34-d6045a1966d7f649.avif
END:VEVENT
BEGIN:VEVENT
DTSTART;TZID=America/Vancouver:20260510T220000
DTEND;TZID=America/Vancouver:20260510T220000
DTSTAMP:20260421T054339
CREATED:20260201T200922Z
LAST-MODIFIED:20260201T200922Z
UID:10025905-1778450400-1778450400@livemusickelowna.ca
SUMMARY:Distrikit Saturdays
DESCRIPTION:
URL:https://livemusickelowna.ca/event/distrikit-saturdays/2026-05-10/
LOCATION:Distrikt Night Club\, 275 LEON AVENUE\, KELOWNA\, British Columbia\, V1Y 6J1\, Canada
CATEGORIES:Mixed Genres
ATTACH;FMTTYPE=image/jpeg:https://livemusickelowna.ca/wp-content/uploads/2026/02/WhatsApp-Image-2026-02-02-at-1.00.08-AM.jpeg
END:VEVENT
BEGIN:VEVENT
DTSTART;TZID=America/Vancouver:20260511T180000
DTEND;TZID=America/Vancouver:20260511T210000
DTSTAMP:20260421T054339
CREATED:20260323T170051Z
LAST-MODIFIED:20260323T170129Z
UID:10026566-1778522400-1778533200@livemusickelowna.ca
SUMMARY:MUSIC MONDAYS
DESCRIPTION:Every Monday night from 6-9pm! \n– open mic\n– bring your own instruments (house drums and base guitar available)\n– industry discount on bevys!\n– free live music
URL:https://livemusickelowna.ca/event/music-mondays/2026-05-11/
LOCATION:Unleashed Brewing Company\, 880 Clement Ave #207\, Kelowna\, BC\, V1Y 0H8\, Canada
CATEGORIES:Mixed Genres,Open Mic
ATTACH;FMTTYPE=image/jpeg:https://livemusickelowna.ca/wp-content/uploads/2026/03/music-monday.jpg
END:VEVENT
BEGIN:VEVENT
DTSTART;TZID=America/Vancouver:20260513T180000
DTEND;TZID=America/Vancouver:20260513T200000
DTSTAMP:20260421T054339
CREATED:20260126T194129Z
LAST-MODIFIED:20260126T194129Z
UID:10025733-1778695200-1778702400@livemusickelowna.ca
SUMMARY:Wine & Song Nights
DESCRIPTION:Enjoy 50% off bottles of wine all night at Maestro’s Mediterranean every Wednesday\, as live music plays from 6:00pm-8:00pm. Check out Okanagan talent and enjoy every sip at Maestro’s Wine & Song!
URL:https://livemusickelowna.ca/event/wine-song-nights/2026-05-13/
LOCATION:Maestro’s Mediterranean Restaurant\, 3762 Lakeshore Rd\, Kelowna\, British Columbia\, Canada
CATEGORIES:Mixed Genres
ATTACH;FMTTYPE=image/jpeg:https://livemusickelowna.ca/wp-content/uploads/2026/01/maestros-2-1024x683-1.jpg
END:VEVENT
BEGIN:VEVENT
DTSTART;TZID=America/Vancouver:20260514T190000
DTEND;TZID=America/Vancouver:20260514T213000
DTSTAMP:20260421T054339
CREATED:20260119T195939Z
LAST-MODIFIED:20260119T195939Z
UID:10025637-1778785200-1778794200@livemusickelowna.ca
SUMMARY:Thursday Night Dance
DESCRIPTION:Dance every Thursday to Vic Ukrainetz\, Carol & Andrea (on Sax)\, 7 – 9:30 pm. Join us for Two steps\, foxtrots\, waltzes\, Polkas\, Cha Chas\, Rumbas\, some old time pattern and just plain fun. Parkinson Activity Centre\, 1700 Parkinson Way\, Kelowna. For info call 250-212-6216
URL:https://livemusickelowna.ca/event/thursday-night-dance/2026-05-14/
LOCATION:Parkinson Activity Centre\, 1700 Parkinson Way\, Kelowna\, Canada
CATEGORIES:Mixed Genres
ATTACH;FMTTYPE=image/jpeg:https://livemusickelowna.ca/wp-content/uploads/2026/01/thursday_night_dance_149580_l.jpg
END:VEVENT
BEGIN:VEVENT
DTSTART;TZID=America/Vancouver:20260514T200000
DTEND;TZID=America/Vancouver:20260514T200000
DTSTAMP:20260421T054339
CREATED:20260126T000814Z
LAST-MODIFIED:20260126T000844Z
UID:10025682-1778788800-1778788800@livemusickelowna.ca
SUMMARY:College Thursdays
DESCRIPTION:🎉 College Thursdays are BACK for 2026! 🎉 \nGet ready to make Thursday nights legendary again at the OK Corral Cabaret 🤠🔥 \nWe’re bringing back the party with unbeatable drink specials all night long:\n🍺 $4.50 Good Company lager draft (beer tub)\n🥃 $5.75 Burt Reynolds\n🍻 $6.75 Good Company lager tallboys\n🦌 $8.00 Jägerbombs\n🍹 $9.00 Double Long Island \n🕗 Doors open at 8:00 PM — grab your crew\, hit the dance floor\, and kick off the weekend early! \n#CollegeThursdays #OKCorralCabaret #CountryNights #BootsAndBeers #YeehawVibes\n2w\nThis reel has 7 comments from Facebook.
URL:https://livemusickelowna.ca/event/college-thursdays/2026-05-14/
LOCATION:OK Corral Cabaret\, 1978 Kirschner Rd\, Kelowna\, British Columbia\, V1Y 4N6\, Canada
CATEGORIES:Dance,Mixed Genres
ATTACH;FMTTYPE=image/png:https://livemusickelowna.ca/wp-content/uploads/2026/01/2026-01-26-05_06_20-Downloads-File-Explorer.png
END:VEVENT
BEGIN:VEVENT
DTSTART;TZID=America/Vancouver:20260515T180000
DTEND;TZID=America/Vancouver:20260515T203000
DTSTAMP:20260421T054339
CREATED:20251117T175932Z
LAST-MODIFIED:20260330T034359Z
UID:10026662-1778868000-1778877000@livemusickelowna.ca
SUMMARY:Live Music Fridays @ Vinters
DESCRIPTION:Join us at Vintners restaurant for Live Music Fridays\, at the Coast Capri Hotel. Taking place on select Friday evenings from 6pm to 8:30pm\, for hotel guests and the public to enjoy. Come indulge in a delicious meal while listening to Kelowna’s best artists. Call 250.860.6060 to inquire about upcoming performances and reserve your table now.
URL:https://livemusickelowna.ca/event/live-music-fridays-2-2-2/2026-05-15/
LOCATION:Vintner’s Grill\, 1171 Harvey Ave\, Kelowna\, British Columbia\, V1Y 6E8\, Canada
CATEGORIES:Dining,Mixed Genres
ATTACH;FMTTYPE=image/jpeg:https://livemusickelowna.ca/wp-content/uploads/2025/02/livemusic.jpg
END:VEVENT
BEGIN:VEVENT
DTSTART;TZID=America/Vancouver:20260515T190000
DTEND;TZID=America/Vancouver:20260515T210000
DTSTAMP:20260421T054339
CREATED:20260316T163005Z
LAST-MODIFIED:20260316T173701Z
UID:10026408-1778871600-1778878800@livemusickelowna.ca
SUMMARY:Live Music Fridays at Eldorado
DESCRIPTION:Join us weekly at Lakeside Dining for live music! Immerse yourself in an evening of great tunes and vibrant atmosphere.\nWhether you’re enjoying a cocktail with friends or a cozy dinner\, our live music sets the perfect backdrop for a memorable night. Don’t miss out on the fun—come and experience the best of local talent! \nWhere: Lakeside Dining Restaurant – Eldorado Lounge\, Boardwalk\, or Vintage Room\nWe can’t wait to see you there!
URL:https://livemusickelowna.ca/event/live-music-fridays-at-eldorado/2026-05-15/
LOCATION:Eldorado Lounge\, 3762 Lakeshore Rd.\, Kelowna\, British Columbia\, V1W 3G9\, Canada
CATEGORIES:Mixed Genres
ATTACH;FMTTYPE=image/jpeg:https://livemusickelowna.ca/wp-content/uploads/2026/03/live_music_fridays_a_150098_l.jpg
END:VEVENT
BEGIN:VEVENT
DTSTART;TZID=America/Vancouver:20260517T203000
DTEND;TZID=America/Vancouver:20260517T230000
DTSTAMP:20260421T054339
CREATED:20250728T193908Z
LAST-MODIFIED:20251208T140721Z
UID:10025156-1779049800-1779058800@livemusickelowna.ca
SUMMARY:Sunday Funday
DESCRIPTION:Sunday’s are SUNDAY FUNDAY!!  We switch between our House DJ\, DJ Thistle and Conroy Ross playing live Rock & Alt Rock every Sunday starting at 8pm so come get your groove on! Entry is free and so is POOL in the Carlos O’Bryan’s Pub!
URL:https://livemusickelowna.ca/event/sunday-funday/2026-05-17/
LOCATION:Carlos O’Bryans\, 3470 Carrington Rd\, West Kelowna\, British Columbia\, V4T 3V1\, Canada
CATEGORIES:Mixed Genres
ATTACH;FMTTYPE=image/avif:https://livemusickelowna.ca/wp-content/uploads/2025/07/IMG_6127_2D87B453-F484-8B71-E1DDBC0E1DC275EE_2da490b0-a13f-db34-d6045a1966d7f649.avif
END:VEVENT
BEGIN:VEVENT
DTSTART;TZID=America/Vancouver:20260517T220000
DTEND;TZID=America/Vancouver:20260517T220000
DTSTAMP:20260421T054339
CREATED:20260201T200922Z
LAST-MODIFIED:20260201T200922Z
UID:10025906-1779055200-1779055200@livemusickelowna.ca
SUMMARY:Distrikit Saturdays
DESCRIPTION:
URL:https://livemusickelowna.ca/event/distrikit-saturdays/2026-05-17/
LOCATION:Distrikt Night Club\, 275 LEON AVENUE\, KELOWNA\, British Columbia\, V1Y 6J1\, Canada
CATEGORIES:Mixed Genres
ATTACH;FMTTYPE=image/jpeg:https://livemusickelowna.ca/wp-content/uploads/2026/02/WhatsApp-Image-2026-02-02-at-1.00.08-AM.jpeg
END:VEVENT
BEGIN:VEVENT
DTSTART;TZID=America/Vancouver:20260518T180000
DTEND;TZID=America/Vancouver:20260518T210000
DTSTAMP:20260421T054339
CREATED:20260323T170051Z
LAST-MODIFIED:20260323T170129Z
UID:10026567-1779127200-1779138000@livemusickelowna.ca
SUMMARY:MUSIC MONDAYS
DESCRIPTION:Every Monday night from 6-9pm! \n– open mic\n– bring your own instruments (house drums and base guitar available)\n– industry discount on bevys!\n– free live music
URL:https://livemusickelowna.ca/event/music-mondays/2026-05-18/
LOCATION:Unleashed Brewing Company\, 880 Clement Ave #207\, Kelowna\, BC\, V1Y 0H8\, Canada
CATEGORIES:Mixed Genres,Open Mic
ATTACH;FMTTYPE=image/jpeg:https://livemusickelowna.ca/wp-content/uploads/2026/03/music-monday.jpg
END:VEVENT
BEGIN:VEVENT
DTSTART;TZID=America/Vancouver:20260520T180000
DTEND;TZID=America/Vancouver:20260520T200000
DTSTAMP:20260421T054339
CREATED:20260126T194129Z
LAST-MODIFIED:20260126T194129Z
UID:10025734-1779300000-1779307200@livemusickelowna.ca
SUMMARY:Wine & Song Nights
DESCRIPTION:Enjoy 50% off bottles of wine all night at Maestro’s Mediterranean every Wednesday\, as live music plays from 6:00pm-8:00pm. Check out Okanagan talent and enjoy every sip at Maestro’s Wine & Song!
URL:https://livemusickelowna.ca/event/wine-song-nights/2026-05-20/
LOCATION:Maestro’s Mediterranean Restaurant\, 3762 Lakeshore Rd\, Kelowna\, British Columbia\, Canada
CATEGORIES:Mixed Genres
ATTACH;FMTTYPE=image/jpeg:https://livemusickelowna.ca/wp-content/uploads/2026/01/maestros-2-1024x683-1.jpg
END:VEVENT
BEGIN:VEVENT
DTSTART;TZID=America/Vancouver:20260521T190000
DTEND;TZID=America/Vancouver:20260521T213000
DTSTAMP:20260421T054339
CREATED:20260119T195939Z
LAST-MODIFIED:20260119T195939Z
UID:10025638-1779390000-1779399000@livemusickelowna.ca
SUMMARY:Thursday Night Dance
DESCRIPTION:Dance every Thursday to Vic Ukrainetz\, Carol & Andrea (on Sax)\, 7 – 9:30 pm. Join us for Two steps\, foxtrots\, waltzes\, Polkas\, Cha Chas\, Rumbas\, some old time pattern and just plain fun. Parkinson Activity Centre\, 1700 Parkinson Way\, Kelowna. For info call 250-212-6216
URL:https://livemusickelowna.ca/event/thursday-night-dance/2026-05-21/
LOCATION:Parkinson Activity Centre\, 1700 Parkinson Way\, Kelowna\, Canada
CATEGORIES:Mixed Genres
ATTACH;FMTTYPE=image/jpeg:https://livemusickelowna.ca/wp-content/uploads/2026/01/thursday_night_dance_149580_l.jpg
END:VEVENT
END:VCALENDAR