BEGIN:VCALENDAR
VERSION:2.0
PRODID:-//Live Music Kelowna - ECPv6.15.20//NONSGML v1.0//EN
CALSCALE:GREGORIAN
METHOD:PUBLISH
X-ORIGINAL-URL:https://livemusickelowna.ca
X-WR-CALDESC:Events for Live Music Kelowna
REFRESH-INTERVAL;VALUE=DURATION:PT1H
X-Robots-Tag:noindex
X-PUBLISHED-TTL:PT1H
BEGIN:VTIMEZONE
TZID:America/Vancouver
BEGIN:DAYLIGHT
TZOFFSETFROM:-0800
TZOFFSETTO:-0700
TZNAME:PDT
DTSTART:20250309T100000
END:DAYLIGHT
BEGIN:STANDARD
TZOFFSETFROM:-0700
TZOFFSETTO:-0800
TZNAME:PST
DTSTART:20251102T090000
END:STANDARD
BEGIN:DAYLIGHT
TZOFFSETFROM:-0800
TZOFFSETTO:-0700
TZNAME:PDT
DTSTART:20260308T100000
END:DAYLIGHT
BEGIN:STANDARD
TZOFFSETFROM:-0700
TZOFFSETTO:-0800
TZNAME:PST
DTSTART:20261101T090000
END:STANDARD
BEGIN:DAYLIGHT
TZOFFSETFROM:-0800
TZOFFSETTO:-0700
TZNAME:PDT
DTSTART:20270314T100000
END:DAYLIGHT
BEGIN:STANDARD
TZOFFSETFROM:-0700
TZOFFSETTO:-0800
TZNAME:PST
DTSTART:20271107T090000
END:STANDARD
BEGIN:DAYLIGHT
TZOFFSETFROM:-0800
TZOFFSETTO:-0700
TZNAME:PDT
DTSTART:20280312T100000
END:DAYLIGHT
BEGIN:STANDARD
TZOFFSETFROM:-0700
TZOFFSETTO:-0800
TZNAME:PST
DTSTART:20281105T090000
END:STANDARD
END:VTIMEZONE
BEGIN:VEVENT
DTSTART;TZID=America/Vancouver:20261021T180000
DTEND;TZID=America/Vancouver:20261021T200000
DTSTAMP:20260421T170253
CREATED:20260126T194129Z
LAST-MODIFIED:20260126T194129Z
UID:10025756-1792605600-1792612800@livemusickelowna.ca
SUMMARY:Wine & Song Nights
DESCRIPTION:Enjoy 50% off bottles of wine all night at Maestro’s Mediterranean every Wednesday\, as live music plays from 6:00pm-8:00pm. Check out Okanagan talent and enjoy every sip at Maestro’s Wine & Song!
URL:https://livemusickelowna.ca/event/wine-song-nights/2026-10-21/
LOCATION:Maestro’s Mediterranean Restaurant\, 3762 Lakeshore Rd\, Kelowna\, British Columbia\, Canada
CATEGORIES:Mixed Genres
ATTACH;FMTTYPE=image/jpeg:https://livemusickelowna.ca/wp-content/uploads/2026/01/maestros-2-1024x683-1.jpg
END:VEVENT
BEGIN:VEVENT
DTSTART;TZID=America/Vancouver:20261023T190000
DTEND;TZID=America/Vancouver:20261023T210000
DTSTAMP:20260421T170253
CREATED:20260316T163005Z
LAST-MODIFIED:20260316T173701Z
UID:10026431-1792782000-1792789200@livemusickelowna.ca
SUMMARY:Live Music Fridays at Eldorado
DESCRIPTION:Join us weekly at Lakeside Dining for live music! Immerse yourself in an evening of great tunes and vibrant atmosphere.\nWhether you’re enjoying a cocktail with friends or a cozy dinner\, our live music sets the perfect backdrop for a memorable night. Don’t miss out on the fun—come and experience the best of local talent! \nWhere: Lakeside Dining Restaurant – Eldorado Lounge\, Boardwalk\, or Vintage Room\nWe can’t wait to see you there!
URL:https://livemusickelowna.ca/event/live-music-fridays-at-eldorado/2026-10-23/
LOCATION:Eldorado Lounge\, 3762 Lakeshore Rd.\, Kelowna\, British Columbia\, V1W 3G9\, Canada
CATEGORIES:Mixed Genres
ATTACH;FMTTYPE=image/jpeg:https://livemusickelowna.ca/wp-content/uploads/2026/03/live_music_fridays_a_150098_l.jpg
END:VEVENT
BEGIN:VEVENT
DTSTART;TZID=America/Vancouver:20261028T180000
DTEND;TZID=America/Vancouver:20261028T200000
DTSTAMP:20260421T170253
CREATED:20260126T194129Z
LAST-MODIFIED:20260126T194129Z
UID:10025757-1793210400-1793217600@livemusickelowna.ca
SUMMARY:Wine & Song Nights
DESCRIPTION:Enjoy 50% off bottles of wine all night at Maestro’s Mediterranean every Wednesday\, as live music plays from 6:00pm-8:00pm. Check out Okanagan talent and enjoy every sip at Maestro’s Wine & Song!
URL:https://livemusickelowna.ca/event/wine-song-nights/2026-10-28/
LOCATION:Maestro’s Mediterranean Restaurant\, 3762 Lakeshore Rd\, Kelowna\, British Columbia\, Canada
CATEGORIES:Mixed Genres
ATTACH;FMTTYPE=image/jpeg:https://livemusickelowna.ca/wp-content/uploads/2026/01/maestros-2-1024x683-1.jpg
END:VEVENT
BEGIN:VEVENT
DTSTART;TZID=America/Vancouver:20261030T190000
DTEND;TZID=America/Vancouver:20261030T210000
DTSTAMP:20260421T170253
CREATED:20260316T163005Z
LAST-MODIFIED:20260316T173701Z
UID:10026432-1793386800-1793394000@livemusickelowna.ca
SUMMARY:Live Music Fridays at Eldorado
DESCRIPTION:Join us weekly at Lakeside Dining for live music! Immerse yourself in an evening of great tunes and vibrant atmosphere.\nWhether you’re enjoying a cocktail with friends or a cozy dinner\, our live music sets the perfect backdrop for a memorable night. Don’t miss out on the fun—come and experience the best of local talent! \nWhere: Lakeside Dining Restaurant – Eldorado Lounge\, Boardwalk\, or Vintage Room\nWe can’t wait to see you there!
URL:https://livemusickelowna.ca/event/live-music-fridays-at-eldorado/2026-10-30/
LOCATION:Eldorado Lounge\, 3762 Lakeshore Rd.\, Kelowna\, British Columbia\, V1W 3G9\, Canada
CATEGORIES:Mixed Genres
ATTACH;FMTTYPE=image/jpeg:https://livemusickelowna.ca/wp-content/uploads/2026/03/live_music_fridays_a_150098_l.jpg
END:VEVENT
BEGIN:VEVENT
DTSTART;TZID=America/Vancouver:20261104T180000
DTEND;TZID=America/Vancouver:20261104T200000
DTSTAMP:20260421T170253
CREATED:20260126T194129Z
LAST-MODIFIED:20260126T194129Z
UID:10025758-1793815200-1793822400@livemusickelowna.ca
SUMMARY:Wine & Song Nights
DESCRIPTION:Enjoy 50% off bottles of wine all night at Maestro’s Mediterranean every Wednesday\, as live music plays from 6:00pm-8:00pm. Check out Okanagan talent and enjoy every sip at Maestro’s Wine & Song!
URL:https://livemusickelowna.ca/event/wine-song-nights/2026-11-04/
LOCATION:Maestro’s Mediterranean Restaurant\, 3762 Lakeshore Rd\, Kelowna\, British Columbia\, Canada
CATEGORIES:Mixed Genres
ATTACH;FMTTYPE=image/jpeg:https://livemusickelowna.ca/wp-content/uploads/2026/01/maestros-2-1024x683-1.jpg
END:VEVENT
BEGIN:VEVENT
DTSTART;TZID=America/Vancouver:20261106T190000
DTEND;TZID=America/Vancouver:20261106T210000
DTSTAMP:20260421T170253
CREATED:20260316T163005Z
LAST-MODIFIED:20260316T173701Z
UID:10026433-1793991600-1793998800@livemusickelowna.ca
SUMMARY:Live Music Fridays at Eldorado
DESCRIPTION:Join us weekly at Lakeside Dining for live music! Immerse yourself in an evening of great tunes and vibrant atmosphere.\nWhether you’re enjoying a cocktail with friends or a cozy dinner\, our live music sets the perfect backdrop for a memorable night. Don’t miss out on the fun—come and experience the best of local talent! \nWhere: Lakeside Dining Restaurant – Eldorado Lounge\, Boardwalk\, or Vintage Room\nWe can’t wait to see you there!
URL:https://livemusickelowna.ca/event/live-music-fridays-at-eldorado/2026-11-06/
LOCATION:Eldorado Lounge\, 3762 Lakeshore Rd.\, Kelowna\, British Columbia\, V1W 3G9\, Canada
CATEGORIES:Mixed Genres
ATTACH;FMTTYPE=image/jpeg:https://livemusickelowna.ca/wp-content/uploads/2026/03/live_music_fridays_a_150098_l.jpg
END:VEVENT
BEGIN:VEVENT
DTSTART;TZID=America/Vancouver:20261111T180000
DTEND;TZID=America/Vancouver:20261111T200000
DTSTAMP:20260421T170253
CREATED:20260126T194129Z
LAST-MODIFIED:20260126T194129Z
UID:10025759-1794420000-1794427200@livemusickelowna.ca
SUMMARY:Wine & Song Nights
DESCRIPTION:Enjoy 50% off bottles of wine all night at Maestro’s Mediterranean every Wednesday\, as live music plays from 6:00pm-8:00pm. Check out Okanagan talent and enjoy every sip at Maestro’s Wine & Song!
URL:https://livemusickelowna.ca/event/wine-song-nights/2026-11-11/
LOCATION:Maestro’s Mediterranean Restaurant\, 3762 Lakeshore Rd\, Kelowna\, British Columbia\, Canada
CATEGORIES:Mixed Genres
ATTACH;FMTTYPE=image/jpeg:https://livemusickelowna.ca/wp-content/uploads/2026/01/maestros-2-1024x683-1.jpg
END:VEVENT
BEGIN:VEVENT
DTSTART;TZID=America/Vancouver:20261113T190000
DTEND;TZID=America/Vancouver:20261113T210000
DTSTAMP:20260421T170253
CREATED:20260316T163005Z
LAST-MODIFIED:20260316T173701Z
UID:10026434-1794596400-1794603600@livemusickelowna.ca
SUMMARY:Live Music Fridays at Eldorado
DESCRIPTION:Join us weekly at Lakeside Dining for live music! Immerse yourself in an evening of great tunes and vibrant atmosphere.\nWhether you’re enjoying a cocktail with friends or a cozy dinner\, our live music sets the perfect backdrop for a memorable night. Don’t miss out on the fun—come and experience the best of local talent! \nWhere: Lakeside Dining Restaurant – Eldorado Lounge\, Boardwalk\, or Vintage Room\nWe can’t wait to see you there!
URL:https://livemusickelowna.ca/event/live-music-fridays-at-eldorado/2026-11-13/
LOCATION:Eldorado Lounge\, 3762 Lakeshore Rd.\, Kelowna\, British Columbia\, V1W 3G9\, Canada
CATEGORIES:Mixed Genres
ATTACH;FMTTYPE=image/jpeg:https://livemusickelowna.ca/wp-content/uploads/2026/03/live_music_fridays_a_150098_l.jpg
END:VEVENT
BEGIN:VEVENT
DTSTART;TZID=America/Vancouver:20261118T180000
DTEND;TZID=America/Vancouver:20261118T200000
DTSTAMP:20260421T170253
CREATED:20260126T194129Z
LAST-MODIFIED:20260126T194129Z
UID:10025760-1795024800-1795032000@livemusickelowna.ca
SUMMARY:Wine & Song Nights
DESCRIPTION:Enjoy 50% off bottles of wine all night at Maestro’s Mediterranean every Wednesday\, as live music plays from 6:00pm-8:00pm. Check out Okanagan talent and enjoy every sip at Maestro’s Wine & Song!
URL:https://livemusickelowna.ca/event/wine-song-nights/2026-11-18/
LOCATION:Maestro’s Mediterranean Restaurant\, 3762 Lakeshore Rd\, Kelowna\, British Columbia\, Canada
CATEGORIES:Mixed Genres
ATTACH;FMTTYPE=image/jpeg:https://livemusickelowna.ca/wp-content/uploads/2026/01/maestros-2-1024x683-1.jpg
END:VEVENT
BEGIN:VEVENT
DTSTART;TZID=America/Vancouver:20261120T190000
DTEND;TZID=America/Vancouver:20261120T210000
DTSTAMP:20260421T170253
CREATED:20260316T163005Z
LAST-MODIFIED:20260316T173701Z
UID:10026435-1795201200-1795208400@livemusickelowna.ca
SUMMARY:Live Music Fridays at Eldorado
DESCRIPTION:Join us weekly at Lakeside Dining for live music! Immerse yourself in an evening of great tunes and vibrant atmosphere.\nWhether you’re enjoying a cocktail with friends or a cozy dinner\, our live music sets the perfect backdrop for a memorable night. Don’t miss out on the fun—come and experience the best of local talent! \nWhere: Lakeside Dining Restaurant – Eldorado Lounge\, Boardwalk\, or Vintage Room\nWe can’t wait to see you there!
URL:https://livemusickelowna.ca/event/live-music-fridays-at-eldorado/2026-11-20/
LOCATION:Eldorado Lounge\, 3762 Lakeshore Rd.\, Kelowna\, British Columbia\, V1W 3G9\, Canada
CATEGORIES:Mixed Genres
ATTACH;FMTTYPE=image/jpeg:https://livemusickelowna.ca/wp-content/uploads/2026/03/live_music_fridays_a_150098_l.jpg
END:VEVENT
BEGIN:VEVENT
DTSTART;TZID=America/Vancouver:20261125T180000
DTEND;TZID=America/Vancouver:20261125T200000
DTSTAMP:20260421T170253
CREATED:20260126T194129Z
LAST-MODIFIED:20260126T194129Z
UID:10025761-1795629600-1795636800@livemusickelowna.ca
SUMMARY:Wine & Song Nights
DESCRIPTION:Enjoy 50% off bottles of wine all night at Maestro’s Mediterranean every Wednesday\, as live music plays from 6:00pm-8:00pm. Check out Okanagan talent and enjoy every sip at Maestro’s Wine & Song!
URL:https://livemusickelowna.ca/event/wine-song-nights/2026-11-25/
LOCATION:Maestro’s Mediterranean Restaurant\, 3762 Lakeshore Rd\, Kelowna\, British Columbia\, Canada
CATEGORIES:Mixed Genres
ATTACH;FMTTYPE=image/jpeg:https://livemusickelowna.ca/wp-content/uploads/2026/01/maestros-2-1024x683-1.jpg
END:VEVENT
BEGIN:VEVENT
DTSTART;TZID=America/Vancouver:20261127T190000
DTEND;TZID=America/Vancouver:20261127T210000
DTSTAMP:20260421T170253
CREATED:20260316T163005Z
LAST-MODIFIED:20260316T173701Z
UID:10026436-1795806000-1795813200@livemusickelowna.ca
SUMMARY:Live Music Fridays at Eldorado
DESCRIPTION:Join us weekly at Lakeside Dining for live music! Immerse yourself in an evening of great tunes and vibrant atmosphere.\nWhether you’re enjoying a cocktail with friends or a cozy dinner\, our live music sets the perfect backdrop for a memorable night. Don’t miss out on the fun—come and experience the best of local talent! \nWhere: Lakeside Dining Restaurant – Eldorado Lounge\, Boardwalk\, or Vintage Room\nWe can’t wait to see you there!
URL:https://livemusickelowna.ca/event/live-music-fridays-at-eldorado/2026-11-27/
LOCATION:Eldorado Lounge\, 3762 Lakeshore Rd.\, Kelowna\, British Columbia\, V1W 3G9\, Canada
CATEGORIES:Mixed Genres
ATTACH;FMTTYPE=image/jpeg:https://livemusickelowna.ca/wp-content/uploads/2026/03/live_music_fridays_a_150098_l.jpg
END:VEVENT
BEGIN:VEVENT
DTSTART;TZID=America/Vancouver:20261202T180000
DTEND;TZID=America/Vancouver:20261202T200000
DTSTAMP:20260421T170253
CREATED:20260126T194129Z
LAST-MODIFIED:20260126T194129Z
UID:10025762-1796234400-1796241600@livemusickelowna.ca
SUMMARY:Wine & Song Nights
DESCRIPTION:Enjoy 50% off bottles of wine all night at Maestro’s Mediterranean every Wednesday\, as live music plays from 6:00pm-8:00pm. Check out Okanagan talent and enjoy every sip at Maestro’s Wine & Song!
URL:https://livemusickelowna.ca/event/wine-song-nights/2026-12-02/
LOCATION:Maestro’s Mediterranean Restaurant\, 3762 Lakeshore Rd\, Kelowna\, British Columbia\, Canada
CATEGORIES:Mixed Genres
ATTACH;FMTTYPE=image/jpeg:https://livemusickelowna.ca/wp-content/uploads/2026/01/maestros-2-1024x683-1.jpg
END:VEVENT
BEGIN:VEVENT
DTSTART;TZID=America/Vancouver:20261204T190000
DTEND;TZID=America/Vancouver:20261204T210000
DTSTAMP:20260421T170253
CREATED:20260316T163005Z
LAST-MODIFIED:20260316T173701Z
UID:10026437-1796410800-1796418000@livemusickelowna.ca
SUMMARY:Live Music Fridays at Eldorado
DESCRIPTION:Join us weekly at Lakeside Dining for live music! Immerse yourself in an evening of great tunes and vibrant atmosphere.\nWhether you’re enjoying a cocktail with friends or a cozy dinner\, our live music sets the perfect backdrop for a memorable night. Don’t miss out on the fun—come and experience the best of local talent! \nWhere: Lakeside Dining Restaurant – Eldorado Lounge\, Boardwalk\, or Vintage Room\nWe can’t wait to see you there!
URL:https://livemusickelowna.ca/event/live-music-fridays-at-eldorado/2026-12-04/
LOCATION:Eldorado Lounge\, 3762 Lakeshore Rd.\, Kelowna\, British Columbia\, V1W 3G9\, Canada
CATEGORIES:Mixed Genres
ATTACH;FMTTYPE=image/jpeg:https://livemusickelowna.ca/wp-content/uploads/2026/03/live_music_fridays_a_150098_l.jpg
END:VEVENT
BEGIN:VEVENT
DTSTART;TZID=America/Vancouver:20261209T180000
DTEND;TZID=America/Vancouver:20261209T200000
DTSTAMP:20260421T170253
CREATED:20260126T194129Z
LAST-MODIFIED:20260126T194129Z
UID:10025763-1796839200-1796846400@livemusickelowna.ca
SUMMARY:Wine & Song Nights
DESCRIPTION:Enjoy 50% off bottles of wine all night at Maestro’s Mediterranean every Wednesday\, as live music plays from 6:00pm-8:00pm. Check out Okanagan talent and enjoy every sip at Maestro’s Wine & Song!
URL:https://livemusickelowna.ca/event/wine-song-nights/2026-12-09/
LOCATION:Maestro’s Mediterranean Restaurant\, 3762 Lakeshore Rd\, Kelowna\, British Columbia\, Canada
CATEGORIES:Mixed Genres
ATTACH;FMTTYPE=image/jpeg:https://livemusickelowna.ca/wp-content/uploads/2026/01/maestros-2-1024x683-1.jpg
END:VEVENT
BEGIN:VEVENT
DTSTART;TZID=America/Vancouver:20261211T190000
DTEND;TZID=America/Vancouver:20261211T210000
DTSTAMP:20260421T170253
CREATED:20260316T163005Z
LAST-MODIFIED:20260316T173701Z
UID:10026438-1797015600-1797022800@livemusickelowna.ca
SUMMARY:Live Music Fridays at Eldorado
DESCRIPTION:Join us weekly at Lakeside Dining for live music! Immerse yourself in an evening of great tunes and vibrant atmosphere.\nWhether you’re enjoying a cocktail with friends or a cozy dinner\, our live music sets the perfect backdrop for a memorable night. Don’t miss out on the fun—come and experience the best of local talent! \nWhere: Lakeside Dining Restaurant – Eldorado Lounge\, Boardwalk\, or Vintage Room\nWe can’t wait to see you there!
URL:https://livemusickelowna.ca/event/live-music-fridays-at-eldorado/2026-12-11/
LOCATION:Eldorado Lounge\, 3762 Lakeshore Rd.\, Kelowna\, British Columbia\, V1W 3G9\, Canada
CATEGORIES:Mixed Genres
ATTACH;FMTTYPE=image/jpeg:https://livemusickelowna.ca/wp-content/uploads/2026/03/live_music_fridays_a_150098_l.jpg
END:VEVENT
BEGIN:VEVENT
DTSTART;TZID=America/Vancouver:20261216T180000
DTEND;TZID=America/Vancouver:20261216T200000
DTSTAMP:20260421T170253
CREATED:20260126T194129Z
LAST-MODIFIED:20260126T194129Z
UID:10025764-1797444000-1797451200@livemusickelowna.ca
SUMMARY:Wine & Song Nights
DESCRIPTION:Enjoy 50% off bottles of wine all night at Maestro’s Mediterranean every Wednesday\, as live music plays from 6:00pm-8:00pm. Check out Okanagan talent and enjoy every sip at Maestro’s Wine & Song!
URL:https://livemusickelowna.ca/event/wine-song-nights/2026-12-16/
LOCATION:Maestro’s Mediterranean Restaurant\, 3762 Lakeshore Rd\, Kelowna\, British Columbia\, Canada
CATEGORIES:Mixed Genres
ATTACH;FMTTYPE=image/jpeg:https://livemusickelowna.ca/wp-content/uploads/2026/01/maestros-2-1024x683-1.jpg
END:VEVENT
BEGIN:VEVENT
DTSTART;TZID=America/Vancouver:20261218T190000
DTEND;TZID=America/Vancouver:20261218T210000
DTSTAMP:20260421T170253
CREATED:20260316T163005Z
LAST-MODIFIED:20260316T173701Z
UID:10026439-1797620400-1797627600@livemusickelowna.ca
SUMMARY:Live Music Fridays at Eldorado
DESCRIPTION:Join us weekly at Lakeside Dining for live music! Immerse yourself in an evening of great tunes and vibrant atmosphere.\nWhether you’re enjoying a cocktail with friends or a cozy dinner\, our live music sets the perfect backdrop for a memorable night. Don’t miss out on the fun—come and experience the best of local talent! \nWhere: Lakeside Dining Restaurant – Eldorado Lounge\, Boardwalk\, or Vintage Room\nWe can’t wait to see you there!
URL:https://livemusickelowna.ca/event/live-music-fridays-at-eldorado/2026-12-18/
LOCATION:Eldorado Lounge\, 3762 Lakeshore Rd.\, Kelowna\, British Columbia\, V1W 3G9\, Canada
CATEGORIES:Mixed Genres
ATTACH;FMTTYPE=image/jpeg:https://livemusickelowna.ca/wp-content/uploads/2026/03/live_music_fridays_a_150098_l.jpg
END:VEVENT
BEGIN:VEVENT
DTSTART;TZID=America/Vancouver:20261223T180000
DTEND;TZID=America/Vancouver:20261223T200000
DTSTAMP:20260421T170253
CREATED:20260126T194129Z
LAST-MODIFIED:20260126T194129Z
UID:10025765-1798048800-1798056000@livemusickelowna.ca
SUMMARY:Wine & Song Nights
DESCRIPTION:Enjoy 50% off bottles of wine all night at Maestro’s Mediterranean every Wednesday\, as live music plays from 6:00pm-8:00pm. Check out Okanagan talent and enjoy every sip at Maestro’s Wine & Song!
URL:https://livemusickelowna.ca/event/wine-song-nights/2026-12-23/
LOCATION:Maestro’s Mediterranean Restaurant\, 3762 Lakeshore Rd\, Kelowna\, British Columbia\, Canada
CATEGORIES:Mixed Genres
ATTACH;FMTTYPE=image/jpeg:https://livemusickelowna.ca/wp-content/uploads/2026/01/maestros-2-1024x683-1.jpg
END:VEVENT
BEGIN:VEVENT
DTSTART;TZID=America/Vancouver:20261225T190000
DTEND;TZID=America/Vancouver:20261225T210000
DTSTAMP:20260421T170253
CREATED:20260316T163005Z
LAST-MODIFIED:20260316T173701Z
UID:10026440-1798225200-1798232400@livemusickelowna.ca
SUMMARY:Live Music Fridays at Eldorado
DESCRIPTION:Join us weekly at Lakeside Dining for live music! Immerse yourself in an evening of great tunes and vibrant atmosphere.\nWhether you’re enjoying a cocktail with friends or a cozy dinner\, our live music sets the perfect backdrop for a memorable night. Don’t miss out on the fun—come and experience the best of local talent! \nWhere: Lakeside Dining Restaurant – Eldorado Lounge\, Boardwalk\, or Vintage Room\nWe can’t wait to see you there!
URL:https://livemusickelowna.ca/event/live-music-fridays-at-eldorado/2026-12-25/
LOCATION:Eldorado Lounge\, 3762 Lakeshore Rd.\, Kelowna\, British Columbia\, V1W 3G9\, Canada
CATEGORIES:Mixed Genres
ATTACH;FMTTYPE=image/jpeg:https://livemusickelowna.ca/wp-content/uploads/2026/03/live_music_fridays_a_150098_l.jpg
END:VEVENT
BEGIN:VEVENT
DTSTART;TZID=America/Vancouver:20261230T180000
DTEND;TZID=America/Vancouver:20261230T200000
DTSTAMP:20260421T170253
CREATED:20260126T194129Z
LAST-MODIFIED:20260126T194129Z
UID:10025766-1798653600-1798660800@livemusickelowna.ca
SUMMARY:Wine & Song Nights
DESCRIPTION:Enjoy 50% off bottles of wine all night at Maestro’s Mediterranean every Wednesday\, as live music plays from 6:00pm-8:00pm. Check out Okanagan talent and enjoy every sip at Maestro’s Wine & Song!
URL:https://livemusickelowna.ca/event/wine-song-nights/2026-12-30/
LOCATION:Maestro’s Mediterranean Restaurant\, 3762 Lakeshore Rd\, Kelowna\, British Columbia\, Canada
CATEGORIES:Mixed Genres
ATTACH;FMTTYPE=image/jpeg:https://livemusickelowna.ca/wp-content/uploads/2026/01/maestros-2-1024x683-1.jpg
END:VEVENT
BEGIN:VEVENT
DTSTART;TZID=America/Vancouver:20270101T190000
DTEND;TZID=America/Vancouver:20270101T210000
DTSTAMP:20260421T170253
CREATED:20260316T163005Z
LAST-MODIFIED:20260316T173701Z
UID:10026441-1798830000-1798837200@livemusickelowna.ca
SUMMARY:Live Music Fridays at Eldorado
DESCRIPTION:Join us weekly at Lakeside Dining for live music! Immerse yourself in an evening of great tunes and vibrant atmosphere.\nWhether you’re enjoying a cocktail with friends or a cozy dinner\, our live music sets the perfect backdrop for a memorable night. Don’t miss out on the fun—come and experience the best of local talent! \nWhere: Lakeside Dining Restaurant – Eldorado Lounge\, Boardwalk\, or Vintage Room\nWe can’t wait to see you there!
URL:https://livemusickelowna.ca/event/live-music-fridays-at-eldorado/2027-01-01/
LOCATION:Eldorado Lounge\, 3762 Lakeshore Rd.\, Kelowna\, British Columbia\, V1W 3G9\, Canada
CATEGORIES:Mixed Genres
ATTACH;FMTTYPE=image/jpeg:https://livemusickelowna.ca/wp-content/uploads/2026/03/live_music_fridays_a_150098_l.jpg
END:VEVENT
BEGIN:VEVENT
DTSTART;TZID=America/Vancouver:20270106T180000
DTEND;TZID=America/Vancouver:20270106T200000
DTSTAMP:20260421T170253
CREATED:20260126T194129Z
LAST-MODIFIED:20260126T194129Z
UID:10025767-1799258400-1799265600@livemusickelowna.ca
SUMMARY:Wine & Song Nights
DESCRIPTION:Enjoy 50% off bottles of wine all night at Maestro’s Mediterranean every Wednesday\, as live music plays from 6:00pm-8:00pm. Check out Okanagan talent and enjoy every sip at Maestro’s Wine & Song!
URL:https://livemusickelowna.ca/event/wine-song-nights/2027-01-06/
LOCATION:Maestro’s Mediterranean Restaurant\, 3762 Lakeshore Rd\, Kelowna\, British Columbia\, Canada
CATEGORIES:Mixed Genres
ATTACH;FMTTYPE=image/jpeg:https://livemusickelowna.ca/wp-content/uploads/2026/01/maestros-2-1024x683-1.jpg
END:VEVENT
BEGIN:VEVENT
DTSTART;TZID=America/Vancouver:20270108T190000
DTEND;TZID=America/Vancouver:20270108T210000
DTSTAMP:20260421T170253
CREATED:20260316T163005Z
LAST-MODIFIED:20260316T173701Z
UID:10026442-1799434800-1799442000@livemusickelowna.ca
SUMMARY:Live Music Fridays at Eldorado
DESCRIPTION:Join us weekly at Lakeside Dining for live music! Immerse yourself in an evening of great tunes and vibrant atmosphere.\nWhether you’re enjoying a cocktail with friends or a cozy dinner\, our live music sets the perfect backdrop for a memorable night. Don’t miss out on the fun—come and experience the best of local talent! \nWhere: Lakeside Dining Restaurant – Eldorado Lounge\, Boardwalk\, or Vintage Room\nWe can’t wait to see you there!
URL:https://livemusickelowna.ca/event/live-music-fridays-at-eldorado/2027-01-08/
LOCATION:Eldorado Lounge\, 3762 Lakeshore Rd.\, Kelowna\, British Columbia\, V1W 3G9\, Canada
CATEGORIES:Mixed Genres
ATTACH;FMTTYPE=image/jpeg:https://livemusickelowna.ca/wp-content/uploads/2026/03/live_music_fridays_a_150098_l.jpg
END:VEVENT
BEGIN:VEVENT
DTSTART;TZID=America/Vancouver:20270113T180000
DTEND;TZID=America/Vancouver:20270113T200000
DTSTAMP:20260421T170253
CREATED:20260126T194129Z
LAST-MODIFIED:20260126T194129Z
UID:10025768-1799863200-1799870400@livemusickelowna.ca
SUMMARY:Wine & Song Nights
DESCRIPTION:Enjoy 50% off bottles of wine all night at Maestro’s Mediterranean every Wednesday\, as live music plays from 6:00pm-8:00pm. Check out Okanagan talent and enjoy every sip at Maestro’s Wine & Song!
URL:https://livemusickelowna.ca/event/wine-song-nights/2027-01-13/
LOCATION:Maestro’s Mediterranean Restaurant\, 3762 Lakeshore Rd\, Kelowna\, British Columbia\, Canada
CATEGORIES:Mixed Genres
ATTACH;FMTTYPE=image/jpeg:https://livemusickelowna.ca/wp-content/uploads/2026/01/maestros-2-1024x683-1.jpg
END:VEVENT
BEGIN:VEVENT
DTSTART;TZID=America/Vancouver:20270115T190000
DTEND;TZID=America/Vancouver:20270115T210000
DTSTAMP:20260421T170253
CREATED:20260316T163005Z
LAST-MODIFIED:20260316T173701Z
UID:10026443-1800039600-1800046800@livemusickelowna.ca
SUMMARY:Live Music Fridays at Eldorado
DESCRIPTION:Join us weekly at Lakeside Dining for live music! Immerse yourself in an evening of great tunes and vibrant atmosphere.\nWhether you’re enjoying a cocktail with friends or a cozy dinner\, our live music sets the perfect backdrop for a memorable night. Don’t miss out on the fun—come and experience the best of local talent! \nWhere: Lakeside Dining Restaurant – Eldorado Lounge\, Boardwalk\, or Vintage Room\nWe can’t wait to see you there!
URL:https://livemusickelowna.ca/event/live-music-fridays-at-eldorado/2027-01-15/
LOCATION:Eldorado Lounge\, 3762 Lakeshore Rd.\, Kelowna\, British Columbia\, V1W 3G9\, Canada
CATEGORIES:Mixed Genres
ATTACH;FMTTYPE=image/jpeg:https://livemusickelowna.ca/wp-content/uploads/2026/03/live_music_fridays_a_150098_l.jpg
END:VEVENT
BEGIN:VEVENT
DTSTART;TZID=America/Vancouver:20270120T180000
DTEND;TZID=America/Vancouver:20270120T200000
DTSTAMP:20260421T170253
CREATED:20260126T194129Z
LAST-MODIFIED:20260126T194129Z
UID:10025769-1800468000-1800475200@livemusickelowna.ca
SUMMARY:Wine & Song Nights
DESCRIPTION:Enjoy 50% off bottles of wine all night at Maestro’s Mediterranean every Wednesday\, as live music plays from 6:00pm-8:00pm. Check out Okanagan talent and enjoy every sip at Maestro’s Wine & Song!
URL:https://livemusickelowna.ca/event/wine-song-nights/2027-01-20/
LOCATION:Maestro’s Mediterranean Restaurant\, 3762 Lakeshore Rd\, Kelowna\, British Columbia\, Canada
CATEGORIES:Mixed Genres
ATTACH;FMTTYPE=image/jpeg:https://livemusickelowna.ca/wp-content/uploads/2026/01/maestros-2-1024x683-1.jpg
END:VEVENT
BEGIN:VEVENT
DTSTART;TZID=America/Vancouver:20270122T190000
DTEND;TZID=America/Vancouver:20270122T210000
DTSTAMP:20260421T170253
CREATED:20260316T163005Z
LAST-MODIFIED:20260316T173701Z
UID:10026444-1800644400-1800651600@livemusickelowna.ca
SUMMARY:Live Music Fridays at Eldorado
DESCRIPTION:Join us weekly at Lakeside Dining for live music! Immerse yourself in an evening of great tunes and vibrant atmosphere.\nWhether you’re enjoying a cocktail with friends or a cozy dinner\, our live music sets the perfect backdrop for a memorable night. Don’t miss out on the fun—come and experience the best of local talent! \nWhere: Lakeside Dining Restaurant – Eldorado Lounge\, Boardwalk\, or Vintage Room\nWe can’t wait to see you there!
URL:https://livemusickelowna.ca/event/live-music-fridays-at-eldorado/2027-01-22/
LOCATION:Eldorado Lounge\, 3762 Lakeshore Rd.\, Kelowna\, British Columbia\, V1W 3G9\, Canada
CATEGORIES:Mixed Genres
ATTACH;FMTTYPE=image/jpeg:https://livemusickelowna.ca/wp-content/uploads/2026/03/live_music_fridays_a_150098_l.jpg
END:VEVENT
BEGIN:VEVENT
DTSTART;TZID=America/Vancouver:20270129T190000
DTEND;TZID=America/Vancouver:20270129T210000
DTSTAMP:20260421T170253
CREATED:20260316T163005Z
LAST-MODIFIED:20260316T173701Z
UID:10026445-1801249200-1801256400@livemusickelowna.ca
SUMMARY:Live Music Fridays at Eldorado
DESCRIPTION:Join us weekly at Lakeside Dining for live music! Immerse yourself in an evening of great tunes and vibrant atmosphere.\nWhether you’re enjoying a cocktail with friends or a cozy dinner\, our live music sets the perfect backdrop for a memorable night. Don’t miss out on the fun—come and experience the best of local talent! \nWhere: Lakeside Dining Restaurant – Eldorado Lounge\, Boardwalk\, or Vintage Room\nWe can’t wait to see you there!
URL:https://livemusickelowna.ca/event/live-music-fridays-at-eldorado/2027-01-29/
LOCATION:Eldorado Lounge\, 3762 Lakeshore Rd.\, Kelowna\, British Columbia\, V1W 3G9\, Canada
CATEGORIES:Mixed Genres
ATTACH;FMTTYPE=image/jpeg:https://livemusickelowna.ca/wp-content/uploads/2026/03/live_music_fridays_a_150098_l.jpg
END:VEVENT
BEGIN:VEVENT
DTSTART;TZID=America/Vancouver:20270205T190000
DTEND;TZID=America/Vancouver:20270205T210000
DTSTAMP:20260421T170253
CREATED:20260316T163005Z
LAST-MODIFIED:20260316T173701Z
UID:10026446-1801854000-1801861200@livemusickelowna.ca
SUMMARY:Live Music Fridays at Eldorado
DESCRIPTION:Join us weekly at Lakeside Dining for live music! Immerse yourself in an evening of great tunes and vibrant atmosphere.\nWhether you’re enjoying a cocktail with friends or a cozy dinner\, our live music sets the perfect backdrop for a memorable night. Don’t miss out on the fun—come and experience the best of local talent! \nWhere: Lakeside Dining Restaurant – Eldorado Lounge\, Boardwalk\, or Vintage Room\nWe can’t wait to see you there!
URL:https://livemusickelowna.ca/event/live-music-fridays-at-eldorado/2027-02-05/
LOCATION:Eldorado Lounge\, 3762 Lakeshore Rd.\, Kelowna\, British Columbia\, V1W 3G9\, Canada
CATEGORIES:Mixed Genres
ATTACH;FMTTYPE=image/jpeg:https://livemusickelowna.ca/wp-content/uploads/2026/03/live_music_fridays_a_150098_l.jpg
END:VEVENT
END:VCALENDAR