BEGIN:VCALENDAR
VERSION:2.0
PRODID:-//Live Music Kelowna - ECPv6.15.20//NONSGML v1.0//EN
CALSCALE:GREGORIAN
METHOD:PUBLISH
X-WR-CALNAME:Live Music Kelowna
X-ORIGINAL-URL:https://livemusickelowna.ca
X-WR-CALDESC:Events for Live Music Kelowna
REFRESH-INTERVAL;VALUE=DURATION:PT1H
X-Robots-Tag:noindex
X-PUBLISHED-TTL:PT1H
BEGIN:VTIMEZONE
TZID:America/Vancouver
BEGIN:DAYLIGHT
TZOFFSETFROM:-0800
TZOFFSETTO:-0700
TZNAME:PDT
DTSTART:20250309T100000
END:DAYLIGHT
BEGIN:STANDARD
TZOFFSETFROM:-0700
TZOFFSETTO:-0800
TZNAME:PST
DTSTART:20251102T090000
END:STANDARD
BEGIN:DAYLIGHT
TZOFFSETFROM:-0800
TZOFFSETTO:-0700
TZNAME:PDT
DTSTART:20260308T100000
END:DAYLIGHT
BEGIN:STANDARD
TZOFFSETFROM:-0700
TZOFFSETTO:-0800
TZNAME:PST
DTSTART:20261101T090000
END:STANDARD
BEGIN:DAYLIGHT
TZOFFSETFROM:-0800
TZOFFSETTO:-0700
TZNAME:PDT
DTSTART:20270314T100000
END:DAYLIGHT
BEGIN:STANDARD
TZOFFSETFROM:-0700
TZOFFSETTO:-0800
TZNAME:PST
DTSTART:20271107T090000
END:STANDARD
END:VTIMEZONE
BEGIN:VEVENT
DTSTART;TZID=America/Vancouver:20260510T203000
DTEND;TZID=America/Vancouver:20260510T230000
DTSTAMP:20260421T072607
CREATED:20250728T193908Z
LAST-MODIFIED:20251208T140721Z
UID:10025155-1778445000-1778454000@livemusickelowna.ca
SUMMARY:Sunday Funday
DESCRIPTION:Sunday’s are SUNDAY FUNDAY!!  We switch between our House DJ\, DJ Thistle and Conroy Ross playing live Rock & Alt Rock every Sunday starting at 8pm so come get your groove on! Entry is free and so is POOL in the Carlos O’Bryan’s Pub!
URL:https://livemusickelowna.ca/event/sunday-funday/2026-05-10/
LOCATION:Carlos O’Bryans\, 3470 Carrington Rd\, West Kelowna\, British Columbia\, V4T 3V1\, Canada
CATEGORIES:Mixed Genres
ATTACH;FMTTYPE=image/avif:https://livemusickelowna.ca/wp-content/uploads/2025/07/IMG_6127_2D87B453-F484-8B71-E1DDBC0E1DC275EE_2da490b0-a13f-db34-d6045a1966d7f649.avif
END:VEVENT
BEGIN:VEVENT
DTSTART;TZID=America/Vancouver:20260510T220000
DTEND;TZID=America/Vancouver:20260510T220000
DTSTAMP:20260421T072607
CREATED:20260201T200922Z
LAST-MODIFIED:20260201T200922Z
UID:10025905-1778450400-1778450400@livemusickelowna.ca
SUMMARY:Distrikit Saturdays
DESCRIPTION:
URL:https://livemusickelowna.ca/event/distrikit-saturdays/2026-05-10/
LOCATION:Distrikt Night Club\, 275 LEON AVENUE\, KELOWNA\, British Columbia\, V1Y 6J1\, Canada
CATEGORIES:Mixed Genres
ATTACH;FMTTYPE=image/jpeg:https://livemusickelowna.ca/wp-content/uploads/2026/02/WhatsApp-Image-2026-02-02-at-1.00.08-AM.jpeg
END:VEVENT
END:VCALENDAR