BEGIN:VCALENDAR
VERSION:2.0
PRODID:-//Live Music Kelowna - ECPv6.15.20//NONSGML v1.0//EN
CALSCALE:GREGORIAN
METHOD:PUBLISH
X-ORIGINAL-URL:https://livemusickelowna.ca
X-WR-CALDESC:Events for Live Music Kelowna
REFRESH-INTERVAL;VALUE=DURATION:PT1H
X-Robots-Tag:noindex
X-PUBLISHED-TTL:PT1H
BEGIN:VTIMEZONE
TZID:America/Vancouver
BEGIN:DAYLIGHT
TZOFFSETFROM:-0800
TZOFFSETTO:-0700
TZNAME:PDT
DTSTART:20260308T100000
END:DAYLIGHT
BEGIN:STANDARD
TZOFFSETFROM:-0700
TZOFFSETTO:-0800
TZNAME:PST
DTSTART:20261101T090000
END:STANDARD
BEGIN:DAYLIGHT
TZOFFSETFROM:-0800
TZOFFSETTO:-0700
TZNAME:PDT
DTSTART:20270314T100000
END:DAYLIGHT
BEGIN:STANDARD
TZOFFSETFROM:-0700
TZOFFSETTO:-0800
TZNAME:PST
DTSTART:20271107T090000
END:STANDARD
BEGIN:DAYLIGHT
TZOFFSETFROM:-0800
TZOFFSETTO:-0700
TZNAME:PDT
DTSTART:20280312T100000
END:DAYLIGHT
BEGIN:STANDARD
TZOFFSETFROM:-0700
TZOFFSETTO:-0800
TZNAME:PST
DTSTART:20281105T090000
END:STANDARD
END:VTIMEZONE
BEGIN:VEVENT
DTSTART;TZID=America/Vancouver:20270302T183000
DTEND;TZID=America/Vancouver:20270302T210000
DTSTAMP:20260420T173552
CREATED:20260309T181457Z
LAST-MODIFIED:20260309T181457Z
UID:10026283-1804012200-1804021200@livemusickelowna.ca
SUMMARY:Tuesday Jam Sessions
DESCRIPTION:oin the Fun and the Kelowna Fiddlers for an evening of traditional music. Musicians needed\, Guitar\, Bass\, Violin\, Accordian – First time is $7 and after that only $2 drop in fee. 7 Pm – 9 PM at 1353 Richter Street\, January to June\, Tuesdays. Must be 19 and over. Come at 6:30 and learn a tune.
URL:https://livemusickelowna.ca/event/tuesday-jam-sessions/2027-03-02/
LOCATION:Seniors Outreach – Recreation Centre\, 1353 Richter St.\, Kelowna\, British Columbia\, V1Y 2L5\, Canada
CATEGORIES:Fiddle,Folk
ATTACH;FMTTYPE=image/jpeg:https://livemusickelowna.ca/wp-content/uploads/2026/03/tuesday_jam_sessions_150722_l.jpg
END:VEVENT
BEGIN:VEVENT
DTSTART;TZID=America/Vancouver:20270309T183000
DTEND;TZID=America/Vancouver:20270309T210000
DTSTAMP:20260420T173552
CREATED:20260309T181457Z
LAST-MODIFIED:20260309T181457Z
UID:10026284-1804617000-1804626000@livemusickelowna.ca
SUMMARY:Tuesday Jam Sessions
DESCRIPTION:oin the Fun and the Kelowna Fiddlers for an evening of traditional music. Musicians needed\, Guitar\, Bass\, Violin\, Accordian – First time is $7 and after that only $2 drop in fee. 7 Pm – 9 PM at 1353 Richter Street\, January to June\, Tuesdays. Must be 19 and over. Come at 6:30 and learn a tune.
URL:https://livemusickelowna.ca/event/tuesday-jam-sessions/2027-03-09/
LOCATION:Seniors Outreach – Recreation Centre\, 1353 Richter St.\, Kelowna\, British Columbia\, V1Y 2L5\, Canada
CATEGORIES:Fiddle,Folk
ATTACH;FMTTYPE=image/jpeg:https://livemusickelowna.ca/wp-content/uploads/2026/03/tuesday_jam_sessions_150722_l.jpg
END:VEVENT
BEGIN:VEVENT
DTSTART;TZID=America/Vancouver:20270316T183000
DTEND;TZID=America/Vancouver:20270316T210000
DTSTAMP:20260420T173552
CREATED:20260309T181457Z
LAST-MODIFIED:20260309T181457Z
UID:10026285-1805221800-1805230800@livemusickelowna.ca
SUMMARY:Tuesday Jam Sessions
DESCRIPTION:oin the Fun and the Kelowna Fiddlers for an evening of traditional music. Musicians needed\, Guitar\, Bass\, Violin\, Accordian – First time is $7 and after that only $2 drop in fee. 7 Pm – 9 PM at 1353 Richter Street\, January to June\, Tuesdays. Must be 19 and over. Come at 6:30 and learn a tune.
URL:https://livemusickelowna.ca/event/tuesday-jam-sessions/2027-03-16/
LOCATION:Seniors Outreach – Recreation Centre\, 1353 Richter St.\, Kelowna\, British Columbia\, V1Y 2L5\, Canada
CATEGORIES:Fiddle,Folk
ATTACH;FMTTYPE=image/jpeg:https://livemusickelowna.ca/wp-content/uploads/2026/03/tuesday_jam_sessions_150722_l.jpg
END:VEVENT
BEGIN:VEVENT
DTSTART;TZID=America/Vancouver:20270323T183000
DTEND;TZID=America/Vancouver:20270323T210000
DTSTAMP:20260420T173552
CREATED:20260309T181457Z
LAST-MODIFIED:20260309T181457Z
UID:10026286-1805826600-1805835600@livemusickelowna.ca
SUMMARY:Tuesday Jam Sessions
DESCRIPTION:oin the Fun and the Kelowna Fiddlers for an evening of traditional music. Musicians needed\, Guitar\, Bass\, Violin\, Accordian – First time is $7 and after that only $2 drop in fee. 7 Pm – 9 PM at 1353 Richter Street\, January to June\, Tuesdays. Must be 19 and over. Come at 6:30 and learn a tune.
URL:https://livemusickelowna.ca/event/tuesday-jam-sessions/2027-03-23/
LOCATION:Seniors Outreach – Recreation Centre\, 1353 Richter St.\, Kelowna\, British Columbia\, V1Y 2L5\, Canada
CATEGORIES:Fiddle,Folk
ATTACH;FMTTYPE=image/jpeg:https://livemusickelowna.ca/wp-content/uploads/2026/03/tuesday_jam_sessions_150722_l.jpg
END:VEVENT
BEGIN:VEVENT
DTSTART;TZID=America/Vancouver:20270330T183000
DTEND;TZID=America/Vancouver:20270330T210000
DTSTAMP:20260420T173552
CREATED:20260309T181457Z
LAST-MODIFIED:20260309T181457Z
UID:10026287-1806431400-1806440400@livemusickelowna.ca
SUMMARY:Tuesday Jam Sessions
DESCRIPTION:oin the Fun and the Kelowna Fiddlers for an evening of traditional music. Musicians needed\, Guitar\, Bass\, Violin\, Accordian – First time is $7 and after that only $2 drop in fee. 7 Pm – 9 PM at 1353 Richter Street\, January to June\, Tuesdays. Must be 19 and over. Come at 6:30 and learn a tune.
URL:https://livemusickelowna.ca/event/tuesday-jam-sessions/2027-03-30/
LOCATION:Seniors Outreach – Recreation Centre\, 1353 Richter St.\, Kelowna\, British Columbia\, V1Y 2L5\, Canada
CATEGORIES:Fiddle,Folk
ATTACH;FMTTYPE=image/jpeg:https://livemusickelowna.ca/wp-content/uploads/2026/03/tuesday_jam_sessions_150722_l.jpg
END:VEVENT
BEGIN:VEVENT
DTSTART;TZID=America/Vancouver:20270406T183000
DTEND;TZID=America/Vancouver:20270406T210000
DTSTAMP:20260420T173552
CREATED:20260309T181457Z
LAST-MODIFIED:20260309T181457Z
UID:10026288-1807036200-1807045200@livemusickelowna.ca
SUMMARY:Tuesday Jam Sessions
DESCRIPTION:oin the Fun and the Kelowna Fiddlers for an evening of traditional music. Musicians needed\, Guitar\, Bass\, Violin\, Accordian – First time is $7 and after that only $2 drop in fee. 7 Pm – 9 PM at 1353 Richter Street\, January to June\, Tuesdays. Must be 19 and over. Come at 6:30 and learn a tune.
URL:https://livemusickelowna.ca/event/tuesday-jam-sessions/2027-04-06/
LOCATION:Seniors Outreach – Recreation Centre\, 1353 Richter St.\, Kelowna\, British Columbia\, V1Y 2L5\, Canada
CATEGORIES:Fiddle,Folk
ATTACH;FMTTYPE=image/jpeg:https://livemusickelowna.ca/wp-content/uploads/2026/03/tuesday_jam_sessions_150722_l.jpg
END:VEVENT
BEGIN:VEVENT
DTSTART;TZID=America/Vancouver:20270413T183000
DTEND;TZID=America/Vancouver:20270413T210000
DTSTAMP:20260420T173552
CREATED:20260309T181457Z
LAST-MODIFIED:20260309T181457Z
UID:10026289-1807641000-1807650000@livemusickelowna.ca
SUMMARY:Tuesday Jam Sessions
DESCRIPTION:oin the Fun and the Kelowna Fiddlers for an evening of traditional music. Musicians needed\, Guitar\, Bass\, Violin\, Accordian – First time is $7 and after that only $2 drop in fee. 7 Pm – 9 PM at 1353 Richter Street\, January to June\, Tuesdays. Must be 19 and over. Come at 6:30 and learn a tune.
URL:https://livemusickelowna.ca/event/tuesday-jam-sessions/2027-04-13/
LOCATION:Seniors Outreach – Recreation Centre\, 1353 Richter St.\, Kelowna\, British Columbia\, V1Y 2L5\, Canada
CATEGORIES:Fiddle,Folk
ATTACH;FMTTYPE=image/jpeg:https://livemusickelowna.ca/wp-content/uploads/2026/03/tuesday_jam_sessions_150722_l.jpg
END:VEVENT
BEGIN:VEVENT
DTSTART;TZID=America/Vancouver:20270420T183000
DTEND;TZID=America/Vancouver:20270420T210000
DTSTAMP:20260420T173552
CREATED:20260309T181457Z
LAST-MODIFIED:20260309T181457Z
UID:10026290-1808245800-1808254800@livemusickelowna.ca
SUMMARY:Tuesday Jam Sessions
DESCRIPTION:oin the Fun and the Kelowna Fiddlers for an evening of traditional music. Musicians needed\, Guitar\, Bass\, Violin\, Accordian – First time is $7 and after that only $2 drop in fee. 7 Pm – 9 PM at 1353 Richter Street\, January to June\, Tuesdays. Must be 19 and over. Come at 6:30 and learn a tune.
URL:https://livemusickelowna.ca/event/tuesday-jam-sessions/2027-04-20/
LOCATION:Seniors Outreach – Recreation Centre\, 1353 Richter St.\, Kelowna\, British Columbia\, V1Y 2L5\, Canada
CATEGORIES:Fiddle,Folk
ATTACH;FMTTYPE=image/jpeg:https://livemusickelowna.ca/wp-content/uploads/2026/03/tuesday_jam_sessions_150722_l.jpg
END:VEVENT
BEGIN:VEVENT
DTSTART;TZID=America/Vancouver:20270427T183000
DTEND;TZID=America/Vancouver:20270427T210000
DTSTAMP:20260420T173552
CREATED:20260309T181457Z
LAST-MODIFIED:20260309T181457Z
UID:10026291-1808850600-1808859600@livemusickelowna.ca
SUMMARY:Tuesday Jam Sessions
DESCRIPTION:oin the Fun and the Kelowna Fiddlers for an evening of traditional music. Musicians needed\, Guitar\, Bass\, Violin\, Accordian – First time is $7 and after that only $2 drop in fee. 7 Pm – 9 PM at 1353 Richter Street\, January to June\, Tuesdays. Must be 19 and over. Come at 6:30 and learn a tune.
URL:https://livemusickelowna.ca/event/tuesday-jam-sessions/2027-04-27/
LOCATION:Seniors Outreach – Recreation Centre\, 1353 Richter St.\, Kelowna\, British Columbia\, V1Y 2L5\, Canada
CATEGORIES:Fiddle,Folk
ATTACH;FMTTYPE=image/jpeg:https://livemusickelowna.ca/wp-content/uploads/2026/03/tuesday_jam_sessions_150722_l.jpg
END:VEVENT
BEGIN:VEVENT
DTSTART;TZID=America/Vancouver:20270504T183000
DTEND;TZID=America/Vancouver:20270504T210000
DTSTAMP:20260420T173552
CREATED:20260309T181457Z
LAST-MODIFIED:20260309T181457Z
UID:10026292-1809455400-1809464400@livemusickelowna.ca
SUMMARY:Tuesday Jam Sessions
DESCRIPTION:oin the Fun and the Kelowna Fiddlers for an evening of traditional music. Musicians needed\, Guitar\, Bass\, Violin\, Accordian – First time is $7 and after that only $2 drop in fee. 7 Pm – 9 PM at 1353 Richter Street\, January to June\, Tuesdays. Must be 19 and over. Come at 6:30 and learn a tune.
URL:https://livemusickelowna.ca/event/tuesday-jam-sessions/2027-05-04/
LOCATION:Seniors Outreach – Recreation Centre\, 1353 Richter St.\, Kelowna\, British Columbia\, V1Y 2L5\, Canada
CATEGORIES:Fiddle,Folk
ATTACH;FMTTYPE=image/jpeg:https://livemusickelowna.ca/wp-content/uploads/2026/03/tuesday_jam_sessions_150722_l.jpg
END:VEVENT
BEGIN:VEVENT
DTSTART;TZID=America/Vancouver:20270511T183000
DTEND;TZID=America/Vancouver:20270511T210000
DTSTAMP:20260420T173552
CREATED:20260309T181457Z
LAST-MODIFIED:20260309T181457Z
UID:10026293-1810060200-1810069200@livemusickelowna.ca
SUMMARY:Tuesday Jam Sessions
DESCRIPTION:oin the Fun and the Kelowna Fiddlers for an evening of traditional music. Musicians needed\, Guitar\, Bass\, Violin\, Accordian – First time is $7 and after that only $2 drop in fee. 7 Pm – 9 PM at 1353 Richter Street\, January to June\, Tuesdays. Must be 19 and over. Come at 6:30 and learn a tune.
URL:https://livemusickelowna.ca/event/tuesday-jam-sessions/2027-05-11/
LOCATION:Seniors Outreach – Recreation Centre\, 1353 Richter St.\, Kelowna\, British Columbia\, V1Y 2L5\, Canada
CATEGORIES:Fiddle,Folk
ATTACH;FMTTYPE=image/jpeg:https://livemusickelowna.ca/wp-content/uploads/2026/03/tuesday_jam_sessions_150722_l.jpg
END:VEVENT
BEGIN:VEVENT
DTSTART;TZID=America/Vancouver:20270518T183000
DTEND;TZID=America/Vancouver:20270518T210000
DTSTAMP:20260420T173552
CREATED:20260309T181457Z
LAST-MODIFIED:20260309T181457Z
UID:10026294-1810665000-1810674000@livemusickelowna.ca
SUMMARY:Tuesday Jam Sessions
DESCRIPTION:oin the Fun and the Kelowna Fiddlers for an evening of traditional music. Musicians needed\, Guitar\, Bass\, Violin\, Accordian – First time is $7 and after that only $2 drop in fee. 7 Pm – 9 PM at 1353 Richter Street\, January to June\, Tuesdays. Must be 19 and over. Come at 6:30 and learn a tune.
URL:https://livemusickelowna.ca/event/tuesday-jam-sessions/2027-05-18/
LOCATION:Seniors Outreach – Recreation Centre\, 1353 Richter St.\, Kelowna\, British Columbia\, V1Y 2L5\, Canada
CATEGORIES:Fiddle,Folk
ATTACH;FMTTYPE=image/jpeg:https://livemusickelowna.ca/wp-content/uploads/2026/03/tuesday_jam_sessions_150722_l.jpg
END:VEVENT
BEGIN:VEVENT
DTSTART;TZID=America/Vancouver:20270525T183000
DTEND;TZID=America/Vancouver:20270525T210000
DTSTAMP:20260420T173552
CREATED:20260309T181457Z
LAST-MODIFIED:20260309T181457Z
UID:10026295-1811269800-1811278800@livemusickelowna.ca
SUMMARY:Tuesday Jam Sessions
DESCRIPTION:oin the Fun and the Kelowna Fiddlers for an evening of traditional music. Musicians needed\, Guitar\, Bass\, Violin\, Accordian – First time is $7 and after that only $2 drop in fee. 7 Pm – 9 PM at 1353 Richter Street\, January to June\, Tuesdays. Must be 19 and over. Come at 6:30 and learn a tune.
URL:https://livemusickelowna.ca/event/tuesday-jam-sessions/2027-05-25/
LOCATION:Seniors Outreach – Recreation Centre\, 1353 Richter St.\, Kelowna\, British Columbia\, V1Y 2L5\, Canada
CATEGORIES:Fiddle,Folk
ATTACH;FMTTYPE=image/jpeg:https://livemusickelowna.ca/wp-content/uploads/2026/03/tuesday_jam_sessions_150722_l.jpg
END:VEVENT
BEGIN:VEVENT
DTSTART;TZID=America/Vancouver:20270601T183000
DTEND;TZID=America/Vancouver:20270601T210000
DTSTAMP:20260420T173552
CREATED:20260309T181457Z
LAST-MODIFIED:20260309T181457Z
UID:10026296-1811874600-1811883600@livemusickelowna.ca
SUMMARY:Tuesday Jam Sessions
DESCRIPTION:oin the Fun and the Kelowna Fiddlers for an evening of traditional music. Musicians needed\, Guitar\, Bass\, Violin\, Accordian – First time is $7 and after that only $2 drop in fee. 7 Pm – 9 PM at 1353 Richter Street\, January to June\, Tuesdays. Must be 19 and over. Come at 6:30 and learn a tune.
URL:https://livemusickelowna.ca/event/tuesday-jam-sessions/2027-06-01/
LOCATION:Seniors Outreach – Recreation Centre\, 1353 Richter St.\, Kelowna\, British Columbia\, V1Y 2L5\, Canada
CATEGORIES:Fiddle,Folk
ATTACH;FMTTYPE=image/jpeg:https://livemusickelowna.ca/wp-content/uploads/2026/03/tuesday_jam_sessions_150722_l.jpg
END:VEVENT
BEGIN:VEVENT
DTSTART;TZID=America/Vancouver:20270608T183000
DTEND;TZID=America/Vancouver:20270608T210000
DTSTAMP:20260420T173552
CREATED:20260309T181457Z
LAST-MODIFIED:20260309T181457Z
UID:10026297-1812479400-1812488400@livemusickelowna.ca
SUMMARY:Tuesday Jam Sessions
DESCRIPTION:oin the Fun and the Kelowna Fiddlers for an evening of traditional music. Musicians needed\, Guitar\, Bass\, Violin\, Accordian – First time is $7 and after that only $2 drop in fee. 7 Pm – 9 PM at 1353 Richter Street\, January to June\, Tuesdays. Must be 19 and over. Come at 6:30 and learn a tune.
URL:https://livemusickelowna.ca/event/tuesday-jam-sessions/2027-06-08/
LOCATION:Seniors Outreach – Recreation Centre\, 1353 Richter St.\, Kelowna\, British Columbia\, V1Y 2L5\, Canada
CATEGORIES:Fiddle,Folk
ATTACH;FMTTYPE=image/jpeg:https://livemusickelowna.ca/wp-content/uploads/2026/03/tuesday_jam_sessions_150722_l.jpg
END:VEVENT
BEGIN:VEVENT
DTSTART;TZID=America/Vancouver:20270615T183000
DTEND;TZID=America/Vancouver:20270615T210000
DTSTAMP:20260420T173552
CREATED:20260309T181457Z
LAST-MODIFIED:20260309T181457Z
UID:10026298-1813084200-1813093200@livemusickelowna.ca
SUMMARY:Tuesday Jam Sessions
DESCRIPTION:oin the Fun and the Kelowna Fiddlers for an evening of traditional music. Musicians needed\, Guitar\, Bass\, Violin\, Accordian – First time is $7 and after that only $2 drop in fee. 7 Pm – 9 PM at 1353 Richter Street\, January to June\, Tuesdays. Must be 19 and over. Come at 6:30 and learn a tune.
URL:https://livemusickelowna.ca/event/tuesday-jam-sessions/2027-06-15/
LOCATION:Seniors Outreach – Recreation Centre\, 1353 Richter St.\, Kelowna\, British Columbia\, V1Y 2L5\, Canada
CATEGORIES:Fiddle,Folk
ATTACH;FMTTYPE=image/jpeg:https://livemusickelowna.ca/wp-content/uploads/2026/03/tuesday_jam_sessions_150722_l.jpg
END:VEVENT
BEGIN:VEVENT
DTSTART;TZID=America/Vancouver:20270622T183000
DTEND;TZID=America/Vancouver:20270622T210000
DTSTAMP:20260420T173552
CREATED:20260309T181457Z
LAST-MODIFIED:20260309T181457Z
UID:10026299-1813689000-1813698000@livemusickelowna.ca
SUMMARY:Tuesday Jam Sessions
DESCRIPTION:oin the Fun and the Kelowna Fiddlers for an evening of traditional music. Musicians needed\, Guitar\, Bass\, Violin\, Accordian – First time is $7 and after that only $2 drop in fee. 7 Pm – 9 PM at 1353 Richter Street\, January to June\, Tuesdays. Must be 19 and over. Come at 6:30 and learn a tune.
URL:https://livemusickelowna.ca/event/tuesday-jam-sessions/2027-06-22/
LOCATION:Seniors Outreach – Recreation Centre\, 1353 Richter St.\, Kelowna\, British Columbia\, V1Y 2L5\, Canada
CATEGORIES:Fiddle,Folk
ATTACH;FMTTYPE=image/jpeg:https://livemusickelowna.ca/wp-content/uploads/2026/03/tuesday_jam_sessions_150722_l.jpg
END:VEVENT
BEGIN:VEVENT
DTSTART;TZID=America/Vancouver:20270629T183000
DTEND;TZID=America/Vancouver:20270629T210000
DTSTAMP:20260420T173552
CREATED:20260309T181457Z
LAST-MODIFIED:20260309T181457Z
UID:10026300-1814293800-1814302800@livemusickelowna.ca
SUMMARY:Tuesday Jam Sessions
DESCRIPTION:oin the Fun and the Kelowna Fiddlers for an evening of traditional music. Musicians needed\, Guitar\, Bass\, Violin\, Accordian – First time is $7 and after that only $2 drop in fee. 7 Pm – 9 PM at 1353 Richter Street\, January to June\, Tuesdays. Must be 19 and over. Come at 6:30 and learn a tune.
URL:https://livemusickelowna.ca/event/tuesday-jam-sessions/2027-06-29/
LOCATION:Seniors Outreach – Recreation Centre\, 1353 Richter St.\, Kelowna\, British Columbia\, V1Y 2L5\, Canada
CATEGORIES:Fiddle,Folk
ATTACH;FMTTYPE=image/jpeg:https://livemusickelowna.ca/wp-content/uploads/2026/03/tuesday_jam_sessions_150722_l.jpg
END:VEVENT
END:VCALENDAR