BEGIN:VCALENDAR
VERSION:2.0
PRODID:-//Live Music Kelowna - ECPv6.15.20//NONSGML v1.0//EN
CALSCALE:GREGORIAN
METHOD:PUBLISH
X-ORIGINAL-URL:https://livemusickelowna.ca
X-WR-CALDESC:Events for Live Music Kelowna
REFRESH-INTERVAL;VALUE=DURATION:PT1H
X-Robots-Tag:noindex
X-PUBLISHED-TTL:PT1H
BEGIN:VTIMEZONE
TZID:America/Vancouver
BEGIN:DAYLIGHT
TZOFFSETFROM:-0800
TZOFFSETTO:-0700
TZNAME:PDT
DTSTART:20260308T100000
END:DAYLIGHT
BEGIN:STANDARD
TZOFFSETFROM:-0700
TZOFFSETTO:-0800
TZNAME:PST
DTSTART:20261101T090000
END:STANDARD
BEGIN:DAYLIGHT
TZOFFSETFROM:-0800
TZOFFSETTO:-0700
TZNAME:PDT
DTSTART:20270314T100000
END:DAYLIGHT
BEGIN:STANDARD
TZOFFSETFROM:-0700
TZOFFSETTO:-0800
TZNAME:PST
DTSTART:20271107T090000
END:STANDARD
BEGIN:DAYLIGHT
TZOFFSETFROM:-0800
TZOFFSETTO:-0700
TZNAME:PDT
DTSTART:20280312T100000
END:DAYLIGHT
BEGIN:STANDARD
TZOFFSETFROM:-0700
TZOFFSETTO:-0800
TZNAME:PST
DTSTART:20281105T090000
END:STANDARD
END:VTIMEZONE
BEGIN:VEVENT
DTSTART;TZID=America/Vancouver:20270622T183000
DTEND;TZID=America/Vancouver:20270622T210000
DTSTAMP:20260420T202018
CREATED:20260309T181457Z
LAST-MODIFIED:20260309T181457Z
UID:10026299-1813689000-1813698000@livemusickelowna.ca
SUMMARY:Tuesday Jam Sessions
DESCRIPTION:oin the Fun and the Kelowna Fiddlers for an evening of traditional music. Musicians needed\, Guitar\, Bass\, Violin\, Accordian – First time is $7 and after that only $2 drop in fee. 7 Pm – 9 PM at 1353 Richter Street\, January to June\, Tuesdays. Must be 19 and over. Come at 6:30 and learn a tune.
URL:https://livemusickelowna.ca/event/tuesday-jam-sessions/2027-06-22/
LOCATION:Seniors Outreach – Recreation Centre\, 1353 Richter St.\, Kelowna\, British Columbia\, V1Y 2L5\, Canada
CATEGORIES:Fiddle,Folk
ATTACH;FMTTYPE=image/jpeg:https://livemusickelowna.ca/wp-content/uploads/2026/03/tuesday_jam_sessions_150722_l.jpg
END:VEVENT
BEGIN:VEVENT
DTSTART;TZID=America/Vancouver:20270629T183000
DTEND;TZID=America/Vancouver:20270629T210000
DTSTAMP:20260420T202018
CREATED:20260309T181457Z
LAST-MODIFIED:20260309T181457Z
UID:10026300-1814293800-1814302800@livemusickelowna.ca
SUMMARY:Tuesday Jam Sessions
DESCRIPTION:oin the Fun and the Kelowna Fiddlers for an evening of traditional music. Musicians needed\, Guitar\, Bass\, Violin\, Accordian – First time is $7 and after that only $2 drop in fee. 7 Pm – 9 PM at 1353 Richter Street\, January to June\, Tuesdays. Must be 19 and over. Come at 6:30 and learn a tune.
URL:https://livemusickelowna.ca/event/tuesday-jam-sessions/2027-06-29/
LOCATION:Seniors Outreach – Recreation Centre\, 1353 Richter St.\, Kelowna\, British Columbia\, V1Y 2L5\, Canada
CATEGORIES:Fiddle,Folk
ATTACH;FMTTYPE=image/jpeg:https://livemusickelowna.ca/wp-content/uploads/2026/03/tuesday_jam_sessions_150722_l.jpg
END:VEVENT
END:VCALENDAR