BEGIN:VCALENDAR
VERSION:2.0
PRODID:-//Live Music Kelowna - ECPv6.15.18//NONSGML v1.0//EN
CALSCALE:GREGORIAN
METHOD:PUBLISH
X-WR-CALNAME:Live Music Kelowna
X-ORIGINAL-URL:https://livemusickelowna.ca
X-WR-CALDESC:Events for Live Music Kelowna
REFRESH-INTERVAL;VALUE=DURATION:PT1H
X-Robots-Tag:noindex
X-PUBLISHED-TTL:PT1H
BEGIN:VTIMEZONE
TZID:America/Vancouver
BEGIN:DAYLIGHT
TZOFFSETFROM:-0800
TZOFFSETTO:-0700
TZNAME:PDT
DTSTART:20250309T100000
END:DAYLIGHT
BEGIN:STANDARD
TZOFFSETFROM:-0700
TZOFFSETTO:-0800
TZNAME:PST
DTSTART:20251102T090000
END:STANDARD
BEGIN:DAYLIGHT
TZOFFSETFROM:-0800
TZOFFSETTO:-0700
TZNAME:PDT
DTSTART:20260308T100000
END:DAYLIGHT
BEGIN:STANDARD
TZOFFSETFROM:-0700
TZOFFSETTO:-0800
TZNAME:PST
DTSTART:20261101T090000
END:STANDARD
BEGIN:DAYLIGHT
TZOFFSETFROM:-0800
TZOFFSETTO:-0700
TZNAME:PDT
DTSTART:20270314T100000
END:DAYLIGHT
BEGIN:STANDARD
TZOFFSETFROM:-0700
TZOFFSETTO:-0800
TZNAME:PST
DTSTART:20271107T090000
END:STANDARD
END:VTIMEZONE
BEGIN:VEVENT
DTSTART;TZID=America/Vancouver:20260428T183000
DTEND;TZID=America/Vancouver:20260428T210000
DTSTAMP:20260420T081016
CREATED:20260309T181457Z
LAST-MODIFIED:20260309T181457Z
UID:10026239-1777401000-1777410000@livemusickelowna.ca
SUMMARY:Tuesday Jam Sessions
DESCRIPTION:oin the Fun and the Kelowna Fiddlers for an evening of traditional music. Musicians needed\, Guitar\, Bass\, Violin\, Accordian – First time is $7 and after that only $2 drop in fee. 7 Pm – 9 PM at 1353 Richter Street\, January to June\, Tuesdays. Must be 19 and over. Come at 6:30 and learn a tune.
URL:https://livemusickelowna.ca/event/tuesday-jam-sessions/2026-04-28/
LOCATION:Seniors Outreach – Recreation Centre\, 1353 Richter St.\, Kelowna\, British Columbia\, V1Y 2L5\, Canada
CATEGORIES:Fiddle,Folk
ATTACH;FMTTYPE=image/jpeg:https://livemusickelowna.ca/wp-content/uploads/2026/03/tuesday_jam_sessions_150722_l.jpg
END:VEVENT
BEGIN:VEVENT
DTSTART;TZID=America/Vancouver:20260428T193000
DTEND;TZID=America/Vancouver:20260428T213000
DTSTAMP:20260420T081016
CREATED:20260413T153846Z
LAST-MODIFIED:20260413T153846Z
UID:10026791-1777404600-1777411800@livemusickelowna.ca
SUMMARY:DANAII
DESCRIPTION:Since the summer of 2022\, Tuesday nights at micro + bar and bites are home to live music from 7:30pm-9:30pm. Our curated schedule is comprised of talented musicians\, performing in an intimate\, listening-style environment. And of course\, the music is designed to be enjoyed with friends new and old over creative cocktails and tasty tapas. \nOver 100+ nights of music have been held at our cozy bar\, featuring a variety of Okanagan talent representing genres such as singer-songwriter\, soul\, blues\, latin folclórica\, and eastern-European jazz. \nGiven that our seating is limited (and we do not take reservations)\, we recommend you come early to secure your spot at the bar and enjoy an unforgettable night of live music\, great cocktails\, and a few bites from our tapas menu. ⁠
URL:https://livemusickelowna.ca/event/danaii/
LOCATION:Micro Bar & Bites\, 1500 Water St\, Kelowna\, British Columbia\, V1Y 1J8\, Canada
CATEGORIES:Folk,Soul
ATTACH;FMTTYPE=image/jpeg:https://livemusickelowna.ca/wp-content/uploads/2026/04/micro.jpg
END:VEVENT
END:VCALENDAR