BEGIN:VCALENDAR
VERSION:2.0
PRODID:-//Live Music Kelowna - ECPv6.15.18//NONSGML v1.0//EN
CALSCALE:GREGORIAN
METHOD:PUBLISH
X-ORIGINAL-URL:https://livemusickelowna.ca
X-WR-CALDESC:Events for Live Music Kelowna
REFRESH-INTERVAL;VALUE=DURATION:PT1H
X-Robots-Tag:noindex
X-PUBLISHED-TTL:PT1H
BEGIN:VTIMEZONE
TZID:America/Vancouver
BEGIN:DAYLIGHT
TZOFFSETFROM:-0800
TZOFFSETTO:-0700
TZNAME:PDT
DTSTART:20250309T100000
END:DAYLIGHT
BEGIN:STANDARD
TZOFFSETFROM:-0700
TZOFFSETTO:-0800
TZNAME:PST
DTSTART:20251102T090000
END:STANDARD
BEGIN:DAYLIGHT
TZOFFSETFROM:-0800
TZOFFSETTO:-0700
TZNAME:PDT
DTSTART:20260308T100000
END:DAYLIGHT
BEGIN:STANDARD
TZOFFSETFROM:-0700
TZOFFSETTO:-0800
TZNAME:PST
DTSTART:20261101T090000
END:STANDARD
BEGIN:DAYLIGHT
TZOFFSETFROM:-0800
TZOFFSETTO:-0700
TZNAME:PDT
DTSTART:20270314T100000
END:DAYLIGHT
BEGIN:STANDARD
TZOFFSETFROM:-0700
TZOFFSETTO:-0800
TZNAME:PST
DTSTART:20271107T090000
END:STANDARD
END:VTIMEZONE
BEGIN:VEVENT
DTSTART;TZID=America/Vancouver:20260425T180000
DTEND;TZID=America/Vancouver:20260425T180000
DTSTAMP:20260420T081301
CREATED:20260329T201922Z
LAST-MODIFIED:20260329T201922Z
UID:10026650-1777140000-1777140000@livemusickelowna.ca
SUMMARY:Kelowna's Top Talent
DESCRIPTION:About the Event\n\n\nDoor Time: 6 PM \nKelowna’s Top Talent is where the spotlight finds the extraordinary. \nThis high-energy competition and live showcase brings together performers of all ages and all disciplines for five unforgettable nights at Revelry. From powerhouse vocalists and dynamic dancers to jaw-dropping instrumentalists\, comedians\, specialty acts\, and everything in between\, if it’s live talent\, it belongs on our stage. \nEach event date builds toward an electrifying finale\, celebrating the diversity\, creativity\, and bold spirit of our community. Whether you’re competing for the crown or cheering from the crowd\, expect a night filled with raw talent\, big moments\, and unforgettable performances. \nWith tiered ticketing options\, you choose your experience: \n• General Admission – Be part of the electric crowd \n• Premium Seating – Elevated views\, prime positioning \n• VIP Experience – The ultimate night out with exclusive perks \nFive dates. One stage. Unlimited talent. \nThis is more than a competition\, it’s Kelowna’s moment to shine.
URL:https://livemusickelowna.ca/event/kelownas-top-talent/2026-04-25/
LOCATION:Revelry Food + Music Hub\, 1383 Ellis St\, Kelowna\, British Columbia\, V1Y 1Z9\, Canada
CATEGORIES:Folk,Jazz,Mixed Genres,Pop,Rock
ATTACH;FMTTYPE=image/jpeg:https://livemusickelowna.ca/wp-content/uploads/2026/03/0aa4a38867c945958a635e2fe79fca7d.jpg
END:VEVENT
BEGIN:VEVENT
DTSTART;TZID=America/Vancouver:20260425T190000
DTEND;TZID=America/Vancouver:20260425T210000
DTSTAMP:20260420T081301
CREATED:20260412T110711Z
LAST-MODIFIED:20260412T110711Z
UID:10026770-1777143600-1777150800@livemusickelowna.ca
SUMMARY:Lighthouse Rd & Marsha Thompson
DESCRIPTION:Lighthouse Rd. + Marsha Thompson\nSaturday\, April 25\nFrequency Sound 528\nLimited capacity | Advance tickets recommended \nJoin us for an evening of heartfelt country and folk songwriting at Frequency Sound 528. This special concert series night features two acts rooted in storytelling\, warm melodies\, and the kind of music that brings people together. \n\nMarsha Thompson\nMarsha Thompson is an Okanagan-based singer-songwriter whose original country/folk songs draw inspiration from nature\, life’s observations\, humour\, and BC history. Known for her warm alto voice and poetic storytelling\, Marsha’s relaxed stage presence has endeared her to audiences across the region. She has released three studio albums\, including Wishing on Stars\, and often performs with Ellie Young on bass and Tyler Thompson on drums\, creating a sound that taps the toes and speaks to the soul. \n\nLighthouse Rd.\nLighthouse Rd. is a country/folk trio formed by lifelong friends Wesley (lead vocals\, guitar)\, Eric (piano\, backing vocals)\, and Brandon (drums). What began as countless basement jam sessions evolved into a full musical project in 2025. Their music blends heartfelt lyrics\, rich harmonies\, and the easy chemistry of friends who have been making music together for years. \n\nWhat to Expect\n• Intimate listening-room concert experience\n• Original country and folk songwriting\n• Warm\, community-centered atmosphere\n• A night of authentic storytelling through music \n\nFrequency Sound 528 offers a cozy space where audiences can connect with artists and experience live music up close. \nTickets are limited — secure yours early.
URL:https://livemusickelowna.ca/event/lighthouse-rd-marsha-thompson/
LOCATION:Frequency Sound 528\, 3210 Gulley Rd\, Kelowna\, British Columbia\, V1W 4E5\, Canada
CATEGORIES:Folk,Mixed Genres,Singer/Songwriter
ATTACH;FMTTYPE=image/webp:https://livemusickelowna.ca/wp-content/uploads/2026/04/April25.webp
END:VEVENT
BEGIN:VEVENT
DTSTART;TZID=America/Vancouver:20260425T190000
DTEND;TZID=America/Vancouver:20260425T230000
DTSTAMP:20260420T081301
CREATED:20260413T151442Z
LAST-MODIFIED:20260413T151507Z
UID:10026786-1777143600-1777158000@livemusickelowna.ca
SUMMARY:Battle of the Bands – Day 2
DESCRIPTION:Local talent. Live competition. One step closer to the main stage.\nBattle of the Bands is back for its second year at Red Bird Brewing — and the stakes are higher than ever. In partnership with the team behind Rock The Lake Music Festival at Prospera Place\, this two-night live music competition gives local artists a shot at performing on one of the region’s biggest festival stages. \nFollowing a packed and wildly competitive debut event last year\, Battle of the Bands returns April 24 and 25\, 2026\, bringing together some of the Okanagan’s most talented rock musicians. Each night\, selected bands will take the stage to perform in front of a live audience and a panel of judges\, all competing for a paid performance slot at Rock The Lake Music Festival this July. \nLast year’s competition proved just how deep Kelowna’s talent pool runs. With two standout winners crowned\, CrushXO and Lucky Monkey went on to open the Rock The Lake 2025 main stage — including performances ahead of Simple Plan and The Sheepdogs. This year’s event builds on that momentum\, moving to Red Bird Brewing’s outdoor stage to welcome even more fans and elevate the experience. \nWinners will be determined through a combination of audience participation and judge scoring\, making every cheer\, vote\, and moment in the crowd count. Whether you’re there to support a friend\, discover a new favourite band\, or help decide who earns their place on the Rock The Lake lineup\, Battle of the Bands is your chance to be part of the journey. \nJoin us for two nights of high-energy performances\, local pride\, and the thrill of live competition — all for just $10 per night. \nEvent Highlights\n\nTwo nights of live local rock music\nPerformances judged by industry professionals\nAudience participation helps decide the winners\nTwo bands earn paid performance slots at Rock The Lake 2026\nOutdoor stage setting at Red Bird Brewing
URL:https://livemusickelowna.ca/event/battle-of-the-bands-day-2/
LOCATION:Red Bird Brewing\, 1080 Richter S\, Kelowna\, British Columbia\, V1Y 2K5\, Canada
CATEGORIES:Folk,Mixed Genres,Rock
ATTACH;FMTTYPE=image/webp:https://livemusickelowna.ca/wp-content/uploads/2026/04/ColdFame_PressPhoto-768x614-1.webp
END:VEVENT
END:VCALENDAR