BEGIN:VCALENDAR
VERSION:2.0
PRODID:-//Live Music Kelowna - ECPv6.15.18//NONSGML v1.0//EN
CALSCALE:GREGORIAN
METHOD:PUBLISH
X-WR-CALNAME:Live Music Kelowna
X-ORIGINAL-URL:https://livemusickelowna.ca
X-WR-CALDESC:Events for Live Music Kelowna
REFRESH-INTERVAL;VALUE=DURATION:PT1H
X-Robots-Tag:noindex
X-PUBLISHED-TTL:PT1H
BEGIN:VTIMEZONE
TZID:America/Vancouver
BEGIN:DAYLIGHT
TZOFFSETFROM:-0800
TZOFFSETTO:-0700
TZNAME:PDT
DTSTART:20250309T100000
END:DAYLIGHT
BEGIN:STANDARD
TZOFFSETFROM:-0700
TZOFFSETTO:-0800
TZNAME:PST
DTSTART:20251102T090000
END:STANDARD
BEGIN:DAYLIGHT
TZOFFSETFROM:-0800
TZOFFSETTO:-0700
TZNAME:PDT
DTSTART:20260308T100000
END:DAYLIGHT
BEGIN:STANDARD
TZOFFSETFROM:-0700
TZOFFSETTO:-0800
TZNAME:PST
DTSTART:20261101T090000
END:STANDARD
BEGIN:DAYLIGHT
TZOFFSETFROM:-0800
TZOFFSETTO:-0700
TZNAME:PDT
DTSTART:20270314T100000
END:DAYLIGHT
BEGIN:STANDARD
TZOFFSETFROM:-0700
TZOFFSETTO:-0800
TZNAME:PST
DTSTART:20271107T090000
END:STANDARD
END:VTIMEZONE
BEGIN:VEVENT
DTSTART;TZID=America/Vancouver:20260417T170000
DTEND;TZID=America/Vancouver:20260417T190000
DTSTAMP:20260420T081624
CREATED:20251029T153758Z
LAST-MODIFIED:20251029T154306Z
UID:10024550-1776445200-1776452400@livemusickelowna.ca
SUMMARY:Gail and Karl plus special guest @ Marmalade Cat Cafe
DESCRIPTION:Live music every Friday at The Marmalade Cat Cafe Pandosy from 5 to 7. First Friday of the month songwriters in the round; 2nd Friday Christine Pomeroy open mic; 3rd Friday Gail and Karl (triple AAA) Adult Acoustic Alternative; Last Friday Leila Neverland
URL:https://livemusickelowna.ca/event/gail-and-karl-plus-special-guest-marmalade-cat-cafe/2026-04-17/
LOCATION:Marmalade Cat Cafe\, 2903 Pandosy St #103\, Kelowna\, British Columbia\, V1Y 1W1\, Canada
CATEGORIES:Folk,Rock
ATTACH;FMTTYPE=image/jpeg:https://livemusickelowna.ca/wp-content/uploads/2025/10/artworks-asBZh1OvxrDQqzwG-dxrOIA-t1080x1080.jpg
END:VEVENT
END:VCALENDAR