BEGIN:VCALENDAR
VERSION:2.0
PRODID:-//Live Music Kelowna - ECPv6.15.18//NONSGML v1.0//EN
CALSCALE:GREGORIAN
METHOD:PUBLISH
X-ORIGINAL-URL:https://livemusickelowna.ca
X-WR-CALDESC:Events for Live Music Kelowna
REFRESH-INTERVAL;VALUE=DURATION:PT1H
X-Robots-Tag:noindex
X-PUBLISHED-TTL:PT1H
BEGIN:VTIMEZONE
TZID:America/Vancouver
BEGIN:DAYLIGHT
TZOFFSETFROM:-0800
TZOFFSETTO:-0700
TZNAME:PDT
DTSTART:20250309T100000
END:DAYLIGHT
BEGIN:STANDARD
TZOFFSETFROM:-0700
TZOFFSETTO:-0800
TZNAME:PST
DTSTART:20251102T090000
END:STANDARD
BEGIN:DAYLIGHT
TZOFFSETFROM:-0800
TZOFFSETTO:-0700
TZNAME:PDT
DTSTART:20260308T100000
END:DAYLIGHT
BEGIN:STANDARD
TZOFFSETFROM:-0700
TZOFFSETTO:-0800
TZNAME:PST
DTSTART:20261101T090000
END:STANDARD
BEGIN:DAYLIGHT
TZOFFSETFROM:-0800
TZOFFSETTO:-0700
TZNAME:PDT
DTSTART:20270314T100000
END:DAYLIGHT
BEGIN:STANDARD
TZOFFSETFROM:-0700
TZOFFSETTO:-0800
TZNAME:PST
DTSTART:20271107T090000
END:STANDARD
END:VTIMEZONE
BEGIN:VEVENT
DTSTART;TZID=America/Vancouver:20260408T180000
DTEND;TZID=America/Vancouver:20260408T200000
DTSTAMP:20260420T081118
CREATED:20260405T095132Z
LAST-MODIFIED:20260405T095132Z
UID:10026707-1775671200-1775678400@livemusickelowna.ca
SUMMARY:Wing Wednesday with Scott McFadyn
DESCRIPTION:Join us for our smoked wings & live music!\n1 lb of our smoked chicken wings\, three flavors available (plain\, BBQ\, & hot) with a side of our pickled veg and our house made Alabama white sauce.\nLive Music with Scott McFadyn from 6-8pm\nNo tickets necessary – just make a reservation to secure your spot!\n\n\n\nJoin us for our smoked wings & live music!\n1 lb of our smoked chicken wings\, three flavors available (plain\, BBQ\, & hot) with a side of our pickled veg and our house made Alabama white sauce.\nLive Music with Scott McFadyn from 6-8pm\nNo tickets necessary – just make a reservation to secure your spot!\n\n\n\nShow more\n\n\n\n\nWhen\n\n\nWednesday\, April 8 UTC-7
URL:https://livemusickelowna.ca/event/wing-wednesday-with-scott-mcfadyn/
LOCATION:Hatching Post Brewery\, 2850 Boucherie Rd\, West Kelowna\, British Columbia\, V1Z 2G5\, Canada
CATEGORIES:Classic Rock,Folk,Jazz,Mixed Genres
ATTACH;FMTTYPE=image/png:https://livemusickelowna.ca/wp-content/uploads/2026/04/Wings-Edited-Darker-scaled.png
END:VEVENT
END:VCALENDAR