BEGIN:VCALENDAR
VERSION:2.0
PRODID:-//Live Music Kelowna - ECPv6.15.20//NONSGML v1.0//EN
CALSCALE:GREGORIAN
METHOD:PUBLISH
X-ORIGINAL-URL:https://livemusickelowna.ca
X-WR-CALDESC:Events for Live Music Kelowna
REFRESH-INTERVAL;VALUE=DURATION:PT1H
X-Robots-Tag:noindex
X-PUBLISHED-TTL:PT1H
BEGIN:VTIMEZONE
TZID:America/Vancouver
BEGIN:DAYLIGHT
TZOFFSETFROM:-0800
TZOFFSETTO:-0700
TZNAME:PDT
DTSTART:20250309T100000
END:DAYLIGHT
BEGIN:STANDARD
TZOFFSETFROM:-0700
TZOFFSETTO:-0800
TZNAME:PST
DTSTART:20251102T090000
END:STANDARD
BEGIN:DAYLIGHT
TZOFFSETFROM:-0800
TZOFFSETTO:-0700
TZNAME:PDT
DTSTART:20260308T100000
END:DAYLIGHT
BEGIN:STANDARD
TZOFFSETFROM:-0700
TZOFFSETTO:-0800
TZNAME:PST
DTSTART:20261101T090000
END:STANDARD
BEGIN:DAYLIGHT
TZOFFSETFROM:-0800
TZOFFSETTO:-0700
TZNAME:PDT
DTSTART:20270314T100000
END:DAYLIGHT
BEGIN:STANDARD
TZOFFSETFROM:-0700
TZOFFSETTO:-0800
TZNAME:PST
DTSTART:20271107T090000
END:STANDARD
END:VTIMEZONE
BEGIN:VEVENT
DTSTART;TZID=America/Vancouver:20261201T183000
DTEND;TZID=America/Vancouver:20261201T210000
DTSTAMP:20260420T181941
CREATED:20260309T181457Z
LAST-MODIFIED:20260309T181457Z
UID:10026270-1796149800-1796158800@livemusickelowna.ca
SUMMARY:Tuesday Jam Sessions
DESCRIPTION:oin the Fun and the Kelowna Fiddlers for an evening of traditional music. Musicians needed\, Guitar\, Bass\, Violin\, Accordian – First time is $7 and after that only $2 drop in fee. 7 Pm – 9 PM at 1353 Richter Street\, January to June\, Tuesdays. Must be 19 and over. Come at 6:30 and learn a tune.
URL:https://livemusickelowna.ca/event/tuesday-jam-sessions/2026-12-01/
LOCATION:Seniors Outreach – Recreation Centre\, 1353 Richter St.\, Kelowna\, British Columbia\, V1Y 2L5\, Canada
CATEGORIES:Fiddle,Folk
ATTACH;FMTTYPE=image/jpeg:https://livemusickelowna.ca/wp-content/uploads/2026/03/tuesday_jam_sessions_150722_l.jpg
END:VEVENT
BEGIN:VEVENT
DTSTART;TZID=America/Vancouver:20261208T183000
DTEND;TZID=America/Vancouver:20261208T210000
DTSTAMP:20260420T181941
CREATED:20260309T181457Z
LAST-MODIFIED:20260309T181457Z
UID:10026271-1796754600-1796763600@livemusickelowna.ca
SUMMARY:Tuesday Jam Sessions
DESCRIPTION:oin the Fun and the Kelowna Fiddlers for an evening of traditional music. Musicians needed\, Guitar\, Bass\, Violin\, Accordian – First time is $7 and after that only $2 drop in fee. 7 Pm – 9 PM at 1353 Richter Street\, January to June\, Tuesdays. Must be 19 and over. Come at 6:30 and learn a tune.
URL:https://livemusickelowna.ca/event/tuesday-jam-sessions/2026-12-08/
LOCATION:Seniors Outreach – Recreation Centre\, 1353 Richter St.\, Kelowna\, British Columbia\, V1Y 2L5\, Canada
CATEGORIES:Fiddle,Folk
ATTACH;FMTTYPE=image/jpeg:https://livemusickelowna.ca/wp-content/uploads/2026/03/tuesday_jam_sessions_150722_l.jpg
END:VEVENT
BEGIN:VEVENT
DTSTART;TZID=America/Vancouver:20261215T183000
DTEND;TZID=America/Vancouver:20261215T210000
DTSTAMP:20260420T181941
CREATED:20260309T181457Z
LAST-MODIFIED:20260309T181457Z
UID:10026272-1797359400-1797368400@livemusickelowna.ca
SUMMARY:Tuesday Jam Sessions
DESCRIPTION:oin the Fun and the Kelowna Fiddlers for an evening of traditional music. Musicians needed\, Guitar\, Bass\, Violin\, Accordian – First time is $7 and after that only $2 drop in fee. 7 Pm – 9 PM at 1353 Richter Street\, January to June\, Tuesdays. Must be 19 and over. Come at 6:30 and learn a tune.
URL:https://livemusickelowna.ca/event/tuesday-jam-sessions/2026-12-15/
LOCATION:Seniors Outreach – Recreation Centre\, 1353 Richter St.\, Kelowna\, British Columbia\, V1Y 2L5\, Canada
CATEGORIES:Fiddle,Folk
ATTACH;FMTTYPE=image/jpeg:https://livemusickelowna.ca/wp-content/uploads/2026/03/tuesday_jam_sessions_150722_l.jpg
END:VEVENT
BEGIN:VEVENT
DTSTART;TZID=America/Vancouver:20261222T183000
DTEND;TZID=America/Vancouver:20261222T210000
DTSTAMP:20260420T181941
CREATED:20260309T181457Z
LAST-MODIFIED:20260309T181457Z
UID:10026273-1797964200-1797973200@livemusickelowna.ca
SUMMARY:Tuesday Jam Sessions
DESCRIPTION:oin the Fun and the Kelowna Fiddlers for an evening of traditional music. Musicians needed\, Guitar\, Bass\, Violin\, Accordian – First time is $7 and after that only $2 drop in fee. 7 Pm – 9 PM at 1353 Richter Street\, January to June\, Tuesdays. Must be 19 and over. Come at 6:30 and learn a tune.
URL:https://livemusickelowna.ca/event/tuesday-jam-sessions/2026-12-22/
LOCATION:Seniors Outreach – Recreation Centre\, 1353 Richter St.\, Kelowna\, British Columbia\, V1Y 2L5\, Canada
CATEGORIES:Fiddle,Folk
ATTACH;FMTTYPE=image/jpeg:https://livemusickelowna.ca/wp-content/uploads/2026/03/tuesday_jam_sessions_150722_l.jpg
END:VEVENT
BEGIN:VEVENT
DTSTART;TZID=America/Vancouver:20261229T183000
DTEND;TZID=America/Vancouver:20261229T210000
DTSTAMP:20260420T181941
CREATED:20260309T181457Z
LAST-MODIFIED:20260309T181457Z
UID:10026274-1798569000-1798578000@livemusickelowna.ca
SUMMARY:Tuesday Jam Sessions
DESCRIPTION:oin the Fun and the Kelowna Fiddlers for an evening of traditional music. Musicians needed\, Guitar\, Bass\, Violin\, Accordian – First time is $7 and after that only $2 drop in fee. 7 Pm – 9 PM at 1353 Richter Street\, January to June\, Tuesdays. Must be 19 and over. Come at 6:30 and learn a tune.
URL:https://livemusickelowna.ca/event/tuesday-jam-sessions/2026-12-29/
LOCATION:Seniors Outreach – Recreation Centre\, 1353 Richter St.\, Kelowna\, British Columbia\, V1Y 2L5\, Canada
CATEGORIES:Fiddle,Folk
ATTACH;FMTTYPE=image/jpeg:https://livemusickelowna.ca/wp-content/uploads/2026/03/tuesday_jam_sessions_150722_l.jpg
END:VEVENT
END:VCALENDAR