BEGIN:VCALENDAR
VERSION:2.0
PRODID:-//Live Music Kelowna - ECPv6.15.20//NONSGML v1.0//EN
CALSCALE:GREGORIAN
METHOD:PUBLISH
X-WR-CALNAME:Live Music Kelowna
X-ORIGINAL-URL:https://livemusickelowna.ca
X-WR-CALDESC:Events for Live Music Kelowna
REFRESH-INTERVAL;VALUE=DURATION:PT1H
X-Robots-Tag:noindex
X-PUBLISHED-TTL:PT1H
BEGIN:VTIMEZONE
TZID:America/Vancouver
BEGIN:DAYLIGHT
TZOFFSETFROM:-0800
TZOFFSETTO:-0700
TZNAME:PDT
DTSTART:20250309T100000
END:DAYLIGHT
BEGIN:STANDARD
TZOFFSETFROM:-0700
TZOFFSETTO:-0800
TZNAME:PST
DTSTART:20251102T090000
END:STANDARD
BEGIN:DAYLIGHT
TZOFFSETFROM:-0800
TZOFFSETTO:-0700
TZNAME:PDT
DTSTART:20260308T100000
END:DAYLIGHT
BEGIN:STANDARD
TZOFFSETFROM:-0700
TZOFFSETTO:-0800
TZNAME:PST
DTSTART:20261101T090000
END:STANDARD
BEGIN:DAYLIGHT
TZOFFSETFROM:-0800
TZOFFSETTO:-0700
TZNAME:PDT
DTSTART:20270314T100000
END:DAYLIGHT
BEGIN:STANDARD
TZOFFSETFROM:-0700
TZOFFSETTO:-0800
TZNAME:PST
DTSTART:20271107T090000
END:STANDARD
END:VTIMEZONE
BEGIN:VEVENT
DTSTART;TZID=America/Vancouver:20260424T170000
DTEND;TZID=America/Vancouver:20260424T190000
DTSTAMP:20260424T013059
CREATED:20251029T153929Z
LAST-MODIFIED:20251029T153929Z
UID:10024559-1777050000-1777057200@livemusickelowna.ca
SUMMARY:Jazz with Leila Neverland
DESCRIPTION:Live music every Friday at The Marmalade Cat Cafe Pandosy from 5 to 7. First Friday of the month songwriters in the round; 2nd Friday Christine Pomeroy open mic; 3rd Friday Gail and Karl (triple AAA) Adult Acoustic Alternative; Last Friday Leila Neverland
URL:https://livemusickelowna.ca/event/live-music-at-marmalade-cat-cafe-2/2026-04-24/
LOCATION:Marmalade Cat Cafe\, 2903 Pandosy St #103\, Kelowna\, British Columbia\, V1Y 1W1\, Canada
CATEGORIES:Jazz
ATTACH;FMTTYPE=image/jpeg:https://livemusickelowna.ca/wp-content/uploads/2025/10/0027091170_25.jpg
END:VEVENT
BEGIN:VEVENT
DTSTART;TZID=America/Vancouver:20260424T170000
DTEND;TZID=America/Vancouver:20260424T190000
DTSTAMP:20260424T013059
CREATED:20260309T173312Z
LAST-MODIFIED:20260413T182458Z
UID:10026219-1777050000-1777057200@livemusickelowna.ca
SUMMARY:Songwriters @ Marmalade Cat Cafe
DESCRIPTION:Live music every Friday at The Marmalade Cat Cafe Pandosy from 5 to 7!
URL:https://livemusickelowna.ca/event/songwriters-marmalade-cat-cafe-2/2026-04-24/
LOCATION:Marmalade Cat Cafe\, 2903 Pandosy St #103\, Kelowna\, British Columbia\, V1Y 1W1\, Canada
CATEGORIES:Singer/Songwriter
ATTACH;FMTTYPE=image/jpeg:https://livemusickelowna.ca/wp-content/uploads/2025/10/556227675_10165951200697785_5914304530497974682_n.jpg
END:VEVENT
BEGIN:VEVENT
DTSTART;TZID=America/Vancouver:20260424T173000
DTEND;TZID=America/Vancouver:20260424T193000
DTSTAMP:20260424T013059
CREATED:20260406T155857Z
LAST-MODIFIED:20260406T155925Z
UID:10026739-1777051800-1777059000@livemusickelowna.ca
SUMMARY:Live Music @ Three Lakes Brewing
DESCRIPTION:FRI 10 – Chris Howse \nFRI 17 – EVA LOUISE \nSUN 19 – TWOS A PAIR \nFRI 24 –  JAMES HAY
URL:https://livemusickelowna.ca/event/live-music-three-lakes-brewing/2026-04-24/
LOCATION:Three Lakes Brewing\, 2030 Matrix Cres #7\, Kelowna\, British Columbia\, V1V 0G5\, Canada
CATEGORIES:Mixed Genres,Singer/Songwriter
ATTACH;FMTTYPE=image/jpeg:https://livemusickelowna.ca/wp-content/uploads/2026/04/658418375_18065544038657059_5423887369972696174_n-1.jpg
END:VEVENT
BEGIN:VEVENT
DTSTART;TZID=America/Vancouver:20260424T180000
DTEND;TZID=America/Vancouver:20260424T200000
DTSTAMP:20260424T013059
CREATED:20260412T235705Z
LAST-MODIFIED:20260412T235705Z
UID:10026772-1777053600-1777060800@livemusickelowna.ca
SUMMARY:Friday Night Live Music: The Carr Family Band
DESCRIPTION:Join us for live music on Friday\, April 24 with the Carr Family band – a wife/husband musical duo who are here to make you sing and dance. Becky’s smooth\, melodic voice and Steve’s folky\, Cat Stevens-esque sound are the perfect pair to get you tapping your feet. The Carrs are inspired by all genres of music and that comes across in their performances.  \n \nCome enjoy some music in the lounge. No cover\, family-friendly\, first come\, first served.
URL:https://livemusickelowna.ca/event/friday-night-live-music-the-carr-family-band/
LOCATION:Folktale Cider\, 3950 Irvine Rd\, Lake Country\, BC\, V4V 2G4\, Canada
CATEGORIES:Folk,Singer/Songwriter
ATTACH;FMTTYPE=image/avif:https://livemusickelowna.ca/wp-content/uploads/2026/04/434d7f_3f8d18ad3ecf4bd095f2b51e5e552939mv2.avif
END:VEVENT
BEGIN:VEVENT
DTSTART;TZID=America/Vancouver:20260424T180000
DTEND;TZID=America/Vancouver:20260424T203000
DTSTAMP:20260424T013059
CREATED:20251117T175932Z
LAST-MODIFIED:20260330T034359Z
UID:10026659-1777053600-1777062600@livemusickelowna.ca
SUMMARY:Live Music Fridays @ Vinters
DESCRIPTION:Join us at Vintners restaurant for Live Music Fridays\, at the Coast Capri Hotel. Taking place on select Friday evenings from 6pm to 8:30pm\, for hotel guests and the public to enjoy. Come indulge in a delicious meal while listening to Kelowna’s best artists. Call 250.860.6060 to inquire about upcoming performances and reserve your table now.
URL:https://livemusickelowna.ca/event/live-music-fridays-2-2-2/2026-04-24/
LOCATION:Vintner’s Grill\, 1171 Harvey Ave\, Kelowna\, British Columbia\, V1Y 6E8\, Canada
CATEGORIES:Dining,Mixed Genres
ATTACH;FMTTYPE=image/jpeg:https://livemusickelowna.ca/wp-content/uploads/2025/02/livemusic.jpg
END:VEVENT
BEGIN:VEVENT
DTSTART;TZID=America/Vancouver:20260424T180000
DTEND;TZID=America/Vancouver:20260424T210000
DTSTAMP:20260424T013059
CREATED:20260420T172056Z
LAST-MODIFIED:20260420T172056Z
UID:10026834-1777053600-1777064400@livemusickelowna.ca
SUMMARY:Rhthym & Brews
DESCRIPTION:Join us at Canyon Bar & Grill for an evening of live music with Rhythm & Brews on Friday\, April 24\, 2026 from 6-8 pm\nSit back\, relax\, and enjoy great tunes paired with one of our signature roast features\, all set against the beautiful backdrop of Gallagher’s Canyon. It’s the perfect way to unwind with friends\, enjoy a night out\, and take in some incredible local talent.\nReservations are recommended to secure your table.
URL:https://livemusickelowna.ca/event/rhthym-brews/
LOCATION:Gallagher’s Canyon Golf Club\, 4320 Gallaghers Dr W\, Kelowna\, BC\, Kelowna\, British Columbia\, V1W 3Z8\, Canada
CATEGORIES:Acoustic
ATTACH;FMTTYPE=image/jpeg:https://livemusickelowna.ca/wp-content/uploads/2026/04/669765213_1588737706337325_7329957280149116659_n.jpg
END:VEVENT
BEGIN:VEVENT
DTSTART;TZID=America/Vancouver:20260424T180000
DTEND;TZID=America/Vancouver:20260424T230000
DTSTAMP:20260424T013059
CREATED:20260413T142536Z
LAST-MODIFIED:20260413T142536Z
UID:10026777-1777053600-1777071600@livemusickelowna.ca
SUMMARY:Battle of the Bar Bands Okanagan
DESCRIPTION:From classic rock to popular hits\, local lawyer-led bands show off their musical talents at Battle of the Bar Bands Okanagan. \nWho will go home with the prestigious Battle of the Bar Bands Trophy? That’s the judges call to make. Enjoy the performances and cheer on your favourite band to help boost their chances. The top band won’t be the only winner! Purchase a 50/50 ticket during the event for the chance to win a cash prize. \nThe first band starts playing at 7:00pm\, so don’t be late! Bar service until 11:00pm. \nFri\, Apr 24 | Doors: 6:00pm | Metro Community Hub\, Kelowna (19+ event) \n$5 per individual ticket and $50 per table are allocated as a donation towards the CBA(BC) Benevolent Society for assisting lawyers and articling students in crisis.
URL:https://livemusickelowna.ca/event/battle-of-the-bar-bands-okanagan/
LOCATION:Metro Hub\, 1265 Ellis St\, Kelowna\, British Columbia\, V1Y 1Z7\, Canada
CATEGORIES:Mixed Genres,Rock
ATTACH;FMTTYPE=image/webp:https://livemusickelowna.ca/wp-content/uploads/2026/04/Lone-Performer-Backlight-1270x600-1.webp
END:VEVENT
BEGIN:VEVENT
DTSTART;TZID=America/Vancouver:20260424T190000
DTEND;TZID=America/Vancouver:20260424T190000
DTSTAMP:20260424T013059
CREATED:20260412T091717Z
LAST-MODIFIED:20260412T091717Z
UID:10026767-1777057200-1777057200@livemusickelowna.ca
SUMMARY:Kim Churchill
DESCRIPTION:$44.00 Per Person\nIncluding fees & charges \nKim Churchill embarks on the Canadian leg of ‘The Lovely Tour’ in the spring of 2026! Following the release of his latest album\, ‘It’s Lovely To Have You Here’\, Kim has been touring the globe on the Lovely Tour presenting the new songs alongside all peoples favorites from the past. Armed with his 3 campervans Kim travels across countries telling his stories and drawing people into the adventure of his nomadic and musical existence. Be prepared for a dazzling one-man band evening full of storytelling\, happy tears and psychedelic foot stomping blues!’
URL:https://livemusickelowna.ca/event/kim-churchill/
LOCATION:Creekside Theatre\, 10241 Bottom Wood Lake Rd\, Lake Country\, British Columbia\, V4V 1Y7\, Canada
CATEGORIES:Canadian,Mixed Genres
ATTACH;FMTTYPE=image/jpeg:https://livemusickelowna.ca/wp-content/uploads/2026/04/26-04-24-Kim-Churchill-Banner.jpg
END:VEVENT
BEGIN:VEVENT
DTSTART;TZID=America/Vancouver:20260424T190000
DTEND;TZID=America/Vancouver:20260424T200000
DTSTAMP:20260424T013059
CREATED:20260413T152654Z
LAST-MODIFIED:20260413T152654Z
UID:10026787-1777057200-1777060800@livemusickelowna.ca
SUMMARY:STRUNG OUT
DESCRIPTION:About the Event\n\n\nPromoter Presale: February 19 @ 10:00 AM PT\nOn Sale: February 20 @ 10:00 AM PT \nRe-entry is not permitted during ticketed events. Please note that once you exit the venue\, you will not be allowed back inside. \nMODO-LIVE & New Ground Booking presents… \nSTRUNG OUT \nw/ Special Guests Belvedere \nFriday\, April 24th\, 2026 \nRevelry \nKelowna\, BC
URL:https://livemusickelowna.ca/event/strung-out/
LOCATION:Revelry Food + Music Hub\, 1383 Ellis St\, Kelowna\, British Columbia\, V1Y 1Z9\, Canada
CATEGORIES:Folk,Mixed Genres,Rock
ATTACH;FMTTYPE=image/jpeg:https://livemusickelowna.ca/wp-content/uploads/2026/04/6CNxSQA8cblOg6iB-page_header_conversion-1.jpeg
END:VEVENT
BEGIN:VEVENT
DTSTART;TZID=America/Vancouver:20260424T190000
DTEND;TZID=America/Vancouver:20260424T210000
DTSTAMP:20260424T013059
CREATED:20260316T163005Z
LAST-MODIFIED:20260316T173701Z
UID:10026405-1777057200-1777064400@livemusickelowna.ca
SUMMARY:Live Music Fridays at Eldorado
DESCRIPTION:Join us weekly at Lakeside Dining for live music! Immerse yourself in an evening of great tunes and vibrant atmosphere.\nWhether you’re enjoying a cocktail with friends or a cozy dinner\, our live music sets the perfect backdrop for a memorable night. Don’t miss out on the fun—come and experience the best of local talent! \nWhere: Lakeside Dining Restaurant – Eldorado Lounge\, Boardwalk\, or Vintage Room\nWe can’t wait to see you there!
URL:https://livemusickelowna.ca/event/live-music-fridays-at-eldorado/2026-04-24/
LOCATION:Eldorado Lounge\, 3762 Lakeshore Rd.\, Kelowna\, British Columbia\, V1W 3G9\, Canada
CATEGORIES:Mixed Genres
ATTACH;FMTTYPE=image/jpeg:https://livemusickelowna.ca/wp-content/uploads/2026/03/live_music_fridays_a_150098_l.jpg
END:VEVENT
BEGIN:VEVENT
DTSTART;TZID=America/Vancouver:20260424T190000
DTEND;TZID=America/Vancouver:20260424T210000
DTSTAMP:20260424T013059
CREATED:20260329T052321Z
LAST-MODIFIED:20260329T052321Z
UID:10026624-1777057200-1777064400@livemusickelowna.ca
SUMMARY:Jeff Hansen
DESCRIPTION:His performances are upbeat and often include live looping for an added element of fun.
URL:https://livemusickelowna.ca/event/jeff-hansen-2/
LOCATION:Railside Brewing\, 1186 High Rd\, Kelowna\, BC\, V1Y 7B1\, Canada
CATEGORIES:Rock
ATTACH;FMTTYPE=image/jpeg:https://livemusickelowna.ca/wp-content/uploads/2025/09/Jeff-Hansen-1.jpg
END:VEVENT
BEGIN:VEVENT
DTSTART;TZID=America/Vancouver:20260424T190000
DTEND;TZID=America/Vancouver:20260424T210000
DTSTAMP:20260424T013059
CREATED:20260420T183153Z
LAST-MODIFIED:20260420T183153Z
UID:10026847-1777057200-1777064400@livemusickelowna.ca
SUMMARY:Guys and Dolls
DESCRIPTION:Luck be a Lady Tonight! \nHailed as the perfect musical comedy\, Guys & Dolls is a high-stakes hit packed with charm\, wit\, and one unforgettable score. Set in the stylized streets of Damon Runyon’s New York City\, this classic tale of gamblers\, showgirls\, and salvation rolls the dice on love—and delivers big. \nWhen slick gambler Nathan Detroit tries to secure a spot for his legendary floating craps game\, he bets fellow high-roller Sky Masterson that he can’t take a proper missionary\, Sarah Brown\, out on a date. What follows is a madcap ride from Times Square to Havana\, filled with romance\, hijinks\, and one showstopper after another. \nFeaturing Frank Loesser’s golden score—including hits like Luck Be a Lady and Sit Down\, You’re Rockin’ the Boat—Guys & Dolls is a toe-tapping\, heartwarming crowd-pleaser that proves when it comes to love… everyone’s got a shot.
URL:https://livemusickelowna.ca/event/guys-and-dolls/2026-04-24/
LOCATION:Kelowna Actors Studio\, 1379 Ellis St\, Kelowna\, British Columbia\, V1Y 1Z9\, Canada
CATEGORIES:Comedy
ATTACH;FMTTYPE=image/jpeg:https://livemusickelowna.ca/wp-content/uploads/2026/04/guys_and_dolls_150150_l.jpg
END:VEVENT
BEGIN:VEVENT
DTSTART;TZID=America/Vancouver:20260424T190000
DTEND;TZID=America/Vancouver:20260424T220000
DTSTAMP:20260424T013059
CREATED:20260302T042936Z
LAST-MODIFIED:20260302T042936Z
UID:10026108-1777057200-1777068000@livemusickelowna.ca
SUMMARY:Candlelight: Coldplay & Imagine Dragons
DESCRIPTION:⭐ Candlelight concerts bring the magic of a live\, multi-sensory musical experience to awe-inspiring locations like never seen before in Kelowna. Get your tickets now to discover the music of Coldplay & Imagine Dragons at The Laurel Packinghouse under the gentle glow of candlelight.\nGeneral Info\n📍 Venue: The Laurel Packinghouse\n📅 Dates and times: select your dates/times directly in the ticket selector\n⏳ Duration: 60 minutes. Doors open 30 minutes before the show. No entry once it starts.\n👤 Age recommendation: The experience is recommended for those who are 8+. To preserve the experience\, disruptive behaviour may result in being asked to step outside. Anyone under the age of 16 must be accompanied by an adult.\n♿ Accessibility: this venue is accessible for people with reduced mobility\n❓ View the FAQs for this event here\n🪑 Seating is assigned on a first come first served basis in each zone\n🕯️ If you would like to book a private concert or buy regular tickets for a large group (+30 people)\, click here\n🎻 Check out all the Candlelight concerts in Kelowna\n🎁 To treat your friends and family to a Candlelight gift card\, click here\nTentative Program \n\nColdplay – Clocks\nColdplay – Something Just Like This\nImagine Dragons – Radioactive\nColdplay – Adventure of a Lifetime\nColdplay – Fix You\nImagine Dragons – Natural\nImagine Dragons – Next to Me\nColdplay – The Scientist\nImagine Dragons – Follow You\nImagine Dragons – Bad Liar\nColdplay – Viva la Vida\nImagine Dragons – Believer\nColdplay – Sky Full of Stars\nColdplay – My Universe\n\nPerformers\nString Quartet: \n\n2 violins\n1 viola\n1 celloqu
URL:https://livemusickelowna.ca/event/candlelight-coldplay-imagine-dragons/2026-04-24/
LOCATION:Laurel Packing house\, 1304 Ellis St\, Kelowna\, British Columbia\, V1Y 1Z9\, Canada
CATEGORIES:Quartet
ATTACH;FMTTYPE=image/jpeg:https://livemusickelowna.ca/wp-content/uploads/2026/03/coldplay.jpg
END:VEVENT
BEGIN:VEVENT
DTSTART;TZID=America/Vancouver:20260424T190000
DTEND;TZID=America/Vancouver:20260424T220000
DTSTAMP:20260424T013059
CREATED:20260417T144507Z
LAST-MODIFIED:20260417T145730Z
UID:10026825-1777057200-1777068000@livemusickelowna.ca
SUMMARY:90s Hip Hop night in da pub
DESCRIPTION:90s Hip hop night in da pub. All music from vinyl records. 19+ . Free Entry. April 24th 7-10pm.
URL:https://livemusickelowna.ca/event/90s-hip-hop-night-in-da-pub/
LOCATION:Freddy’s Brewpub\, 948 McCurdy Rd #124\, Kelowna\, British Columbia\, V1X 2P7\, Canada
CATEGORIES:DJ Set
ATTACH;FMTTYPE=image/jpeg:https://livemusickelowna.ca/wp-content/uploads/2026/04/669664572_18387397219090510_1099608427071001337_n.jpg
END:VEVENT
BEGIN:VEVENT
DTSTART;TZID=America/Vancouver:20260424T190000
DTEND;TZID=America/Vancouver:20260424T230000
DTSTAMP:20260424T013059
CREATED:20260413T151101Z
LAST-MODIFIED:20260413T151101Z
UID:10026785-1777057200-1777071600@livemusickelowna.ca
SUMMARY:Battle of the Bands – Day 1
DESCRIPTION:Local talent. Live competition. One step closer to the main stage.\nBattle of the Bands is back for its second year at Red Bird Brewing — and the stakes are higher than ever. In partnership with the team behind Rock The Lake Music Festival at Prospera Place\, this two-night live music competition gives local artists a shot at performing on one of the region’s biggest festival stages. \nFollowing a packed and wildly competitive debut event last year\, Battle of the Bands returns April 24 and 25\, 2026\, bringing together some of the Okanagan’s most talented rock musicians. Each night\, selected bands will take the stage to perform in front of a live audience and a panel of judges\, all competing for a paid performance slot at Rock The Lake Music Festival this July. \nLast year’s competition proved just how deep Kelowna’s talent pool runs. With two standout winners crowned\, CrushXO and Lucky Monkey went on to open the Rock The Lake 2025 main stage — including performances ahead of Simple Plan and The Sheepdogs. This year’s event builds on that momentum\, moving to Red Bird Brewing’s outdoor stage to welcome even more fans and elevate the experience. \nWinners will be determined through a combination of audience participation and judge scoring\, making every cheer\, vote\, and moment in the crowd count. Whether you’re there to support a friend\, discover a new favourite band\, or help decide who earns their place on the Rock The Lake lineup\, Battle of the Bands is your chance to be part of the journey. \nJoin us for two nights of high-energy performances\, local pride\, and the thrill of live competition — all for just $10 per night.
URL:https://livemusickelowna.ca/event/battle-of-the-bands-day-1/
LOCATION:Red Bird Brewing\, 1080 Richter S\, Kelowna\, British Columbia\, V1Y 2K5\, Canada
CATEGORIES:Rock
ATTACH;FMTTYPE=image/webp:https://livemusickelowna.ca/wp-content/uploads/2026/04/1050-x-750-Battle-of-Bands.webp
END:VEVENT
BEGIN:VEVENT
DTSTART;TZID=America/Vancouver:20260424T193000
DTEND;TZID=America/Vancouver:20260424T220000
DTSTAMP:20260424T013059
CREATED:20260326T150334Z
LAST-MODIFIED:20260326T150334Z
UID:10026618-1777059000-1777068000@livemusickelowna.ca
SUMMARY:Pharis and Jason Romero in Concert
DESCRIPTION:No performers dominated the Juno Traditional Album of the Year over the past decade like the pride of Horsefly\, BC. Pharis and Jason Romero picked up an unprecedented four awards for their triumphant\, seamless\, heart-warming blend of classic folk\, vintage country\, acoustic blues and old-time tunes. And deservedly so\, too. As husband and wife\, they make a formidable team. She writes many of their ridiculously adorable songs and he adds the instrumental muscle mostly on his celebrated banjos. The likes of Ricky Scaggs\, Martin Simpson\, and Jerry Douglas all own Romero banjos. It’s been nine years since Pharis and Jason played for the Kelowna Folk Roots Music Society\, so don’t miss out on this rare opportunity!
URL:https://livemusickelowna.ca/event/pharis-and-jason-romero-in-concert/
LOCATION:Unitarian Hall\, 1310 Bertram Street\, Kelowna\, British Columbia\, Canada
CATEGORIES:Folk
ATTACH;FMTTYPE=image/jpeg:https://livemusickelowna.ca/wp-content/uploads/2026/03/romeros.jpg
END:VEVENT
BEGIN:VEVENT
DTSTART;TZID=America/Vancouver:20260424T200000
DTEND;TZID=America/Vancouver:20260424T220000
DTSTAMP:20260424T013059
CREATED:20260420T170756Z
LAST-MODIFIED:20260420T170811Z
UID:10026831-1777060800-1777068000@livemusickelowna.ca
SUMMARY:Funkin' Donuts
DESCRIPTION:Join us for a Funkin DOUBLE HEADER! Funkin’ Donuts will be dancing and grooving for two nights at the Dunnenzies in the Mission. \nFunkin’ Donuts is playing a double header at the Mission Dunnenzies! You’ve got two great options to join us for a night of groovin’ funk with shows on April 24 and 25. \nBuying your ticket here will get you access to the Saturday night show on April 25
URL:https://livemusickelowna.ca/event/funkin-donuts/2026-04-24/
LOCATION:DunnEnzies Mission\, 4638 Lakeshore Road\, Kelowna\, Canada
CATEGORIES:Funk
ATTACH;FMTTYPE=image/webp:https://livemusickelowna.ca/wp-content/uploads/2026/04/image-4.webp
END:VEVENT
BEGIN:VEVENT
DTSTART;TZID=America/Vancouver:20260424T203000
DTEND;TZID=America/Vancouver:20260424T223000
DTSTAMP:20260424T013059
CREATED:20260420T172508Z
LAST-MODIFIED:20260420T172519Z
UID:10026835-1777062600-1777069800@livemusickelowna.ca
SUMMARY:Meghan Patrick - GOLDEN CHILD TOUR
DESCRIPTION:Tickets ON SALE – Thursday\, January 29\, 2026 at 9:00am!\nOntario native\, Nashville-based singer-songwriter Meghan Patrick blends her tough-as-nails exterior with a casual\, cool narrative\, showing the world that women can be sexy\, strong\, and gritty. A back-to-back CCMA Female Artist of the Year with 19 CMAOntario Awards\, Patrick’s latest album\, Golden Child\, peels back the layers of her journey through self-reflection and a deeper sense of authenticity. The title track hit the top 10 on Canadian Country Radio and continues to climb into the top 30 on US Country Radio. Her versatility and powerful storytelling set her apart as one of country music’s most compelling voices.
URL:https://livemusickelowna.ca/event/meghan-patrick-golden-child-tour/
LOCATION:OK Corral Cabaret\, 1978 Kirschner Rd\, Kelowna\, British Columbia\, V1Y 4N6\, Canada
CATEGORIES:Country
ATTACH;FMTTYPE=image/jpeg:https://livemusickelowna.ca/wp-content/uploads/2026/04/624567031_1567841654728076_274147297070022111_n.jpg
END:VEVENT
BEGIN:VEVENT
DTSTART;TZID=America/Vancouver:20260424T210000
DTEND;TZID=America/Vancouver:20260424T223000
DTSTAMP:20260424T013059
CREATED:20260222T193224Z
LAST-MODIFIED:20260222T193224Z
UID:10026057-1777064400-1777069800@livemusickelowna.ca
SUMMARY:Candlelight: Tribute to ABBA
DESCRIPTION:⭐ Candlelight concerts bring the magic of a live\, multi-sensory musical experience to awe-inspiring locations like never seen before in Kelowna. Get your tickets now to discover the music of ABBA at The Laurel Packinghouse under the gentle glow of candlelight.\nGeneral Info\n📍 Venue: The Laurel Packinghouse\n📅 Dates and times: select your dates/times directly in the ticket selector\n⏳ Duration: 60 minutes. Doors open 30 minutes before the show. No entry once it starts.\n👤 Age recommendation: The experience is recommended for those who are 8+. To preserve the experience\, disruptive behaviour may result in being asked to step outside. Anyone under the age of 16 must be accompanied by an adult.\n♿ Accessibility: this venue is accessible for people with reduced mobility\n❓ View the FAQs for this event here\n🪑 Seating is assigned on a first come first served basis in each zone\n🕯️ If you would like to book a private concert or buy regular tickets for a large group (+30 people)\, click here\n🎻 Check out all the Candlelight concerts in Kelowna\n🎁 To treat your friends and family to a Candlelight gift card\, click here\nTentative Program \n\n“Dancing Queen”\n“SOS”\n“Money\, Money\, Money”\n“The Winner Takes It All”\n“Voulez-Vous”\n“Angeleyes”\n“Waterloo”\n“Fernando”\n“Knowing Me\, Knowing You”\n“Chiquitita”\n“Lay All Your Love on Me”\n“The Name of the Game”\n“Super Trouper”\n“Mamma Mia”\n\nPerformers\nString Quartet: \n\n2 violins\n1 viola\n1 cello
URL:https://livemusickelowna.ca/event/candlelight-tribute-to-abba/2026-04-24/
LOCATION:Laurel Packing house\, 1304 Ellis St\, Kelowna\, British Columbia\, V1Y 1Z9\, Canada
CATEGORIES:Quartet
ATTACH;FMTTYPE=image/jpeg:https://livemusickelowna.ca/wp-content/uploads/2026/02/candle-light.jpg
END:VEVENT
BEGIN:VEVENT
DTSTART;TZID=America/Vancouver:20260424T210000
DTEND;TZID=America/Vancouver:20260424T235900
DTSTAMP:20260424T013059
CREATED:20260306T160452Z
LAST-MODIFIED:20260306T163323Z
UID:10026173-1777064400-1777075140@livemusickelowna.ca
SUMMARY:Cobra Radio @ Blue Gator
DESCRIPTION:Doors open at 8pm\, band starts at 915pm till 1am \n5 Piece Cover Band from Penticton\, BC. Classic and Modern Rock. Party with us.
URL:https://livemusickelowna.ca/event/cobra-radio-blue-gator/2026-04-24/
LOCATION:Blue Gator Bar & Grill\, 441 Lawrence Ave\, Kelowna\, British Columbia\, V1Y 6L5\, Canada
CATEGORIES:Classic Rock,Rock
ATTACH;FMTTYPE=image/jpeg:https://livemusickelowna.ca/wp-content/uploads/2025/03/Cobra-Radio.jpg
END:VEVENT
BEGIN:VEVENT
DTSTART;TZID=America/Vancouver:20260424T213000
DTEND;TZID=America/Vancouver:20260424T213000
DTSTAMP:20260424T013059
CREATED:20260413T143937Z
LAST-MODIFIED:20260413T143937Z
UID:10026778-1777066200-1777066200@livemusickelowna.ca
SUMMARY:Get Chico
DESCRIPTION:Kelownas 4pc Rock band! Live this weekend!\ngetchicoband@gmail.com
URL:https://livemusickelowna.ca/event/get-chico/
LOCATION:O’Flannigan’s Pub\, 319 Queensway\, Kelowna\, British Columbia\, V1Y 8E6\, Canada
CATEGORIES:Mixed Genres,Pop,Rock
ATTACH;FMTTYPE=image/jpeg:https://livemusickelowna.ca/wp-content/uploads/2026/04/4638a5bc491023a01a90cd198d18c119_md.jpg
END:VEVENT
END:VCALENDAR