BEGIN:VCALENDAR
VERSION:2.0
PRODID:-//Live Music Kelowna - ECPv6.15.20//NONSGML v1.0//EN
CALSCALE:GREGORIAN
METHOD:PUBLISH
X-WR-CALNAME:Live Music Kelowna
X-ORIGINAL-URL:https://livemusickelowna.ca
X-WR-CALDESC:Events for Live Music Kelowna
REFRESH-INTERVAL;VALUE=DURATION:PT1H
X-Robots-Tag:noindex
X-PUBLISHED-TTL:PT1H
BEGIN:VTIMEZONE
TZID:America/Vancouver
BEGIN:DAYLIGHT
TZOFFSETFROM:-0800
TZOFFSETTO:-0700
TZNAME:PDT
DTSTART:20250309T100000
END:DAYLIGHT
BEGIN:STANDARD
TZOFFSETFROM:-0700
TZOFFSETTO:-0800
TZNAME:PST
DTSTART:20251102T090000
END:STANDARD
BEGIN:DAYLIGHT
TZOFFSETFROM:-0800
TZOFFSETTO:-0700
TZNAME:PDT
DTSTART:20260308T100000
END:DAYLIGHT
BEGIN:STANDARD
TZOFFSETFROM:-0700
TZOFFSETTO:-0800
TZNAME:PST
DTSTART:20261101T090000
END:STANDARD
BEGIN:DAYLIGHT
TZOFFSETFROM:-0800
TZOFFSETTO:-0700
TZNAME:PDT
DTSTART:20270314T100000
END:DAYLIGHT
BEGIN:STANDARD
TZOFFSETFROM:-0700
TZOFFSETTO:-0800
TZNAME:PST
DTSTART:20271107T090000
END:STANDARD
END:VTIMEZONE
BEGIN:VEVENT
DTSTART;TZID=America/Vancouver:20260422T180000
DTEND;TZID=America/Vancouver:20260422T200000
DTSTAMP:20260422T012700
CREATED:20260126T194129Z
LAST-MODIFIED:20260126T194129Z
UID:10025730-1776880800-1776888000@livemusickelowna.ca
SUMMARY:Wine & Song Nights
DESCRIPTION:Enjoy 50% off bottles of wine all night at Maestro’s Mediterranean every Wednesday\, as live music plays from 6:00pm-8:00pm. Check out Okanagan talent and enjoy every sip at Maestro’s Wine & Song!
URL:https://livemusickelowna.ca/event/wine-song-nights/2026-04-22/
LOCATION:Maestro’s Mediterranean Restaurant\, 3762 Lakeshore Rd\, Kelowna\, British Columbia\, Canada
CATEGORIES:Mixed Genres
ATTACH;FMTTYPE=image/jpeg:https://livemusickelowna.ca/wp-content/uploads/2026/01/maestros-2-1024x683-1.jpg
END:VEVENT
BEGIN:VEVENT
DTSTART;TZID=America/Vancouver:20260422T180000
DTEND;TZID=America/Vancouver:20260422T200000
DTSTAMP:20260422T012700
CREATED:20260412T111907Z
LAST-MODIFIED:20260412T111907Z
UID:10026771-1776880800-1776888000@livemusickelowna.ca
SUMMARY:Wing Wednesday with Michelle & Kent
DESCRIPTION:Join us for our smoked wings & live music!\n1 lb of our smoked chicken wings\, three flavors available (plain\, BBQ\, & hot) with a side of our pickled veg and our house made Alabama white sauce.\nLive Music with Michelle & Kent from 6-8pm\nNo tickets necessary – just make a reservation to secure your spot!\n\n\n\nJoin us for our smoked wings & live music!\n1 lb of our smoked chicken wings\, three flavors available (plain\, BBQ\, & hot) with a side of our pickled veg and our house made Alabama white sauce.\nLive Music with Michelle & Kent from 6-8pm\nNo tickets necessary – just make a reservation to secure your spot!\n\n\n\n\n\n\n\n\nWhen\n\n\nWednesday\, April 22 UTC-7
URL:https://livemusickelowna.ca/event/wing-wednesday-with-michelle-kent/
LOCATION:Hatching Post Brewery\, 2850 Boucherie Rd\, West Kelowna\, British Columbia\, V1Z 2G5\, Canada
CATEGORIES:Blues,Jazz,Mixed Genres,Rock
ATTACH;FMTTYPE=image/png:https://livemusickelowna.ca/wp-content/uploads/2026/04/Wings-Edited-Darker-1-scaled.png
END:VEVENT
BEGIN:VEVENT
DTSTART;TZID=America/Vancouver:20260422T183000
DTEND;TZID=America/Vancouver:20260422T200000
DTSTAMP:20260422T012700
CREATED:20260413T150241Z
LAST-MODIFIED:20260413T150241Z
UID:10026782-1776882600-1776888000@livemusickelowna.ca
SUMMARY:Jeff Johnson
DESCRIPTION:Jeff Johnson is a Canadian Country Music Association award-winning producer of the year\, Juno-nominated producer and songwriter of the year and a multiple British Columbia Country Music Association award winner\, including 5-time producer of the year and one-time songwriter of the year. \nJeff has co-written and produced two number #1 albums\, a gold-selling album and a gold-selling single in country and pop. Jeff has worked with the likes of Dallas Smith\, George Canyon\, Joey Moi\, Faber Drive\, Jet Black Stare\, Meghan Patrick\, Chris Buck Band\, Tyler Joe Miller and many others. \nStill not convinced? Stop by The Barn and see what’s to love!
URL:https://livemusickelowna.ca/event/jeff-johnson/
LOCATION:Barn Owl Brewing\, 4629 Lakeshore Road\, Kelowna\, Kelowna\, British Columbia\, V1W 1X3\, Canada
CATEGORIES:Country,Singer/Songwriter
ATTACH;FMTTYPE=image/jpeg:https://livemusickelowna.ca/wp-content/uploads/2026/04/unnamed.jpg
END:VEVENT
BEGIN:VEVENT
DTSTART;TZID=America/Vancouver:20260422T190000
DTEND;TZID=America/Vancouver:20260422T210000
DTSTAMP:20260422T012700
CREATED:20260420T183153Z
LAST-MODIFIED:20260420T183153Z
UID:10026845-1776884400-1776891600@livemusickelowna.ca
SUMMARY:Guys and Dolls
DESCRIPTION:Luck be a Lady Tonight! \nHailed as the perfect musical comedy\, Guys & Dolls is a high-stakes hit packed with charm\, wit\, and one unforgettable score. Set in the stylized streets of Damon Runyon’s New York City\, this classic tale of gamblers\, showgirls\, and salvation rolls the dice on love—and delivers big. \nWhen slick gambler Nathan Detroit tries to secure a spot for his legendary floating craps game\, he bets fellow high-roller Sky Masterson that he can’t take a proper missionary\, Sarah Brown\, out on a date. What follows is a madcap ride from Times Square to Havana\, filled with romance\, hijinks\, and one showstopper after another. \nFeaturing Frank Loesser’s golden score—including hits like Luck Be a Lady and Sit Down\, You’re Rockin’ the Boat—Guys & Dolls is a toe-tapping\, heartwarming crowd-pleaser that proves when it comes to love… everyone’s got a shot.
URL:https://livemusickelowna.ca/event/guys-and-dolls/2026-04-22/
LOCATION:Kelowna Actors Studio\, 1379 Ellis St\, Kelowna\, British Columbia\, V1Y 1Z9\, Canada
CATEGORIES:Comedy
ATTACH;FMTTYPE=image/jpeg:https://livemusickelowna.ca/wp-content/uploads/2026/04/guys_and_dolls_150150_l.jpg
END:VEVENT
BEGIN:VEVENT
DTSTART;TZID=America/Vancouver:20260422T190000
DTEND;TZID=America/Vancouver:20260422T213000
DTSTAMP:20260422T012700
CREATED:20260406T154254Z
LAST-MODIFIED:20260406T154254Z
UID:10026735-1776884400-1776893400@livemusickelowna.ca
SUMMARY:Michael Averill
DESCRIPTION:Under the Amber Lights returns ✨ \nWednesday\, April 22 from 7–9pm\, Michael Averill will be playing live at Vice & Virtue for an intimate night of music. \nAn adventurous Canadian troubadour\, Michael blends folk\, roots\, and blues with a performance style that’s both engaging and unpredictable. His sound is shaped by years on the road\, including a 4\,000 mile walking tour across Canada\, bringing a sense of story and experience into every set. \nFrom gritty slide guitar to lighthearted\, easygoing moments\, his music moves effortlessly and keeps the room with him the whole way through 🤎
URL:https://livemusickelowna.ca/event/michael-averill/
LOCATION:Vice & Virtue Brewing\, 1033 Richter St\, Kelowna\, BC\, Canada
CATEGORIES:Folk,Roots
ATTACH;FMTTYPE=image/jpeg:https://livemusickelowna.ca/wp-content/uploads/2026/04/Michael-Averill.jpg
END:VEVENT
BEGIN:VEVENT
DTSTART;TZID=America/Vancouver:20260422T190000
DTEND;TZID=America/Vancouver:20260422T220000
DTSTAMP:20260422T012700
CREATED:20260309T162432Z
LAST-MODIFIED:20260309T162446Z
UID:10026210-1776884400-1776895200@livemusickelowna.ca
SUMMARY:Open Mic @ Shoreline
DESCRIPTION:
URL:https://livemusickelowna.ca/event/open-mic-shoreline/2026-04-22/
LOCATION:Shore Line Brewing Co.\, 3477 Lakeshore Rd #116\, Kelowna\, British Columbia\, V1W 0A9\, Canada
CATEGORIES:Open Mic
ATTACH;FMTTYPE=image/jpeg:https://livemusickelowna.ca/wp-content/uploads/2026/03/openmic1.jpg
END:VEVENT
BEGIN:VEVENT
DTSTART;TZID=America/Vancouver:20260422T210000
DTEND;TZID=America/Vancouver:20260422T230000
DTSTAMP:20260422T012700
CREATED:20241007T014142Z
LAST-MODIFIED:20241007T014142Z
UID:10018682-1776891600-1776898800@livemusickelowna.ca
SUMMARY:Karaoke
DESCRIPTION:Monday and Wednesday nights is Karaoke Madness at O’Flannigan’s Pub. Choose your song\, sign up and show us how you to can sing like a Rockstar!
URL:https://livemusickelowna.ca/event/karaoke-3/2026-04-22/
LOCATION:O’Flannigan’s Pub\, 319 Queensway\, Kelowna\, British Columbia\, V1Y 8E6\, Canada
CATEGORIES:Karaoke
ATTACH;FMTTYPE=image/png:https://livemusickelowna.ca/wp-content/uploads/2024/10/Screenshot-2024-10-06-9.41.04-PM.png
END:VEVENT
END:VCALENDAR