BEGIN:VCALENDAR
VERSION:2.0
PRODID:-//Live Music Kelowna - ECPv6.15.18//NONSGML v1.0//EN
CALSCALE:GREGORIAN
METHOD:PUBLISH
X-WR-CALNAME:Live Music Kelowna
X-ORIGINAL-URL:https://livemusickelowna.ca
X-WR-CALDESC:Events for Live Music Kelowna
REFRESH-INTERVAL;VALUE=DURATION:PT1H
X-Robots-Tag:noindex
X-PUBLISHED-TTL:PT1H
BEGIN:VTIMEZONE
TZID:America/Vancouver
BEGIN:DAYLIGHT
TZOFFSETFROM:-0800
TZOFFSETTO:-0700
TZNAME:PDT
DTSTART:20250309T100000
END:DAYLIGHT
BEGIN:STANDARD
TZOFFSETFROM:-0700
TZOFFSETTO:-0800
TZNAME:PST
DTSTART:20251102T090000
END:STANDARD
BEGIN:DAYLIGHT
TZOFFSETFROM:-0800
TZOFFSETTO:-0700
TZNAME:PDT
DTSTART:20260308T100000
END:DAYLIGHT
BEGIN:STANDARD
TZOFFSETFROM:-0700
TZOFFSETTO:-0800
TZNAME:PST
DTSTART:20261101T090000
END:STANDARD
BEGIN:DAYLIGHT
TZOFFSETFROM:-0800
TZOFFSETTO:-0700
TZNAME:PDT
DTSTART:20270314T100000
END:DAYLIGHT
BEGIN:STANDARD
TZOFFSETFROM:-0700
TZOFFSETTO:-0800
TZNAME:PST
DTSTART:20271107T090000
END:STANDARD
END:VTIMEZONE
BEGIN:VEVENT
DTSTART;TZID=America/Vancouver:20260420T170000
DTEND;TZID=America/Vancouver:20260420T190000
DTSTAMP:20260420T022640
CREATED:20260413T165849Z
LAST-MODIFIED:20260413T170230Z
UID:10026796-1776704400-1776711600@livemusickelowna.ca
SUMMARY:Member Lounge Live Music Series
DESCRIPTION:This April\, we are turning up the volume in the Member Lounge with the return of our Member Lounge Live Music Series! Join us in the Member Lounge for 4 evenings of live music featuring new bands not currently on our roster. Each performance is an opportunity to experience something different and let us know what you think. Your feedback directly helps guide future bookings.\n𝐃𝐚𝐭𝐞𝐬: Monday\, April 13 & Tuesday\, April 14 | Monday\, April 20 & Tuesday\, April 21𝐓𝐢𝐦𝐞: 5:00 – 7:00 PM𝐋𝐨𝐜𝐚𝐭𝐢𝐨𝐧: Member Lounge𝐏𝐞𝐫𝐟𝐨𝐫𝐦𝐚𝐧𝐜𝐞 𝐒𝐜𝐡𝐞𝐝𝐮𝐥𝐞:April 13: Cadillac Jack & The Blue TonesApril 14: Chick Jagger & The Rolling TonesApril 20: James Hay Blues BandApril 21: Gin Morgan\nFor more information\, please visit: https://kelownayachtclub.com/…/member-lounge-live…/~~~Kindly note that this experience is open to Kelowna Yacht Club members\, their guests & reciprocals. If you are interested in Membership\, more information can be found here: https://kelownayachtclub.com/membership
URL:https://livemusickelowna.ca/event/35280/2026-04-20/
LOCATION:Kelowna Yacht Club\, 1370 Water St #1\, Kelowna\, British Columbia\, V1Y 1J1\, Canada
CATEGORIES:Mixed Genres
ATTACH;FMTTYPE=image/jpeg:https://livemusickelowna.ca/wp-content/uploads/2026/04/649181366_1492901512841161_9042216323076159536_n.jpg
END:VEVENT
BEGIN:VEVENT
DTSTART;TZID=America/Vancouver:20260420T180000
DTEND;TZID=America/Vancouver:20260420T210000
DTSTAMP:20260420T022640
CREATED:20260323T170051Z
LAST-MODIFIED:20260323T170129Z
UID:10026563-1776708000-1776718800@livemusickelowna.ca
SUMMARY:MUSIC MONDAYS
DESCRIPTION:Every Monday night from 6-9pm! \n– open mic\n– bring your own instruments (house drums and base guitar available)\n– industry discount on bevys!\n– free live music
URL:https://livemusickelowna.ca/event/music-mondays/2026-04-20/
LOCATION:Unleashed Brewing Company\, 880 Clement Ave #207\, Kelowna\, BC\, V1Y 0H8\, Canada
CATEGORIES:Mixed Genres,Open Mic
ATTACH;FMTTYPE=image/jpeg:https://livemusickelowna.ca/wp-content/uploads/2026/03/music-monday.jpg
END:VEVENT
BEGIN:VEVENT
DTSTART;TZID=America/Vancouver:20260420T180000
DTEND;TZID=America/Vancouver:20260420T210000
DTSTAMP:20260420T022640
CREATED:20260402T211653Z
LAST-MODIFIED:20260413T183120Z
UID:10026686-1776708000-1776718800@livemusickelowna.ca
SUMMARY:Open Mic
DESCRIPTION:Open mic every Monday night 6-9pm at AesthetiKsLAB. 436 Bernard Avenue
URL:https://livemusickelowna.ca/event/open-mic-4/2026-04-20/
LOCATION:AesthetiKs Lab\, 436 Bernard Ave\, Kelowna\, V1Y 6N7
CATEGORIES:Open Mic
ATTACH;FMTTYPE=image/jpeg:https://livemusickelowna.ca/wp-content/uploads/2026/04/openmic.jpg
END:VEVENT
BEGIN:VEVENT
DTSTART;TZID=America/Vancouver:20260420T190000
DTEND;TZID=America/Vancouver:20260420T210000
DTSTAMP:20260420T022640
CREATED:20260401T025518Z
LAST-MODIFIED:20260401T025518Z
UID:10026680-1776711600-1776718800@livemusickelowna.ca
SUMMARY:Corey Moore +  Eva-Louise + Ben Klick @ KBI
DESCRIPTION:
URL:https://livemusickelowna.ca/event/corey-moore-eva-louise-ben-klick-kbi/
LOCATION:Kelowna Beer Institute\, 1346 Water Street\, Kelowna\, BC\, V1Y 9P3\, Canada
CATEGORIES:Acoustic,Mixed Genres,Singer/Songwriter
ATTACH;FMTTYPE=image/png:https://livemusickelowna.ca/wp-content/uploads/2026/03/image0.png
END:VEVENT
BEGIN:VEVENT
DTSTART;TZID=America/Vancouver:20260420T200000
DTEND;TZID=America/Vancouver:20260420T200000
DTSTAMP:20260420T022640
CREATED:20260413T094324Z
LAST-MODIFIED:20260413T094324Z
UID:10026775-1776715200-1776715200@livemusickelowna.ca
SUMMARY:LEITH ROSS
DESCRIPTION:I Can See the Future Tour\nwith special guest Wyatt C. Louis \nThis show is SOLD OUT! Click here to join the waitlist. \nHailing from a small town near Ottawa\, Ontario\, singer-songwriter Leith Ross (they/them) channels their honest and emotional storytelling through introspective lyrics and a blend of indie folk with alternative and rock sounds. \nIn 2020\, they first introduced their artistry and independently released their debut Motherwell EP. Recorded live\, it received widespread praise from tastemakers and fans alike. They continued to evolve with their viral singles “I’d Have To Think About It” and “We’ll Never Have Sex\,” while also maintaining their momentum with a rising social presence. Signing to Republic Records in 2022 lead to their long awaited debut album To Learn the following year. As with all of their music\, the songs on To Learn are deeply personal and take them to vulnerable places\, exploring themes like queerness\, love\, relationships\, and mental health and rendered in folk-adjacent tones—sometimes with a pop beat or a rock riff\, sometimes with just their voice and their guitar alone. \nClosing out 2023\, they unveiled the deluxe version To Learn\, More\, including live versions of fan favorites “(You) On My Arm\,” “Orlando\,” and “To Learn.” Critical acclaim followed from the likes of NME\, CLASH\, Them.\, Ones To Watch\, and The FADER\, who hailed them as “your new obsession.” Beyond tours with Lord Huron\, Bahamas\, and Helena Deland\, they sold out headline shows worldwide\, performed at festivals across North America\, and received the inaugural “John Prine Songwriter Fellowship” at 2022’s Newport Folk Festival and a nomination for “Alternative Album of the Year” at 2024’s Juno Awards. Now\, with over 450 million streams across their catalogue to date\, they return with the new emotionally charged single “Grieving\,” heralding a highly anticipated new album helmed by hit producer Rostam (Vampire Weekend). \nWalking the line between genres like an easy path rather than a tightrope\, carried by textural and ethereal songs lifted up by stunning vocals\,  Wyatt C. Louis’ debut album Chandler refers to simply their middle name. Louis (they/he)\, a Plains Cree singer-songwriter born and raised in parts of Treaty Six\, now lives in Moh’kinstsís (Blackfoot name for Calgary) and lets that amalgamation of place shine through on these tracks\, some of which came to life in the quiet and contemplative days of deep pandemic lockdown. Out via Royal Mountain Records\, Chandler is suffused with a soft comfort that glows with feelings of familiarity and ease. Louis found levity through collaboration. A new experience\, the result is upbeat yet cozy\, the kind of songs that show off Louis’ contradictions of paying homage to the country music ingrained in the geography of their childhood\, with an indie and roots spin that makes it something different. \nPricing\nTier 1 $60.21 ($50.00 base price + $2.36 CIF + $7.85 service charge)\nTier 2 $42.96 ($35.00 base price + $2.36 CIF + $5.60 service charge) \nAll above prices are in CAD and include GST. \n— \nMary Irwin Theatre at the Rotary Centre for the Arts event tickets include a $2.36 Capital Improvement Fee (CIF). A service fee is added for box office costs\, card processing\, and taxes. Leith Ross tickets and their applicable fees are non-refundable.
URL:https://livemusickelowna.ca/event/leith-ross/
LOCATION:Rotary Centre for the Arts\, 421 Cawston Ave\, Kelowna\, BC\, V1Y 6Z1\, Canada
CATEGORIES:Folk,Rock,Singer/Songwriter
ATTACH;FMTTYPE=image/jpeg:https://livemusickelowna.ca/wp-content/uploads/2026/04/4cfdd0e1-107c-482f-ac45-f102cfce72d2.jpg
END:VEVENT
BEGIN:VEVENT
DTSTART;TZID=America/Vancouver:20260420T210000
DTEND;TZID=America/Vancouver:20260420T230000
DTSTAMP:20260420T022640
CREATED:20241007T014142Z
LAST-MODIFIED:20241007T014142Z
UID:10018681-1776718800-1776726000@livemusickelowna.ca
SUMMARY:Karaoke
DESCRIPTION:Monday and Wednesday nights is Karaoke Madness at O’Flannigan’s Pub. Choose your song\, sign up and show us how you to can sing like a Rockstar!
URL:https://livemusickelowna.ca/event/karaoke-3/2026-04-20/
LOCATION:O’Flannigan’s Pub\, 319 Queensway\, Kelowna\, British Columbia\, V1Y 8E6\, Canada
CATEGORIES:Karaoke
ATTACH;FMTTYPE=image/png:https://livemusickelowna.ca/wp-content/uploads/2024/10/Screenshot-2024-10-06-9.41.04-PM.png
END:VEVENT
END:VCALENDAR