BEGIN:VCALENDAR
VERSION:2.0
PRODID:-//Live Music Kelowna - ECPv6.15.18//NONSGML v1.0//EN
CALSCALE:GREGORIAN
METHOD:PUBLISH
X-WR-CALNAME:Live Music Kelowna
X-ORIGINAL-URL:https://livemusickelowna.ca
X-WR-CALDESC:Events for Live Music Kelowna
REFRESH-INTERVAL;VALUE=DURATION:PT1H
X-Robots-Tag:noindex
X-PUBLISHED-TTL:PT1H
BEGIN:VTIMEZONE
TZID:America/Vancouver
BEGIN:DAYLIGHT
TZOFFSETFROM:-0800
TZOFFSETTO:-0700
TZNAME:PDT
DTSTART:20250309T100000
END:DAYLIGHT
BEGIN:STANDARD
TZOFFSETFROM:-0700
TZOFFSETTO:-0800
TZNAME:PST
DTSTART:20251102T090000
END:STANDARD
BEGIN:DAYLIGHT
TZOFFSETFROM:-0800
TZOFFSETTO:-0700
TZNAME:PDT
DTSTART:20260308T100000
END:DAYLIGHT
BEGIN:STANDARD
TZOFFSETFROM:-0700
TZOFFSETTO:-0800
TZNAME:PST
DTSTART:20261101T090000
END:STANDARD
BEGIN:DAYLIGHT
TZOFFSETFROM:-0800
TZOFFSETTO:-0700
TZNAME:PDT
DTSTART:20270314T100000
END:DAYLIGHT
BEGIN:STANDARD
TZOFFSETFROM:-0700
TZOFFSETTO:-0800
TZNAME:PST
DTSTART:20271107T090000
END:STANDARD
END:VTIMEZONE
BEGIN:VEVENT
DTSTART;TZID=America/Vancouver:20260416T090000
DTEND;TZID=America/Vancouver:20260416T210000
DTSTAMP:20260420T021333
CREATED:20260405T104447Z
LAST-MODIFIED:20260413T170432Z
UID:10026711-1776330000-1776373200@livemusickelowna.ca
SUMMARY:BC Interior Jazz Festival
DESCRIPTION:The BC Interior Jazz Festival hosts Jazz Band and Vocal Jazz adjudicated performances at the Kelowna Community Theatre on Thursday\, Friday and Saturday. The public is welcome to all daily adjudicated performances. \nThere is a day pass for KCT performances available to purchase on the KCT box office website as well as in the lobby for $10. Festival participants get in free. A schedule of all group performances is posted on www.bcinteriorjazzfestival.comopen_in_new. \nPricing\nGeneral Seating $10.00 ($6.64 base price + $2.36 CIF + $1.00 service charge) \nAll above prices are in CAD and include GST. \n— \nKelowna Community Theatre event tickets include a $2.25 Capital Improvement Fee (CIF) and 5% GST. A service fee is added for box office costs\, card processing\, and taxes. BCIJF Daytime Performances tickets and service fees are non-refundable.
URL:https://livemusickelowna.ca/event/bc-interior-jazz-festival/2026-04-16/
LOCATION:Kelowna Community Theatre\, 1375 Water St\, Kelowna\, British Columbia\, V1Y 0B4\, Canada
CATEGORIES:Jazz
ATTACH;FMTTYPE=image/jpeg:https://livemusickelowna.ca/wp-content/uploads/2026/04/b5c7670b-86e8-4e80-8709-db7642d21edd.jpg
END:VEVENT
BEGIN:VEVENT
DTSTART;TZID=America/Vancouver:20260416T180000
DTEND;TZID=America/Vancouver:20260416T223000
DTSTAMP:20260420T021333
CREATED:20260413T164104Z
LAST-MODIFIED:20260413T164104Z
UID:10026793-1776362400-1776378600@livemusickelowna.ca
SUMMARY:Cancer Bats w/ Anciients\, Teeth\, Chastity
DESCRIPTION:CANCER BATS – CELEBRATING 20 YEARS OF BIRTHING THE GIANT \n\n\n\n\nPresented by Ollie North Productions \n\n\n\n\n\n\n\n\n\n\n\n\n\n\n\n\n\n\n\n\n\n\n\n\n\n\n\n\n\n\n\n\n\n\n\n\n\n\n\nOllie North Productions aims to create a safe event for ALL.
URL:https://livemusickelowna.ca/event/cancer-bats-w-anciients-teeth-chastity/
LOCATION:Metro Hub\, 1265 Ellis St\, Kelowna\, British Columbia\, V1Y 1Z7\, Canada
CATEGORIES:Hardcore,Punk
ATTACH;FMTTYPE=image/webp:https://livemusickelowna.ca/wp-content/uploads/2026/04/image-2.webp
END:VEVENT
BEGIN:VEVENT
DTSTART;TZID=America/Vancouver:20260416T190000
DTEND;TZID=America/Vancouver:20260416T203000
DTSTAMP:20260420T021333
CREATED:20260413T175611Z
LAST-MODIFIED:20260413T175611Z
UID:10026809-1776366000-1776371400@livemusickelowna.ca
SUMMARY:Jacob Brodovsky and Dominique Adams
DESCRIPTION:House concert at Blind Rooster Berry Farm featuring Winnipeg folk singers Jacob Brodovsky and Dominique Adams. More detailed information to follow.
URL:https://livemusickelowna.ca/event/jacob-brodovsky-and-dominique-adams/
LOCATION:Blind Rooster Berry Farm\, 3660 Anderson Road\, Kelowna\, Canada
CATEGORIES:Folk
ATTACH;FMTTYPE=image/jpeg:https://livemusickelowna.ca/wp-content/uploads/2026/04/jacob_brodovsky_and__150872_l.jpg
END:VEVENT
BEGIN:VEVENT
DTSTART;TZID=America/Vancouver:20260416T190000
DTEND;TZID=America/Vancouver:20260416T213000
DTSTAMP:20260420T021333
CREATED:20260119T195939Z
LAST-MODIFIED:20260119T195939Z
UID:10025633-1776366000-1776375000@livemusickelowna.ca
SUMMARY:Thursday Night Dance
DESCRIPTION:Dance every Thursday to Vic Ukrainetz\, Carol & Andrea (on Sax)\, 7 – 9:30 pm. Join us for Two steps\, foxtrots\, waltzes\, Polkas\, Cha Chas\, Rumbas\, some old time pattern and just plain fun. Parkinson Activity Centre\, 1700 Parkinson Way\, Kelowna. For info call 250-212-6216
URL:https://livemusickelowna.ca/event/thursday-night-dance/2026-04-16/
LOCATION:Parkinson Activity Centre\, 1700 Parkinson Way\, Kelowna\, Canada
CATEGORIES:Mixed Genres
ATTACH;FMTTYPE=image/jpeg:https://livemusickelowna.ca/wp-content/uploads/2026/01/thursday_night_dance_149580_l.jpg
END:VEVENT
BEGIN:VEVENT
DTSTART;TZID=America/Vancouver:20260416T190000
DTEND;TZID=America/Vancouver:20260416T230000
DTSTAMP:20260420T021333
CREATED:20260330T220245Z
LAST-MODIFIED:20260330T220917Z
UID:10026676-1776366000-1776380400@livemusickelowna.ca
SUMMARY:Half Dead / Suburban Alienation / Feeling Faint
DESCRIPTION:Edmonton’s Half Dead returns to Kelowna! With local punks Suburban Alienation and Feeling Faint!
URL:https://livemusickelowna.ca/event/half-dead-suburban-alienation-feeling-faint/
LOCATION:DunnEnzies Downtown\, 1559 Ellis St\, Kelowna\, BC\, V1Y 2A7\, Canada
CATEGORIES:Punk
ATTACH;FMTTYPE=image/jpeg:https://livemusickelowna.ca/wp-content/uploads/2026/03/HalfDead.jpg
END:VEVENT
BEGIN:VEVENT
DTSTART;TZID=America/Vancouver:20260416T200000
DTEND;TZID=America/Vancouver:20260416T200000
DTSTAMP:20260420T021333
CREATED:20260126T000814Z
LAST-MODIFIED:20260126T000844Z
UID:10025678-1776369600-1776369600@livemusickelowna.ca
SUMMARY:College Thursdays
DESCRIPTION:🎉 College Thursdays are BACK for 2026! 🎉 \nGet ready to make Thursday nights legendary again at the OK Corral Cabaret 🤠🔥 \nWe’re bringing back the party with unbeatable drink specials all night long:\n🍺 $4.50 Good Company lager draft (beer tub)\n🥃 $5.75 Burt Reynolds\n🍻 $6.75 Good Company lager tallboys\n🦌 $8.00 Jägerbombs\n🍹 $9.00 Double Long Island \n🕗 Doors open at 8:00 PM — grab your crew\, hit the dance floor\, and kick off the weekend early! \n#CollegeThursdays #OKCorralCabaret #CountryNights #BootsAndBeers #YeehawVibes\n2w\nThis reel has 7 comments from Facebook.
URL:https://livemusickelowna.ca/event/college-thursdays/2026-04-16/
LOCATION:OK Corral Cabaret\, 1978 Kirschner Rd\, Kelowna\, British Columbia\, V1Y 4N6\, Canada
CATEGORIES:Dance,Mixed Genres
ATTACH;FMTTYPE=image/png:https://livemusickelowna.ca/wp-content/uploads/2026/01/2026-01-26-05_06_20-Downloads-File-Explorer.png
END:VEVENT
BEGIN:VEVENT
DTSTART;TZID=America/Vancouver:20260416T200000
DTEND;TZID=America/Vancouver:20260416T200000
DTSTAMP:20260420T021333
CREATED:20260406T112831Z
LAST-MODIFIED:20260413T172355Z
UID:10026726-1776369600-1776369600@livemusickelowna.ca
SUMMARY:Garret T. Willie
DESCRIPTION:Blues-rock with teeth — raw\, restless\, and impossible to look away.\nRed Bird Brewing welcomes Garret T. Willie for a powerful night of live blues-rock on Thursday\, April 16th\, with music running from 8:00pm to 10:00pm. This is a free show and a rare chance to catch one of Canada’s most compelling young blues artists in an intimate room.\nGarret T. Willie’s music is rooted in legacy\, grit\, and reinvention. His sophomore album Bill’s Cafe — named after his grandfather’s pool hall café in Alert Bay\, BC — bridges Indigenous roots and small-town stories with the fire of Nashville blues-rock. Recorded under the guidance of Grammy-winning producer Tom Hambridge\, the record captures a young artist carrying old-soul traditions into something louder\, bolder\, and undeniably his own.\nOn stage\, Willie is electric. With a towering presence\, gravel-soaked vocals\, and searing guitar work\, his live shows are raw and unfiltered — built on blistering solos\, roadhouse stompers\, and moments of quiet intensity that feel deeply lived-in. At just 25 years old\, he plays with the weight and confidence of a seasoned veteran\, channeling love\, loss\, ambition\, and survival through every note.\nHaving shared stages with legends like Kenny Wayne Shepherd\, John Fogerty\, Kingfish\, and Joe Bonamassa\, Garret T. Willie brings a level of fire and authenticity that leaves rooms buzzing long after the final chord. Expect blues that bite\, rock that roars\, and a performance that turns first-time listeners into believers.
URL:https://livemusickelowna.ca/event/garret-t-willie/
LOCATION:Red Bird Brewing\, 1080 Richter S\, Kelowna\, British Columbia\, V1Y 2K5\, Canada
CATEGORIES:Blues,Mixed Genres,Rock
ATTACH;FMTTYPE=image/webp:https://livemusickelowna.ca/wp-content/uploads/2026/04/garret-t-willie-live-at-red-bird-brewing-april-16.webp
END:VEVENT
BEGIN:VEVENT
DTSTART;TZID=America/Vancouver:20260416T200000
DTEND;TZID=America/Vancouver:20260416T220000
DTSTAMP:20260420T021333
CREATED:20260404T174856Z
LAST-MODIFIED:20260404T174856Z
UID:10026700-1776369600-1776376800@livemusickelowna.ca
SUMMARY:Roseanarig
DESCRIPTION:Description \n\nAbout Roseanarig \nRoseanarig is the captivating duo of Annarose Thomson and Paolo Rigoni\, performing speakeasy-vibe jazz\, blues and vintage covers in the Broken Hearts Club at Crown & Thieves. \nJoin us for an intimate evening of velvety vocals\, killer grooves\, wine\, cocktails and dancing. \nCocktails\, wine and more available for purchase. \nDoors open at 7:00pm\, show starts at 8:00pm.\nSeating for events in the speakeasy is preassigned\, not first come first served. If you would like to be seated with a group that purchased tickets separately\, please include their name in the order form.
URL:https://livemusickelowna.ca/event/roseanarig-5/
LOCATION:Crown & Thieves\, 3887C Brown Road\, West Kelowna\, British Columbia\, V4T 2J3\, Canada
CATEGORIES:Blues,Jazz,Mixed Genres
ATTACH;FMTTYPE=image/webp:https://livemusickelowna.ca/wp-content/uploads/2026/04/ea72e4fb-c96.webp
END:VEVENT
BEGIN:VEVENT
DTSTART;TZID=America/Vancouver:20260416T203000
DTEND;TZID=America/Vancouver:20260416T223000
DTSTAMP:20260420T021333
CREATED:20260413T175929Z
LAST-MODIFIED:20260413T175929Z
UID:10026810-1776371400-1776378600@livemusickelowna.ca
SUMMARY:The Vesper Show: Old Hollywood\, Live Vocals & Dance
DESCRIPTION:Step into the glamorous world of Old Hollywood! Join us for The Vesper Show\, a stunning evening of live vocals and dance featuring the fabulous Eunice Vespera\, Kristal Jem\, and Queen G\, along with backup dancers and students Sara\, Faith\, and Livia. \nSeating: 7:00 PM\nShow: 8:30 PM \nExpect jaw-dropping performances\, elegant choreography\, and all the glamour and sophistication of Old Hollywood brought to life on stage. This is a night of artistry\, talent\, and pure entertainment that celebrates the golden age of performance. Bring your crew\, dress to impress\, and reserve your spot for this unforgettable evening!
URL:https://livemusickelowna.ca/event/the-vesper-show-old-hollywood-live-vocals-dance/
LOCATION:Unicorn Lounge\, 315 Lawrence Ave Kelowna\, BC\, V1Y9W5
CATEGORIES:Burlesque
ATTACH;FMTTYPE=image/jpeg:https://livemusickelowna.ca/wp-content/uploads/2026/04/the_vesper_show_old__151278_l.jpg
END:VEVENT
END:VCALENDAR